{"text_format":"1","workbook":"xlsx","n_sheets":19,"sheets":["Ana Sayfa","Görevli Kişiler","Bilgi Girişi","Teklif Mek.Girişi","Yak.Mal.Tes. Per.Onayı"," Yak.Mal.Hes.Cet","Onay Bel","Piyasa Fiy.Arş Tut.","Mua.veKabul Bel","Ödeme Emri Bel.","Teklif Mektbu","Sözleşme","Eko. Kod Ayrıntılı","Eko. Kod Tüketim","Eko. Kod Genel","Tük.Yön Mal ve Malzemeler","Taşınır kod.özet","Taşınır kod.ayrıntılı","Açıklamalar"],"not_rendered":{"charts":0,"images":20,"macros":1,"external_links":3,"defined_names":207,"comments":9,"pivot_tables":0},"unopened":[],"bounds":{"document_bytes":16777216,"sheet_cells":100000,"rows_first":2000,"rows_last":500,"rows_between":2000,"halvings":0,"cell_chars":16384,"cell_head_chars":4096},"cells_cut":0,"cells_raw":0,"read":"whole","date_system":"1900"}

{"sheet":"Ana Sayfa","index":0,"n_rows":21,"n_cols":7,"rows_kept":21,"cut":false,"hidden":false,"merged":[[5,2,5,6],[1,1,16,1],[0,3,0,4],[19,5,19,7]]}
["   ",null,"Hazırlayan : Ramazan SÖKMEN",null,null,"VERSİYON: 1.1","Güncelleme Tarihi: 03/03/2021"]
[]
[null,null,"\n"]
[]
[]
[]
[]
[]
[]
[]
[]
[]
[]
[]
[]
[]
[]
[]
[]
[null,null,null,null,null,"İletişim : ramazansokmen27@hotmail.com"]
[null,"NOT:  4734 Sayılı Kamu İhale Kanununun 22/d Maddesi gereğince yapılacak mal ve hizmet alımları ile yapım işlerinde kullanılmak üzere hazırlanmıştır."]

{"sheet":"Görevli Kişiler","index":1,"n_rows":47,"n_cols":17,"rows_kept":47,"cut":false,"hidden":false,"merged":[[5,4,5,6],[2,4,2,6],[3,4,3,6],[4,4,4,6],[32,3,32,4],[32,5,32,6],[31,3,31,4],[31,5,31,6],[25,3,25,4],[25,5,25,6],[18,2,18,6],[26,5,26,6],[27,5,27,6],[22,3,22,4],[22,5,22,6],[28,3,28,4],[28,5,28,6],[23,3,23,4],[26,3,26,4],[27,3,27,4],[34,3,34,4],[34,5,34,6],[33,3,33,4],[33,5,33,6],[19,3,19,4],[21,3,21,6],[20,3,20,4],[20,5,20,6],[23,5,23,6],[44,5,44,6],[43,3,43,4],[43,5,43,6],[44,3,44,4],[38,3,38,4],[39,3,39,4],[38,5,38,6],[39,5,39,6],[45,3,45,4],[45,5,45,6],[46,3,46,4],[46,5,46,6],[48,2,48,6],[47,2,47,6],[0,2,0,6],[1,2,1,6],[42,2,42,6],[36,2,36,6],[24,2,24,6],[29,2,29,6],[35,2,35,6],[41,2,41,6],[7,3,7,4],[6,2,6,6],[30,2,30,6],[40,3,40,4],[40,5,40,6],[37,3,37,4],[37,5,37,6],[19,5,19,6]]}
[null,null,"GÖREVLİ    KİŞİLER"]
[null,null,"OKUL KURUM BİLGİ GİRİŞİ"]
[null,null,1,"T.C","T.C "]
[null,null,2,"İLİ / İLÇESİ","ŞAHİNBEY KAYMAKAMLIĞI"]
[null,null,3,"OKULUN /KURUMUN ADI","DR.CEMİL KARSLIGİL  İLKOKULU"]
[null,null,4,"İhalenin ait olduğu okul ve tanımı","TEMİZLİK MALZEMESİ ALIMI"]
[null,null,"GÖREVLİ    KİŞİLER"]
[null,null,"S.No"," ADI SOYADI",null,"ÜNVANI","GÖREVİ"]
[null,null,1,"Mehmet ÖZDEMİR",null,"Okul Müdürü","Harcama Yetkilisi"]
[null,null,2,"Hakan ÇİTE",null,"Müdür Yardımcısı","TEKLİF (Komisyon Başkanı)"]
[null,null,3,"İnci ÇEVİK",null,"Öğretmen","TEKLİF (Üye)"]
[null,null,4,"Erol DURNA",null,"Öğretmen","TEKLİF (Üye)"]
[null,null,5,"Tarık KENDİRLİK",null,"Müdür Yardımcısı","FİYAT (Komisyon Başkanı)"]
[null,null,6,"Mustafa TOPDAL",null,"Öğretmen","FİYAT (Üye)"]
[null,null,7,"Sema İNAL",null,"Öğretmen","FİYAT (Üye)"]
[null,null,8,"Tarık KENDİRLİK",null,"Öğretmen","MUAYANE (Komisyon Başkanı)"]
[null,null,9,"Mustafa TOPDAL",null,"Öğretmen","MUAYANE (Üye)"]
[null,null,10,"Sema İNAL",null,"Öğretmen","MUAYANE (Üye)"]
[null,null,"KOMİSYON  ÜYELERİ",null,null,null,null,null,null,null,null,null,null,null,null,null,1]
[null,null,"S.No","İhale Yetkilisi",null,"Ünvanı",null,null,null,null,null,null,null,null,null,null,2]
[null,1,1,{"$f":"INDEX(AD,B21)","v":"Mehmet ÖZDEMİR"},null,{"$f":"INDEX(LİSTE,B21)","v":"Okul Müdürü"},null,null,null,null,null,null,null,null,null,null,3]
[null,null,null,null,null,null,null,null,null,null,null,null,null,null,null,null,4]
[null,null,"S.No","Daire Amiri ( Onay Teklif Eden )",null,"Ünvanı",null,null,null,null,null,null,null,null,null,null,5]
[null,2,1,{"$f":"INDEX(AD,B24)","v":"Hakan ÇİTE"},null,{"$f":"INDEX(LİSTE,B24)","v":"Müdür Yardımcısı"},null,null,null,null,null,null,null,null,null,null,6]
[null,null,null,null,null,null,null,null,null,null,null,null,null,null,null,null,7]
[null,null,"S.No","Yaklaşık Maliyet Hesap Cetvelini Düzenleyen",null,"Ünvanı",null,null,null,null,null,null,null,null,null,null,8]
[null,5,1,{"$f":"INDEX(AD,B27)","v":"Tarık KENDİRLİK"},null,{"$f":"INDEX(LİSTE,B27)","v":"Müdür Yardımcısı"},null,null,null,null,null,null,null,null,null,null,9]
[null,6,2,{"$f":"INDEX(AD,B28)","v":"Mustafa TOPDAL"},null,{"$f":"INDEX(LİSTE,B28)","v":"Öğretmen"},null,null,null,null,null,null,null,null,null,null,10]
[null,7,3,{"$f":"INDEX(AD,B29)","v":"Sema İNAL"},null,{"$f":"INDEX(LİSTE,B29)","v":"Öğretmen"},null,null,null,null,null,null,null,null,null,null,11]
[null,null,null,null,null,null,null,null,null,null,null,null,null,null,null,null,12]
[null,null,"Teklif Mektubunu İmzalayacak Görevliler ile\n Piyasa Fiyat   Araştırması Görevlisi/Görevlileri",null,null,null,null,null,null,null,null,null,null,null,null,null,13]
[null,null,"S.No","Adı Soyadı",null,"Ünvanı",null,null,null,null,null,null,null,null,null,null,14]
[null,2,1,{"$f":"INDEX(AD,B33)","v":"Hakan ÇİTE"},null,{"$f":"INDEX(LİSTE,B33)","v":"Müdür Yardımcısı"},null,null,null,null,null,null,null,null,null,null,15]
[null,3,2,"İnci ÇEVİK",null,"Öğretmen",null,null,null,null,null,null,null,null,null,null,16]
[null,4,3,"Erol DURNA",null,"Öğretmen",null,null,null,null,null,null,null,null,null,null,17]
[null,null,null,null,null,null,null,null,null,null,null,null,null,null,null,null,21]
[null,null,"Muayene Ve Kabul Görevlisi  /  Görevlileri",null,null,null,null,null,null,null,null,null,null,null,null,null,22]
[null,null,"S.No","Adı Soyadı",null,"Ünvanı",null,null,null,null,null,null,null,null,null,null,23]
[null,8,1,{"$f":"INDEX(AD,B39)","v":"Tarık KENDİRLİK"},null,{"$f":"INDEX(LİSTE,B39)","v":"Öğretmen"},null,null,null,null,null,null,null,null,null,null,24]
[null,9,2,{"$f":"INDEX(AD,B40)","v":"Mustafa TOPDAL"},null,{"$f":"INDEX(LİSTE,B40)","v":"Öğretmen"},null,null,null,null,null,null,null,null,null,null,25]
[null,10,3,{"$f":"INDEX(AD,B41)","v":"Sema İNAL"},null,{"$f":"INDEX(LİSTE,B41)","v":"Öğretmen"},null,null,null,null,null,null,null,null,null,null,26]
[null,null,null,null,null,null,null,null,null,null,null,null,null,null,null,null,27]
[null,null,"FİYAT ARAŞTIRMA",null,null,null,null,null,null,null,null,null,null,null,null,null,28]
[null,null,"S.No","Adı  Soyadı",null,"Ünvanı",null,null,null,null,null,null,null,null,null,null,29]
[null,5,1,{"$f":"INDEX(AD,B45)","v":"Tarık KENDİRLİK"},null,{"$f":"INDEX(LİSTE,B45)","v":"Müdür Yardımcısı"},null,null,null,null,null,null,null,null,null,null,30]
[null,6,2,{"$f":"INDEX(AD,B46)","v":"Mustafa TOPDAL"},null,{"$f":"INDEX(LİSTE,B46)","v":"Öğretmen"},null,null,null,null,null,null,null,null,null,null,31]
[null,7,3,{"$f":"INDEX(AD,B47)","v":"Sema İNAL"},null,{"$f":"INDEX(LİSTE,B47)","v":"Öğretmen"},null,null,null,null,null,null,null,null,null,null,32]

{"sheet":"Bilgi Girişi","index":2,"n_rows":56,"n_cols":20,"rows_kept":56,"cut":false,"hidden":false,"merged":[[55,2,55,4],[55,5,55,6],[52,2,52,4],[52,5,52,6],[53,2,53,4],[53,5,53,6],[10,2,10,5],[12,2,12,5],[14,2,14,5],[16,2,16,5],[12,6,12,8],[14,6,14,8],[16,6,16,8],[50,2,50,4],[50,5,50,6],[51,2,51,4],[51,5,51,6],[48,2,48,4],[48,5,48,6],[49,2,49,4],[49,5,49,6],[54,2,54,4],[54,5,54,6],[43,2,43,4],[43,5,43,6],[40,2,40,4],[40,5,40,6],[41,2,41,4],[41,5,41,6],[46,2,46,4],[46,5,46,6],[47,2,47,4],[47,5,47,6],[44,2,44,4],[44,5,44,6],[45,2,45,4],[45,5,45,6],[38,2,38,4],[38,5,38,6],[39,2,39,4],[39,5,39,6],[36,2,36,4],[36,5,36,6],[37,2,37,4],[37,5,37,6],[42,2,42,4],[42,5,42,6],[31,2,31,4],[31,5,31,6],[34,2,34,4],[34,5,34,6],[35,2,35,4],[35,5,35,6],[32,2,32,4],[32,5,32,6],[33,2,33,4],[33,5,33,6],[27,2,27,4],[27,5,27,6],[28,2,28,4],[28,5,28,6],[26,2,26,4],[26,5,26,6],[29,2,29,4],[29,5,29,6],[30,2,30,4],[30,5,30,6],[20,2,20,5],[21,2,21,5],[0,1,0,8],[1,1,1,8],[2,4,2,5],[2,7,2,8],[5,2,5,5],[5,6,5,8],[18,6,18,8],[13,2,13,5],[13,6,13,8],[15,2,15,5],[15,6,15,8],[17,2,17,5],[17,6,17,8],[7,6,7,8],[22,2,22,5],[23,2,23,5],[25,5,25,6],[3,4,3,5],[3,7,3,8],[4,4,4,5],[4,7,4,8],[6,2,6,5],[6,6,6,8],[8,2,8,5],[8,6,8,8],[7,2,7,5],[10,6,10,8],[9,2,9,5],[9,6,9,8],[11,2,11,5],[11,6,11,8],[18,2,18,5],[19,6,19,8],[20,6,20,8],[21,6,21,8],[22,6,22,8],[23,6,23,8],[19,2,19,5]]}
[null,"SATIN ALINACAK MALZEME BİLGİ GİRİŞİ"]
[null,"SATIN ALINACAK MALZEME BİLGİ GİRİŞİ"]
[null,1,"SATIN ALINACAK MAL / HİZMETİN ADI",24,{"$f":"INDEX('Eko. Kod Ayrıntılı'!F5:F559,'Bilgi Girişi'!D3)","v":"03  2  TÜKETİME YÖNELİK MAL VE MALZEME ALIMLARI"},null,"MİKTARI",1]
[null,2,"EKONOMİK KODU",null,{"$f":"VLOOKUP(E3,'Eko. Kod Ayrıntılı'!F5:G559,2,0)","v":"03.2"},null,"ÖLÇÜ BİRİMİ","ADET "]
[null,3,"KURUM KODU",null,"40.149.423.18772-13.68.01",null,"ÖDENEK MİKTARI","-"]
[null,"S.NO","DOĞRUDAN TEMİN DE KULLANILACAK BELGENİN",null,null,null,"TARİHİ / SAYISI"]
[null,1,"Doğrudan Temin Personel Onay Yazısı",null,null,null,"2021-06-08"]
[null,2,"Doğrudan Temin Personel Onay Yazısı Giden Evrak  Kayıt No",null,null,null,26167430]
[null,3,"Yaklaşık Maliyet Hesap Cetvelinin Tarihi ",null,null,null,"2021-12-07"]
[null,4,"Onay Belgesi'nin Tarihi",null,null,null,"2022-08-12"]
[null,5,"Onay Belgesi'nin No",null,null,null,403]
[null,6,"Teklif Mektubu'nun Tarihi",null,null,null,"2021-12-07"]
[null,7,"Teklif Mektubu'nun No",null,null,null,2]
[null,8,"Piyasa Fiyat Araştırması Tutanağı'nın Tarihi",null,null,null,"2021-12-07"]
[null,9,"Piyasa Fiyat Araştırması Tutanağı'nın Nosu",null,null,null,3]
[null,10,"Muayene ve Kabul Belgesinin Tarihi",null,null,null,"2021-12-07"]
[null,11,"Muayene ve Kabul Belgesinin No",null,null,null,4]
[null,12,"Sözleşme'nin Tarihi",null,null,null,"2021-12-07"]
[null,13,"Taşınır İşlem Fişinin Numarası",null,null,null,5]
[null,11,"Fatura Tarihi",null,null,null,"2022-08-01"]
[null,12,"Fatura No",null,null,null,117110]
[null,13,"Fatura Toplam Tutarı",null,null,null,375.83]
[null,14,"Teslim Tarihi",null,null,null,"2022-08-11"]
[null,15,"Tutanak Tarih ve Sayısı",null,null,null,5]
[]
[null,"S. NO","SATIN  ALINACAK  MALZEMENİN   CİNSİ",null,null,"MALZEMENİN  ÖZELLİKLERİ",null,"MİKTARI","ÖLÇÜ BİRİMİ"]
[null,{"$f":"IF(H27>0,T27,0)","v":1},"ELEKTRİK TESİSATI ONARIMI",null,null,null,null,1,"ADET",null,null,null,null,null,null,null,null,null,null,1]
[null,2,"SU TESİSATI ONARIMI",null,null,null,null,1,"ADET",null,null,null,null,null,null,null,null,null,null,2]
[null,3,"BOYA ONARIMI",null,null,null,null,5,"ADET",null,null,null,null,null,null,null,null,null,null,3]
[null,4,"ÇATI ONARIMI",null,null,null,null,1,"ADET",null,null,null,null,null,null,null,null,null,null,4]
[null,0,null,null,null,null,null,null,null,null,null,null,null,null,null,null,null,null,null,5]
[null,0,null,null,null,null,null,null,null,null,null,null,null,null,null,null,null,null,null,6]
[null,0,null,null,null,null,null,null,null,null,null,null,null,null,null,null,null,null,null,7]
[null,0,null,null,null,null,null,null,null,null,null,null,null,null,null,null,null,null,null,8]
[null,0,null,null,null,null,null,null,null,null,null,null,null,null,null,null,null,null,null,9]
[null,0,null,null,null,null,null,null,null,null,null,null,null,null,null,null,null,null,null,10]
[null,0,null,null,null,null,null,null,null,null,null,null,null,null,null,null,null,null,null,11]
[null,0,null,null,null,null,null,null,null,null,null,null,null,null,null,null,null,null,null,12]
[null,0,null,null,null,null,null,null,null,null,null,null,null,null,null,null,null,null,null,13]
[null,0,null,null,null,null,null,null,null,null,null,null,null,null,null,null,null,null,null,14]
[null,0,null,null,null,null,null,null,null,null,null,null,null,null,null,null,null,null,null,15]
[null,0,null,null,null,null,null,null,null,null,null,null,null,null,null,null,null,null,null,16]
[null,0,null,null,null,null,null,null,null,null,null,null,null,null,null,null,null,null,null,17]
[null,0,null,null,null,null,null,null,null,null,null,null,null,null,null,null,null,null,null,18]
[null,0,null,null,null,null,null,null,null,null,null,null,null,null,null,null,null,null,null,19]
[null,0,null,null,null,null,null,null,null,null,null,null,null,null,null,null,null,null,null,20]
[null,0,null,null,null,null,null,null,null,null,null,null,null,null,null,null,null,null,null,21]
[null,0,null,null,null,null,null,null,null,null,null,null,null,null,null,null,null,null,null,22]
[null,0,null,null,null,null,null,null,null,null,null,null,null,null,null,null,null,null,null,23]
[null,0,null,null,null,null,null,null,null,null,null,null,null,null,null,null,null,null,null,24]
[null,0,null,null,null,null,null,null,null,null,null,null,null,null,null,null,null,null,null,25]
[null,0,null,null,null,null,null,null,null,null,null,null,null,null,null,null,null,null,null,26]
[null,0,null,null,null,null,null,null,null,null,null,null,null,null,null,null,null,null,null,27]
[null,0,null,null,null,null,null,null,null,null,null,null,null,null,null,null,null,null,null,28]
[null,0,null,null,null,null,null,null,null,null,null,null,null,null,null,null,null,null,null,29]
[null,0,null,null,null,null,null,null,null,null,null,null,null,null,null,null,null,null,null,30]

{"sheet":"Teklif Mek.Girişi","index":3,"n_rows":112,"n_cols":32,"rows_kept":112,"cut":false,"hidden":false,"merged":[[0,1,0,19],[1,1,1,3],[1,4,1,13],[1,15,4,19],[2,1,2,3],[111,2,111,3],[110,4,110,6],[111,4,111,6],[109,2,110,3],[109,4,109,19],[110,7,110,12],[111,7,111,12],[111,13,111,15],[2,4,2,13],[3,6,3,13],[3,1,6,1],[3,2,5,5],[4,6,4,7],[5,17,6,19],[5,10,5,11],[5,12,5,13],[4,8,4,9],[4,10,4,11],[5,6,5,7],[5,8,5,9],[5,15,6,16],[13,15,13,16],[13,17,13,19],[11,15,11,16],[11,17,11,19],[12,15,12,16],[12,17,12,19],[4,12,4,13],[10,15,10,16],[10,17,10,19],[8,17,8,19],[7,15,7,16],[7,17,7,19],[9,15,9,16],[9,17,9,19],[8,15,8,16],[19,15,19,16],[19,17,19,19],[17,15,17,16],[17,17,17,19],[18,15,18,16],[18,17,18,19],[16,15,16,16],[16,17,16,19],[14,15,14,16],[14,17,14,19],[15,15,15,16],[15,17,15,19],[25,15,25,16],[25,17,25,19],[23,15,23,16],[23,17,23,19],[24,15,24,16],[24,17,24,19],[22,15,22,16],[22,17,22,19],[20,15,20,16],[20,17,20,19],[21,15,21,16],[21,17,21,19],[31,15,31,16],[31,17,31,19],[29,15,29,16],[29,17,29,19],[30,15,30,16],[30,17,30,19],[28,15,28,16],[28,17,28,19],[26,15,26,16],[26,17,26,19],[27,15,27,16],[27,17,27,19],[37,15,37,16],[37,17,37,19],[35,15,35,16],[35,17,35,19],[36,15,36,16],[36,17,36,19],[34,15,34,16],[34,17,34,19],[32,15,32,16],[32,17,32,19],[33,15,33,16],[33,17,33,19],[41,15,41,16],[41,17,41,19],[42,15,42,16],[42,17,42,19],[40,15,40,16],[40,17,40,19],[38,15,38,16],[38,17,38,19],[39,15,39,16],[39,17,39,19],[47,15,47,16],[47,17,47,19],[46,15,46,16],[46,17,46,19],[44,15,44,16],[44,17,44,19],[45,15,45,16],[45,17,45,19],[43,15,43,16],[43,17,43,19],[55,15,55,16],[55,17,55,19],[48,15,48,16],[48,17,48,19],[54,15,54,16],[54,17,54,19],[53,15,53,16],[53,17,53,19],[52,15,52,16],[52,17,52,19],[51,15,51,16],[51,17,51,19],[50,15,50,16],[50,17,50,19],[49,15,49,16],[49,17,49,19],[60,15,60,16],[60,17,60,19],[59,15,59,16],[59,17,59,19],[58,15,58,16],[58,17,58,19],[57,15,57,16],[57,17,57,19],[56,15,56,16],[56,17,56,19],[65,15,65,16],[65,17,65,19],[64,15,64,16],[64,17,64,19],[63,15,63,16],[63,17,63,19],[62,15,62,16],[62,17,62,19],[61,15,61,16],[61,17,61,19],[70,15,70,16],[70,17,70,19],[69,15,69,16],[69,17,69,19],[68,15,68,16],[68,17,68,19],[67,15,67,16],[67,17,67,19],[66,15,66,16],[66,17,66,19],[75,15,75,16],[75,17,75,19],[74,15,74,16],[74,17,74,19],[73,15,73,16],[73,17,73,19],[72,15,72,16],[72,17,72,19],[71,15,71,16],[71,17,71,19],[80,15,80,16],[80,17,80,19],[79,15,79,16],[79,17,79,19],[78,15,78,16],[78,17,78,19],[77,15,77,16],[77,17,77,19],[76,15,76,16],[76,17,76,19],[85,15,85,16],[85,17,85,19],[84,15,84,16],[84,17,84,19],[83,15,83,16],[83,17,83,19],[82,15,82,16],[82,17,82,19],[81,15,81,16],[81,17,81,19],[90,15,90,16],[90,17,90,19],[89,15,89,16],[89,17,89,19],[88,15,88,16],[88,17,88,19],[87,15,87,16],[87,17,87,19],[86,15,86,16],[86,17,86,19],[95,15,95,16],[95,17,95,19],[94,15,94,16],[94,17,94,19],[93,15,93,16],[93,17,93,19],[92,15,92,16],[92,17,92,19],[91,15,91,16],[91,17,91,19],[100,15,100,16],[100,17,100,19],[99,15,99,16],[99,17,99,19],[98,15,98,16],[98,17,98,19],[97,15,97,16],[97,17,97,19],[96,15,96,16],[96,17,96,19],[105,15,105,16],[105,17,105,19],[104,15,104,16],[104,17,104,19],[103,15,103,16],[103,17,103,19],[102,15,102,16],[102,17,102,19],[101,15,101,16],[101,17,101,19],[113,1,113,7],[115,5,115,7],[107,15,107,16],[107,17,107,19],[106,15,106,16],[106,17,106,19],[107,1,107,5],[108,1,108,19],[109,1,110,1],[110,13,110,19],[111,16,111,19]]}
[2,"TEKLİF  MEKTUBU  BİLGİ  GİRİŞİ"]
[null,"Dairenin Adı",null,null,{"$f":"('Görevli Kişiler'!E5)","v":"DR.CEMİL KARSLIGİL  İLKOKULU"},null,null,null,null,null,null,null,null,null,null,"İdarece Tesbit \nve Takdir Edilen \nYaklaşık Maliyet\n( KDV Hariç )",null,null,null,null,null,null,null,null,null,null,2,{"$f":"AVERAGE(Y2,Z2,AA2)","v":2},{"$f":"IF(Z2>0,Z2,0)","v":0}]
[null,"Satın Alınacak  İş / Mal / Hizmetin Adı, Niteliği",null,null,{"$f":"('Bilgi Girişi'!E3)","v":"03  2  TÜKETİME YÖNELİK MAL VE MALZEME ALIMLARI"}]
[null,"Sıra No","Yaklaşı Maliyeti Hesaplanacak\n Mal ve Hizmetin",null,null,null,"TEKLİF  MEKTUBU  VEREN  KURUM/ KURULUŞLAR"]
[null,null,null,null,null,null,"1.TEKLİF",null,"2.TEKLİF",null,"3.TEKLİF",null,"4.TEKLİF"]
[null,null,null,null,null,null,"A FİRMASI",null,"B FİRMASI",null,"C FİRMASI",null,null,null,null,"Birim Yaklaşık Maliyet \nFiyatı ",null,"Toplam Yaklaşık Maliyet \nFiyatı "]
[null,null,"Cinsi","Özelliği","Miktarı","Ölçüsü","Birim \nFiyat ","Toplam \nFiyat","Birim \nFiyat ","Toplam \nFiyat","Birim \nFiyat ","Toplam \nFiyat","Birim \nFiyat ","Toplam \nFiyat"]
[{"$f":"IF(ISTEXT(C8),1,\"\")","v":1},{"$f":"('Bilgi Girişi'!B27)","v":1},{"$f":"('Bilgi Girişi'!C27)","v":"ELEKTRİK TESİSATI ONARIMI"},{"$f":"('Bilgi Girişi'!F27)","v":0},{"$f":"('Bilgi Girişi'!H27)","v":1},{"$f":"('Bilgi Girişi'!I27)","v":"ADET"},8722.2999999999993,{"$f":"ROUND(SUM(E8*G8),2)","v":8722.2999999999993},9732.2999999999993,{"$f":"ROUND(SUM(E8*I8),2)","v":9732.2999999999993},10722.3,{"$f":"ROUND(SUM(E8*K8),2)","v":10722.3},0,{"$f":"ROUND(SUM(E8*M8),2)","v":0},null,{"$f":"W8","v":9725.6299999999992},null,{"$f":"ROUND(SUM(E8*P8),2)","v":9725.6299999999992},null,null,null,null,{"$f":"IF(Z8>0,Y8,0)","v":9725.6299999999992},null,{"$f":"ROUND(SUM(Z8/AD8),2)","v":9725.6299999999992},{"$f":"ROUND(SUM(G8+I8+K8+M8),2)","v":29176.9},{"$f":"COUNTIF(G8,\">0\")","v":1},{"$f":"COUNTIF(I8,\">0\")","v":1},{"$f":"COUNTIF(K8,\">0\")","v":1},{"$f":"AA8+AB8+AC8+AF8","v":3},{"$f":"VALUE(AD8)","v":3},{"$f":"COUNTIF(M8,\">0\")","v":0}]
[{"$f":"IF(ISTEXT(C9),1,\"\")","v":1},{"$f":"('Bilgi Girişi'!B28)","v":2},{"$f":"('Bilgi Girişi'!C28)","v":"SU TESİSATI ONARIMI"},{"$f":"('Bilgi Girişi'!F28)","v":0},{"$f":"('Bilgi Girişi'!H28)","v":1},{"$f":"('Bilgi Girişi'!I28)","v":"ADET"},15,15,20,20,null,{"$f":"ROUND(SUM(E9*K9),2)","v":0},null,0,null,{"$f":"W9","v":17.5},null,17.5,null,null,null,null,17.5,null,17.5,35,1,1,0,2,null,{"$f":"COUNTIF(M9,\">0\")","v":0}]
[1,{"$f":"('Bilgi Girişi'!B29)","v":3},{"$f":"('Bilgi Girişi'!C29)","v":"BOYA ONARIMI"},{"$f":"('Bilgi Girişi'!F29)","v":0},{"$f":"('Bilgi Girişi'!H29)","v":5},{"$f":"('Bilgi Girişi'!I29)","v":"ADET"},20,100,25,125,null,0,null,0,null,{"$f":"W10","v":22.5},null,112.5,null,null,null,null,22.5,null,22.5,45,1,1,0,2,null,0]
[1,{"$f":"('Bilgi Girişi'!B30)","v":4},{"$f":"('Bilgi Girişi'!C30)","v":"ÇATI ONARIMI"},{"$f":"('Bilgi Girişi'!F30)","v":0},{"$f":"('Bilgi Girişi'!H30)","v":1},{"$f":"('Bilgi Girişi'!I30)","v":"ADET"},25,25,30,30,null,0,null,0,null,27.5,null,27.5,null,null,null,null,27.5,null,27.5,55,1,1,0,2,null,0]
["",{"$f":"('Bilgi Girişi'!B31)","v":0},{"$f":"('Bilgi Girişi'!C31)","v":0},{"$f":"('Bilgi Girişi'!F31)","v":0},{"$f":"('Bilgi Girişi'!H31)","v":0},{"$f":"('Bilgi Girişi'!I31)","v":0},null,0,null,0,null,0,null,0,null,0,null,0,null,null,null,null,0,null,{"$error":"#DIV/0!"},0,0,0,0,0,null,0]
["",{"$f":"('Bilgi Girişi'!B32)","v":0},{"$f":"('Bilgi Girişi'!C32)","v":0},{"$f":"('Bilgi Girişi'!F32)","v":0},{"$f":"('Bilgi Girişi'!H32)","v":0},{"$f":"('Bilgi Girişi'!I32)","v":0},null,0,null,0,null,0,null,0,null,0,null,0,null,null,null,null,0,null,{"$error":"#DIV/0!"},0,0,0,0,0,null,0]
["",{"$f":"('Bilgi Girişi'!B33)","v":0},{"$f":"('Bilgi Girişi'!C33)","v":0},{"$f":"('Bilgi Girişi'!F33)","v":0},{"$f":"('Bilgi Girişi'!H33)","v":0},{"$f":"('Bilgi Girişi'!I33)","v":0},null,0,null,0,null,0,null,0,null,0,null,0,null,null,null,null,0,null,{"$error":"#DIV/0!"},0,0,0,0,0,null,0]
["",{"$f":"('Bilgi Girişi'!B34)","v":0},{"$f":"('Bilgi Girişi'!C34)","v":0},{"$f":"('Bilgi Girişi'!F34)","v":0},{"$f":"('Bilgi Girişi'!H34)","v":0},{"$f":"('Bilgi Girişi'!I34)","v":0},null,0,null,0,null,0,null,0,null,0,null,0,null,null,null,null,0,null,{"$error":"#DIV/0!"},0,0,0,0,0,null,0]
["",{"$f":"('Bilgi Girişi'!B35)","v":0},{"$f":"('Bilgi Girişi'!C35)","v":0},{"$f":"('Bilgi Girişi'!F35)","v":0},{"$f":"('Bilgi Girişi'!H35)","v":0},{"$f":"('Bilgi Girişi'!I35)","v":0},null,0,null,0,null,0,null,0,null,0,null,0,null,null,null,null,0,null,{"$error":"#DIV/0!"},0,0,0,0,0,null,0]
["",{"$f":"('Bilgi Girişi'!B36)","v":0},{"$f":"('Bilgi Girişi'!C36)","v":0},{"$f":"('Bilgi Girişi'!F36)","v":0},{"$f":"('Bilgi Girişi'!H36)","v":0},{"$f":"('Bilgi Girişi'!I36)","v":0},null,0,null,0,null,0,null,0,null,0,null,0,null,null,null,null,0,null,{"$error":"#DIV/0!"},0,0,0,0,0,null,0]
["",{"$f":"('Bilgi Girişi'!B37)","v":0},{"$f":"('Bilgi Girişi'!C37)","v":0},{"$f":"('Bilgi Girişi'!F37)","v":0},{"$f":"('Bilgi Girişi'!H37)","v":0},{"$f":"('Bilgi Girişi'!I37)","v":0},null,0,null,0,null,0,null,0,null,0,null,0,null,null,null,null,0,null,{"$error":"#DIV/0!"},0,0,0,0,0,null,0]
["",{"$f":"('Bilgi Girişi'!B38)","v":0},{"$f":"('Bilgi Girişi'!C38)","v":0},{"$f":"('Bilgi Girişi'!F38)","v":0},{"$f":"('Bilgi Girişi'!H38)","v":0},{"$f":"('Bilgi Girişi'!I38)","v":0},null,0,null,0,null,0,null,0,null,0,null,0,null,null,null,null,0,null,{"$error":"#DIV/0!"},0,0,0,0,0,null,0]
["",{"$f":"('Bilgi Girişi'!B39)","v":0},{"$f":"('Bilgi Girişi'!C39)","v":0},{"$f":"('Bilgi Girişi'!F39)","v":0},{"$f":"('Bilgi Girişi'!H39)","v":0},{"$f":"('Bilgi Girişi'!I39)","v":0},null,0,null,0,null,0,null,0,null,0,null,0,null,null,null,null,0,null,{"$error":"#DIV/0!"},0,0,0,0,0,null,0]
["",{"$f":"('Bilgi Girişi'!B40)","v":0},{"$f":"('Bilgi Girişi'!C40)","v":0},{"$f":"('Bilgi Girişi'!F40)","v":0},{"$f":"('Bilgi Girişi'!H40)","v":0},{"$f":"('Bilgi Girişi'!I40)","v":0},null,0,null,0,null,0,null,0,null,0,null,0,null,null,null,null,0,null,{"$error":"#DIV/0!"},0,0,0,0,0,null,0]
["",{"$f":"('Bilgi Girişi'!B41)","v":0},{"$f":"('Bilgi Girişi'!C41)","v":0},{"$f":"('Bilgi Girişi'!F41)","v":0},{"$f":"('Bilgi Girişi'!H41)","v":0},{"$f":"('Bilgi Girişi'!I41)","v":0},null,0,null,0,null,0,null,0,null,0,null,0,null,null,null,null,0,null,{"$error":"#DIV/0!"},0,0,0,0,0,null,0]
["",{"$f":"('Bilgi Girişi'!B42)","v":0},{"$f":"('Bilgi Girişi'!C42)","v":0},{"$f":"('Bilgi Girişi'!F42)","v":0},{"$f":"('Bilgi Girişi'!H42)","v":0},{"$f":"('Bilgi Girişi'!I42)","v":0},null,0,null,0,null,0,null,0,null,0,null,0,null,null,null,null,0,null,{"$error":"#DIV/0!"},0,0,0,0,0,null,0]
["",{"$f":"('Bilgi Girişi'!B43)","v":0},{"$f":"('Bilgi Girişi'!C43)","v":0},{"$f":"('Bilgi Girişi'!F43)","v":0},{"$f":"('Bilgi Girişi'!H43)","v":0},{"$f":"('Bilgi Girişi'!I43)","v":0},null,0,null,0,null,0,null,0,null,0,null,0,null,null,null,null,0,null,{"$error":"#DIV/0!"},0,0,0,0,0,null,0]
["",{"$f":"('Bilgi Girişi'!B44)","v":0},{"$f":"('Bilgi Girişi'!C44)","v":0},{"$f":"('Bilgi Girişi'!F44)","v":0},{"$f":"('Bilgi Girişi'!H44)","v":0},{"$f":"('Bilgi Girişi'!I44)","v":0},null,0,null,0,null,0,null,0,null,0,null,0,null,null,null,null,0,null,{"$error":"#DIV/0!"},0,0,0,0,0,null,0]
["",{"$f":"('Bilgi Girişi'!B45)","v":0},{"$f":"('Bilgi Girişi'!C45)","v":0},{"$f":"('Bilgi Girişi'!F45)","v":0},{"$f":"('Bilgi Girişi'!H45)","v":0},{"$f":"('Bilgi Girişi'!I45)","v":0},null,0,null,0,null,0,null,0,null,0,null,0,null,null,null,null,0,null,{"$error":"#DIV/0!"},0,0,0,0,0,null,0]
["",{"$f":"('Bilgi Girişi'!B46)","v":0},{"$f":"('Bilgi Girişi'!C46)","v":0},{"$f":"('Bilgi Girişi'!F46)","v":0},{"$f":"('Bilgi Girişi'!H46)","v":0},{"$f":"('Bilgi Girişi'!I46)","v":0},null,0,null,0,null,0,null,0,null,0,null,0,null,null,null,null,0,null,{"$error":"#DIV/0!"},0,0,0,0,0,null,0]
["",{"$f":"('Bilgi Girişi'!B47)","v":0},{"$f":"('Bilgi Girişi'!C47)","v":0},{"$f":"('Bilgi Girişi'!F47)","v":0},{"$f":"('Bilgi Girişi'!H47)","v":0},{"$f":"('Bilgi Girişi'!I47)","v":0},null,0,null,0,null,0,null,0,null,0,null,0,null,null,null,null,0,null,{"$error":"#DIV/0!"},0,0,0,0,0,null,0]
["",{"$f":"('Bilgi Girişi'!B48)","v":0},{"$f":"('Bilgi Girişi'!C48)","v":0},{"$f":"('Bilgi Girişi'!F48)","v":0},{"$f":"('Bilgi Girişi'!H48)","v":0},{"$f":"('Bilgi Girişi'!I48)","v":0},null,0,null,0,null,0,null,0,null,0,null,0,null,null,null,null,0,null,{"$error":"#DIV/0!"},0,0,0,0,0,null,0]
["",{"$f":"('Bilgi Girişi'!B49)","v":0},{"$f":"('Bilgi Girişi'!C49)","v":0},{"$f":"('Bilgi Girişi'!F49)","v":0},{"$f":"('Bilgi Girişi'!H49)","v":0},{"$f":"('Bilgi Girişi'!I49)","v":0},null,0,null,0,null,0,null,0,null,0,null,0,null,null,null,null,0,null,{"$error":"#DIV/0!"},0,0,0,0,0,null,0]
["",{"$f":"('Bilgi Girişi'!B50)","v":0},{"$f":"('Bilgi Girişi'!C50)","v":0},{"$f":"('Bilgi Girişi'!F50)","v":0},{"$f":"('Bilgi Girişi'!H50)","v":0},{"$f":"('Bilgi Girişi'!I50)","v":0},null,0,null,0,null,0,null,0,null,0,null,0,null,null,null,null,0,null,{"$error":"#DIV/0!"},0,0,0,0,0,null,0]
["",{"$f":"('Bilgi Girişi'!B51)","v":0},{"$f":"('Bilgi Girişi'!C51)","v":0},{"$f":"('Bilgi Girişi'!F51)","v":0},{"$f":"('Bilgi Girişi'!H51)","v":0},{"$f":"('Bilgi Girişi'!I51)","v":0},null,0,null,0,null,0,null,0,null,0,null,0,null,null,null,null,0,null,{"$error":"#DIV/0!"},0,0,0,0,0,null,0]
["",{"$f":"('Bilgi Girişi'!B52)","v":0},{"$f":"('Bilgi Girişi'!C52)","v":0},{"$f":"('Bilgi Girişi'!F52)","v":0},{"$f":"('Bilgi Girişi'!H52)","v":0},{"$f":"('Bilgi Girişi'!I52)","v":0},null,0,null,0,null,0,null,0,null,0,null,0,null,null,null,null,0,null,{"$error":"#DIV/0!"},0,0,0,0,0,null,0]
["",{"$f":"('Bilgi Girişi'!B53)","v":0},{"$f":"('Bilgi Girişi'!C53)","v":0},{"$f":"('Bilgi Girişi'!F53)","v":0},{"$f":"('Bilgi Girişi'!H53)","v":0},{"$f":"('Bilgi Girişi'!I53)","v":0},null,0,null,0,null,0,null,0,null,0,null,0,null,null,null,null,0,null,{"$error":"#DIV/0!"},0,0,0,0,0,null,0]
["",{"$f":"('Bilgi Girişi'!B54)","v":0},{"$f":"('Bilgi Girişi'!C54)","v":0},{"$f":"('Bilgi Girişi'!F54)","v":0},{"$f":"('Bilgi Girişi'!H54)","v":0},{"$f":"('Bilgi Girişi'!I54)","v":0},null,0,null,0,null,0,null,0,null,0,null,0,null,null,null,null,0,null,{"$error":"#DIV/0!"},0,0,0,0,0,null,0]
["",{"$f":"('Bilgi Girişi'!B55)","v":0},{"$f":"('Bilgi Girişi'!C55)","v":0},{"$f":"('Bilgi Girişi'!F55)","v":0},{"$f":"('Bilgi Girişi'!H55)","v":0},{"$f":"('Bilgi Girişi'!I55)","v":0},null,0,null,0,null,0,null,0,null,0,null,0,null,null,null,null,0,null,{"$error":"#DIV/0!"},0,0,0,0,0,null,0]
["",{"$f":"('Bilgi Girişi'!B56)","v":0},{"$f":"('Bilgi Girişi'!C56)","v":0},{"$f":"('Bilgi Girişi'!F56)","v":0},{"$f":"('Bilgi Girişi'!H56)","v":0},{"$f":"('Bilgi Girişi'!I56)","v":0},null,0,null,0,null,0,null,0,null,0,null,0,null,null,null,null,0,null,{"$error":"#DIV/0!"},0,0,0,0,0,null,0]
["",{"$f":"'Görevli Kişiler'!#REF!","v":{"$error":"#REF!"}},{"$f":"'Görevli Kişiler'!#REF!","v":{"$error":"#REF!"}},{"$f":"'Görevli Kişiler'!#REF!","v":{"$error":"#REF!"}},{"$f":"(#REF!)","v":{"$error":"#REF!"}},{"$f":"'Görevli Kişiler'!#REF!","v":{"$error":"#REF!"}},null,{"$error":"#REF!"},null,{"$error":"#REF!"},null,{"$f":"ROUND(SUM(E38*K38),2)","v":{"$error":"#REF!"}},null,{"$error":"#REF!"},null,0,null,{"$error":"#REF!"},null,null,null,null,0,null,{"$error":"#DIV/0!"},0,0,0,0,0,null,0]
["",{"$f":"'Görevli Kişiler'!#REF!","v":{"$error":"#REF!"}},{"$f":"'Görevli Kişiler'!#REF!","v":{"$error":"#REF!"}},{"$f":"'Görevli Kişiler'!#REF!","v":{"$error":"#REF!"}},{"$f":"(#REF!)","v":{"$error":"#REF!"}},{"$f":"'Görevli Kişiler'!#REF!","v":{"$error":"#REF!"}},null,{"$error":"#REF!"},null,{"$error":"#REF!"},null,{"$error":"#REF!"},null,{"$error":"#REF!"},null,0,null,{"$error":"#REF!"},null,null,null,null,0,null,{"$error":"#DIV/0!"},0,0,0,0,0,null,0]
["",{"$f":"'Görevli Kişiler'!#REF!","v":{"$error":"#REF!"}},{"$f":"'Görevli Kişiler'!#REF!","v":{"$error":"#REF!"}},{"$f":"'Görevli Kişiler'!#REF!","v":{"$error":"#REF!"}},{"$f":"(#REF!)","v":{"$error":"#REF!"}},{"$f":"'Görevli Kişiler'!#REF!","v":{"$error":"#REF!"}},null,{"$f":"ROUND(SUM(E40*G40),2)","v":{"$error":"#REF!"}},null,{"$error":"#REF!"},null,{"$error":"#REF!"},null,{"$f":"ROUND(SUM(E40*M40),2)","v":{"$error":"#REF!"}},null,0,null,{"$f":"ROUND(SUM(E40*P40),2)","v":{"$error":"#REF!"}},null,null,null,null,0,null,{"$error":"#DIV/0!"},{"$f":"ROUND(SUM(G40+I40+K40+M40),2)","v":0},{"$f":"COUNTIF(G40,\">0\")","v":0},{"$f":"COUNTIF(I40,\">0\")","v":0},{"$f":"COUNTIF(K40,\">0\")","v":0},0,null,0]
["",{"$f":"'Görevli Kişiler'!#REF!","v":{"$error":"#REF!"}},{"$f":"'Görevli Kişiler'!#REF!","v":{"$error":"#REF!"}},{"$f":"'Görevli Kişiler'!#REF!","v":{"$error":"#REF!"}},{"$f":"(#REF!)","v":{"$error":"#REF!"}},{"$f":"'Görevli Kişiler'!#REF!","v":{"$error":"#REF!"}},null,{"$error":"#REF!"},null,{"$error":"#REF!"},null,{"$error":"#REF!"},null,{"$error":"#REF!"},null,0,null,{"$error":"#REF!"},null,null,null,null,0,null,{"$error":"#DIV/0!"},0,0,0,0,0,null,0]
["",{"$f":"'Görevli Kişiler'!#REF!","v":{"$error":"#REF!"}},{"$f":"'Görevli Kişiler'!#REF!","v":{"$error":"#REF!"}},{"$f":"'Görevli Kişiler'!#REF!","v":{"$error":"#REF!"}},{"$f":"(#REF!)","v":{"$error":"#REF!"}},{"$f":"'Görevli Kişiler'!#REF!","v":{"$error":"#REF!"}},null,{"$error":"#REF!"},null,{"$error":"#REF!"},null,{"$error":"#REF!"},null,{"$error":"#REF!"},null,0,null,{"$error":"#REF!"},null,null,null,null,0,null,{"$error":"#DIV/0!"},0,0,0,0,0,null,0]
["",{"$f":"'Görevli Kişiler'!#REF!","v":{"$error":"#REF!"}},{"$f":"'Görevli Kişiler'!#REF!","v":{"$error":"#REF!"}},{"$f":"'Görevli Kişiler'!#REF!","v":{"$error":"#REF!"}},{"$f":"(#REF!)","v":{"$error":"#REF!"}},{"$f":"'Görevli Kişiler'!#REF!","v":{"$error":"#REF!"}},null,{"$error":"#REF!"},null,{"$error":"#REF!"},null,{"$error":"#REF!"},null,{"$error":"#REF!"},null,0,null,{"$error":"#REF!"},null,null,null,null,0,null,{"$error":"#DIV/0!"},0,0,0,0,0,null,0]
["",{"$f":"'Görevli Kişiler'!#REF!","v":{"$error":"#REF!"}},{"$f":"'Görevli Kişiler'!#REF!","v":{"$error":"#REF!"}},{"$f":"'Görevli Kişiler'!#REF!","v":{"$error":"#REF!"}},{"$f":"(#REF!)","v":{"$error":"#REF!"}},{"$f":"'Görevli Kişiler'!#REF!","v":{"$error":"#REF!"}},null,{"$error":"#REF!"},null,{"$error":"#REF!"},null,{"$error":"#REF!"},null,{"$error":"#REF!"},null,0,null,{"$error":"#REF!"},null,null,null,null,0,null,{"$error":"#DIV/0!"},0,0,0,0,0,null,0]
["",{"$f":"'Görevli Kişiler'!#REF!","v":{"$error":"#REF!"}},{"$f":"'Görevli Kişiler'!#REF!","v":{"$error":"#REF!"}},{"$f":"'Görevli Kişiler'!#REF!","v":{"$error":"#REF!"}},{"$f":"(#REF!)","v":{"$error":"#REF!"}},{"$f":"'Görevli Kişiler'!#REF!","v":{"$error":"#REF!"}},null,{"$error":"#REF!"},null,{"$error":"#REF!"},null,{"$error":"#REF!"},null,{"$error":"#REF!"},null,0,null,{"$error":"#REF!"},null,null,null,null,0,null,{"$error":"#DIV/0!"},0,0,0,0,0,null,0]
["",{"$f":"'Görevli Kişiler'!#REF!","v":{"$error":"#REF!"}},{"$f":"'Görevli Kişiler'!#REF!","v":{"$error":"#REF!"}},{"$f":"'Görevli Kişiler'!#REF!","v":{"$error":"#REF!"}},{"$f":"(#REF!)","v":{"$error":"#REF!"}},{"$f":"'Görevli Kişiler'!#REF!","v":{"$error":"#REF!"}},null,{"$error":"#REF!"},null,{"$error":"#REF!"},null,{"$error":"#REF!"},null,{"$error":"#REF!"},null,0,null,{"$error":"#REF!"},null,null,null,null,0,null,{"$error":"#DIV/0!"},0,0,0,0,0,null,0]
["",{"$f":"'Görevli Kişiler'!#REF!","v":{"$error":"#REF!"}},{"$f":"'Görevli Kişiler'!#REF!","v":{"$error":"#REF!"}},{"$f":"'Görevli Kişiler'!#REF!","v":{"$error":"#REF!"}},{"$f":"(#REF!)","v":{"$error":"#REF!"}},{"$f":"'Görevli Kişiler'!#REF!","v":{"$error":"#REF!"}},null,{"$error":"#REF!"},null,{"$error":"#REF!"},null,{"$error":"#REF!"},null,{"$error":"#REF!"},null,0,null,{"$error":"#REF!"},null,null,null,null,0,null,{"$error":"#DIV/0!"},0,0,0,0,0,null,0]
["",{"$f":"'Görevli Kişiler'!#REF!","v":{"$error":"#REF!"}},{"$f":"'Görevli Kişiler'!#REF!","v":{"$error":"#REF!"}},{"$f":"'Görevli Kişiler'!#REF!","v":{"$error":"#REF!"}},{"$f":"(#REF!)","v":{"$error":"#REF!"}},{"$f":"'Görevli Kişiler'!#REF!","v":{"$error":"#REF!"}},null,{"$error":"#REF!"},null,{"$error":"#REF!"},null,{"$error":"#REF!"},null,{"$error":"#REF!"},null,0,null,{"$error":"#REF!"},null,null,null,null,0,null,{"$error":"#DIV/0!"},0,0,0,0,0,null,0]
["",{"$f":"'Görevli Kişiler'!#REF!","v":{"$error":"#REF!"}},{"$f":"'Görevli Kişiler'!#REF!","v":{"$error":"#REF!"}},{"$f":"'Görevli Kişiler'!#REF!","v":{"$error":"#REF!"}},{"$f":"(#REF!)","v":{"$error":"#REF!"}},{"$f":"'Görevli Kişiler'!#REF!","v":{"$error":"#REF!"}},null,{"$error":"#REF!"},null,{"$error":"#REF!"},null,{"$f":"ROUND(SUM(E49*K49),2)","v":{"$error":"#REF!"}},null,{"$error":"#REF!"},null,0,null,{"$error":"#REF!"},null,null,null,null,0,null,{"$error":"#DIV/0!"},0,0,0,0,0,null,0]
["",{"$f":"'Görevli Kişiler'!#REF!","v":{"$error":"#REF!"}},{"$f":"'Görevli Kişiler'!#REF!","v":{"$error":"#REF!"}},{"$f":"'Görevli Kişiler'!#REF!","v":{"$error":"#REF!"}},{"$f":"(#REF!)","v":{"$error":"#REF!"}},{"$f":"'Görevli Kişiler'!#REF!","v":{"$error":"#REF!"}},null,{"$error":"#REF!"},null,{"$error":"#REF!"},null,{"$error":"#REF!"},null,{"$error":"#REF!"},null,0,null,{"$error":"#REF!"},null,null,null,null,0,null,{"$error":"#DIV/0!"},0,0,0,0,0,null,0]
["",{"$f":"'Görevli Kişiler'!#REF!","v":{"$error":"#REF!"}},{"$f":"'Görevli Kişiler'!#REF!","v":{"$error":"#REF!"}},{"$f":"'Görevli Kişiler'!#REF!","v":{"$error":"#REF!"}},{"$f":"(#REF!)","v":{"$error":"#REF!"}},{"$f":"'Görevli Kişiler'!#REF!","v":{"$error":"#REF!"}},null,{"$error":"#REF!"},null,{"$error":"#REF!"},null,{"$error":"#REF!"},null,{"$error":"#REF!"},null,0,null,{"$error":"#REF!"},null,null,null,null,0,null,{"$error":"#DIV/0!"},0,0,0,0,0,null,0]
["",{"$f":"'Görevli Kişiler'!#REF!","v":{"$error":"#REF!"}},{"$f":"'Görevli Kişiler'!#REF!","v":{"$error":"#REF!"}},{"$f":"'Görevli Kişiler'!#REF!","v":{"$error":"#REF!"}},{"$f":"(#REF!)","v":{"$error":"#REF!"}},{"$f":"'Görevli Kişiler'!#REF!","v":{"$error":"#REF!"}},null,{"$error":"#REF!"},null,{"$error":"#REF!"},null,{"$error":"#REF!"},null,{"$error":"#REF!"},null,0,null,{"$error":"#REF!"},null,null,null,null,0,null,{"$error":"#DIV/0!"},0,0,0,0,0,null,0]
["",{"$f":"'Görevli Kişiler'!#REF!","v":{"$error":"#REF!"}},{"$f":"'Görevli Kişiler'!#REF!","v":{"$error":"#REF!"}},{"$f":"'Görevli Kişiler'!#REF!","v":{"$error":"#REF!"}},{"$f":"(#REF!)","v":{"$error":"#REF!"}},{"$f":"'Görevli Kişiler'!#REF!","v":{"$error":"#REF!"}},null,{"$error":"#REF!"},null,{"$error":"#REF!"},null,{"$error":"#REF!"},null,{"$error":"#REF!"},null,0,null,{"$error":"#REF!"},null,null,null,null,0,null,{"$error":"#DIV/0!"},0,0,0,0,0,null,0]
["",{"$f":"'Görevli Kişiler'!#REF!","v":{"$error":"#REF!"}},{"$f":"'Görevli Kişiler'!#REF!","v":{"$error":"#REF!"}},{"$f":"'Görevli Kişiler'!#REF!","v":{"$error":"#REF!"}},{"$f":"(#REF!)","v":{"$error":"#REF!"}},{"$f":"'Görevli Kişiler'!#REF!","v":{"$error":"#REF!"}},null,{"$error":"#REF!"},null,{"$error":"#REF!"},null,{"$error":"#REF!"},null,{"$error":"#REF!"},null,0,null,{"$error":"#REF!"},null,null,null,null,0,null,{"$error":"#DIV/0!"},0,0,0,0,0,null,0]
["",{"$f":"'Görevli Kişiler'!#REF!","v":{"$error":"#REF!"}},{"$f":"'Görevli Kişiler'!#REF!","v":{"$error":"#REF!"}},{"$f":"'Görevli Kişiler'!#REF!","v":{"$error":"#REF!"}},{"$f":"(#REF!)","v":{"$error":"#REF!"}},{"$f":"'Görevli Kişiler'!#REF!","v":{"$error":"#REF!"}},null,{"$error":"#REF!"},null,{"$error":"#REF!"},null,{"$error":"#REF!"},null,{"$error":"#REF!"},null,0,null,{"$error":"#REF!"},null,null,null,null,0,null,{"$error":"#DIV/0!"},0,0,0,0,0,null,0]
["",{"$f":"'Görevli Kişiler'!#REF!","v":{"$error":"#REF!"}},{"$f":"'Görevli Kişiler'!#REF!","v":{"$error":"#REF!"}},{"$f":"'Görevli Kişiler'!#REF!","v":{"$error":"#REF!"}},{"$f":"(#REF!)","v":{"$error":"#REF!"}},{"$f":"'Görevli Kişiler'!#REF!","v":{"$error":"#REF!"}},null,{"$error":"#REF!"},null,{"$error":"#REF!"},null,{"$error":"#REF!"},null,{"$error":"#REF!"},null,0,null,{"$error":"#REF!"},null,null,null,null,0,null,{"$error":"#DIV/0!"},0,0,0,0,0,null,0]
["",{"$f":"'Görevli Kişiler'!#REF!","v":{"$error":"#REF!"}},{"$f":"'Görevli Kişiler'!#REF!","v":{"$error":"#REF!"}},{"$f":"'Görevli Kişiler'!#REF!","v":{"$error":"#REF!"}},{"$f":"(#REF!)","v":{"$error":"#REF!"}},{"$f":"'Görevli Kişiler'!#REF!","v":{"$error":"#REF!"}},null,{"$error":"#REF!"},null,{"$error":"#REF!"},null,{"$error":"#REF!"},null,{"$error":"#REF!"},null,0,null,{"$error":"#REF!"},null,null,null,null,0,null,{"$error":"#DIV/0!"},0,0,0,0,0,null,0]
["",{"$f":"'Görevli Kişiler'!#REF!","v":{"$error":"#REF!"}},{"$f":"'Görevli Kişiler'!#REF!","v":{"$error":"#REF!"}},{"$f":"'Görevli Kişiler'!#REF!","v":{"$error":"#REF!"}},{"$f":"(#REF!)","v":{"$error":"#REF!"}},{"$f":"'Görevli Kişiler'!#REF!","v":{"$error":"#REF!"}},null,{"$error":"#REF!"},null,{"$error":"#REF!"},null,{"$error":"#REF!"},null,{"$error":"#REF!"},null,0,null,{"$error":"#REF!"},null,null,null,null,0,null,{"$error":"#DIV/0!"},0,0,0,0,0,null,0]
["",{"$f":"'Görevli Kişiler'!#REF!","v":{"$error":"#REF!"}},{"$f":"'Görevli Kişiler'!#REF!","v":{"$error":"#REF!"}},{"$f":"'Görevli Kişiler'!#REF!","v":{"$error":"#REF!"}},{"$f":"(#REF!)","v":{"$error":"#REF!"}},{"$f":"'Görevli Kişiler'!#REF!","v":{"$error":"#REF!"}},null,{"$error":"#REF!"},null,{"$error":"#REF!"},null,{"$error":"#REF!"},null,{"$error":"#REF!"},null,0,null,{"$error":"#REF!"},null,null,null,null,0,null,{"$error":"#DIV/0!"},0,0,0,0,0,null,0]
["",{"$f":"'Görevli Kişiler'!#REF!","v":{"$error":"#REF!"}},{"$f":"'Görevli Kişiler'!#REF!","v":{"$error":"#REF!"}},{"$f":"'Görevli Kişiler'!#REF!","v":{"$error":"#REF!"}},{"$f":"(#REF!)","v":{"$error":"#REF!"}},{"$f":"'Görevli Kişiler'!#REF!","v":{"$error":"#REF!"}},null,{"$error":"#REF!"},null,{"$error":"#REF!"},null,{"$error":"#REF!"},null,{"$error":"#REF!"},null,0,null,{"$error":"#REF!"},null,null,null,null,0,null,{"$error":"#DIV/0!"},0,0,0,0,0,null,0]
["",{"$f":"'Görevli Kişiler'!#REF!","v":{"$error":"#REF!"}},{"$f":"'Görevli Kişiler'!#REF!","v":{"$error":"#REF!"}},{"$f":"'Görevli Kişiler'!#REF!","v":{"$error":"#REF!"}},{"$f":"(#REF!)","v":{"$error":"#REF!"}},{"$f":"'Görevli Kişiler'!#REF!","v":{"$error":"#REF!"}},null,{"$error":"#REF!"},null,{"$error":"#REF!"},null,{"$error":"#REF!"},null,{"$error":"#REF!"},null,0,null,{"$error":"#REF!"},null,null,null,null,0,null,{"$error":"#DIV/0!"},0,0,0,0,0,null,0]
["",{"$f":"'Görevli Kişiler'!#REF!","v":{"$error":"#REF!"}},{"$f":"'Görevli Kişiler'!#REF!","v":{"$error":"#REF!"}},{"$f":"'Görevli Kişiler'!#REF!","v":{"$error":"#REF!"}},{"$f":"(#REF!)","v":{"$error":"#REF!"}},{"$f":"'Görevli Kişiler'!#REF!","v":{"$error":"#REF!"}},null,{"$error":"#REF!"},null,{"$error":"#REF!"},null,{"$error":"#REF!"},null,{"$error":"#REF!"},null,0,null,{"$error":"#REF!"},null,null,null,null,0,null,{"$error":"#DIV/0!"},0,0,0,0,0,null,0]
["",{"$f":"'Görevli Kişiler'!#REF!","v":{"$error":"#REF!"}},{"$f":"'Görevli Kişiler'!#REF!","v":{"$error":"#REF!"}},{"$f":"'Görevli Kişiler'!#REF!","v":{"$error":"#REF!"}},{"$f":"(#REF!)","v":{"$error":"#REF!"}},{"$f":"'Görevli Kişiler'!#REF!","v":{"$error":"#REF!"}},null,{"$error":"#REF!"},null,{"$error":"#REF!"},null,{"$error":"#REF!"},null,{"$error":"#REF!"},null,0,null,{"$error":"#REF!"},null,null,null,null,0,null,{"$error":"#DIV/0!"},0,0,0,0,0,null,0]
["",{"$f":"'Görevli Kişiler'!#REF!","v":{"$error":"#REF!"}},{"$f":"'Görevli Kişiler'!#REF!","v":{"$error":"#REF!"}},{"$f":"'Görevli Kişiler'!#REF!","v":{"$error":"#REF!"}},{"$f":"(#REF!)","v":{"$error":"#REF!"}},{"$f":"'Görevli Kişiler'!#REF!","v":{"$error":"#REF!"}},null,{"$error":"#REF!"},null,{"$error":"#REF!"},null,{"$error":"#REF!"},null,{"$error":"#REF!"},null,0,null,{"$error":"#REF!"},null,null,null,null,0,null,{"$error":"#DIV/0!"},0,0,0,0,0,null,0]
["",{"$f":"'Görevli Kişiler'!#REF!","v":{"$error":"#REF!"}},{"$f":"'Görevli Kişiler'!#REF!","v":{"$error":"#REF!"}},{"$f":"'Görevli Kişiler'!#REF!","v":{"$error":"#REF!"}},{"$f":"(#REF!)","v":{"$error":"#REF!"}},{"$f":"'Görevli Kişiler'!#REF!","v":{"$error":"#REF!"}},null,{"$error":"#REF!"},null,{"$error":"#REF!"},null,{"$error":"#REF!"},null,{"$error":"#REF!"},null,0,null,{"$error":"#REF!"},null,null,null,null,0,null,{"$error":"#DIV/0!"},0,0,0,0,0,null,0]
["",{"$f":"'Görevli Kişiler'!#REF!","v":{"$error":"#REF!"}},{"$f":"'Görevli Kişiler'!#REF!","v":{"$error":"#REF!"}},{"$f":"'Görevli Kişiler'!#REF!","v":{"$error":"#REF!"}},{"$f":"(#REF!)","v":{"$error":"#REF!"}},{"$f":"'Görevli Kişiler'!#REF!","v":{"$error":"#REF!"}},null,{"$error":"#REF!"},null,{"$error":"#REF!"},null,{"$error":"#REF!"},null,{"$error":"#REF!"},null,0,null,{"$error":"#REF!"},null,null,null,null,0,null,{"$error":"#DIV/0!"},0,0,0,0,0,null,0]
["",{"$f":"'Görevli Kişiler'!#REF!","v":{"$error":"#REF!"}},{"$f":"'Görevli Kişiler'!#REF!","v":{"$error":"#REF!"}},{"$f":"'Görevli Kişiler'!#REF!","v":{"$error":"#REF!"}},{"$f":"(#REF!)","v":{"$error":"#REF!"}},{"$f":"'Görevli Kişiler'!#REF!","v":{"$error":"#REF!"}},null,{"$error":"#REF!"},null,{"$error":"#REF!"},null,{"$error":"#REF!"},null,{"$error":"#REF!"},null,0,null,{"$error":"#REF!"},null,null,null,null,0,null,{"$error":"#DIV/0!"},0,0,0,0,0,null,0]
["",{"$f":"'Görevli Kişiler'!#REF!","v":{"$error":"#REF!"}},{"$f":"'Görevli Kişiler'!#REF!","v":{"$error":"#REF!"}},{"$f":"'Görevli Kişiler'!#REF!","v":{"$error":"#REF!"}},{"$f":"(#REF!)","v":{"$error":"#REF!"}},{"$f":"'Görevli Kişiler'!#REF!","v":{"$error":"#REF!"}},null,{"$error":"#REF!"},null,{"$error":"#REF!"},null,{"$error":"#REF!"},null,{"$error":"#REF!"},null,0,null,{"$error":"#REF!"},null,null,null,null,0,null,{"$error":"#DIV/0!"},0,0,0,0,0,null,0]
["",{"$f":"'Görevli Kişiler'!#REF!","v":{"$error":"#REF!"}},{"$f":"'Görevli Kişiler'!#REF!","v":{"$error":"#REF!"}},{"$f":"'Görevli Kişiler'!#REF!","v":{"$error":"#REF!"}},{"$f":"(#REF!)","v":{"$error":"#REF!"}},{"$f":"'Görevli Kişiler'!#REF!","v":{"$error":"#REF!"}},null,{"$error":"#REF!"},null,{"$error":"#REF!"},null,{"$error":"#REF!"},null,{"$error":"#REF!"},null,0,null,{"$error":"#REF!"},null,null,null,null,0,null,{"$error":"#DIV/0!"},0,0,0,0,0,null,0]
["",{"$f":"'Görevli Kişiler'!#REF!","v":{"$error":"#REF!"}},{"$f":"'Görevli Kişiler'!#REF!","v":{"$error":"#REF!"}},{"$f":"'Görevli Kişiler'!#REF!","v":{"$error":"#REF!"}},{"$f":"(#REF!)","v":{"$error":"#REF!"}},{"$f":"'Görevli Kişiler'!#REF!","v":{"$error":"#REF!"}},null,{"$error":"#REF!"},null,{"$error":"#REF!"},null,{"$error":"#REF!"},null,{"$error":"#REF!"},null,0,null,{"$error":"#REF!"},null,null,null,null,0,null,{"$error":"#DIV/0!"},0,0,0,0,0,null,0]
["",{"$f":"'Görevli Kişiler'!#REF!","v":{"$error":"#REF!"}},{"$f":"'Görevli Kişiler'!#REF!","v":{"$error":"#REF!"}},{"$f":"'Görevli Kişiler'!#REF!","v":{"$error":"#REF!"}},{"$f":"(#REF!)","v":{"$error":"#REF!"}},{"$f":"'Görevli Kişiler'!#REF!","v":{"$error":"#REF!"}},null,{"$error":"#REF!"},null,{"$error":"#REF!"},null,{"$error":"#REF!"},null,{"$error":"#REF!"},null,0,null,{"$error":"#REF!"},null,null,null,null,0,null,{"$error":"#DIV/0!"},0,0,0,0,0,null,0]
["",{"$f":"'Görevli Kişiler'!#REF!","v":{"$error":"#REF!"}},{"$f":"'Görevli Kişiler'!#REF!","v":{"$error":"#REF!"}},{"$f":"'Görevli Kişiler'!#REF!","v":{"$error":"#REF!"}},{"$f":"(#REF!)","v":{"$error":"#REF!"}},{"$f":"'Görevli Kişiler'!#REF!","v":{"$error":"#REF!"}},null,{"$f":"ROUND(SUM(E72*G72),2)","v":{"$error":"#REF!"}},null,{"$f":"ROUND(SUM(E72*I72),2)","v":{"$error":"#REF!"}},null,{"$error":"#REF!"},null,{"$f":"ROUND(SUM(E72*M72),2)","v":{"$error":"#REF!"}},null,0,null,{"$f":"ROUND(SUM(E72*P72),2)","v":{"$error":"#REF!"}},null,null,null,null,{"$f":"IF(Z72>0,Y72,0)","v":0},null,{"$f":"ROUND(SUM(Z72/AD72),2)","v":{"$error":"#DIV/0!"}},{"$f":"ROUND(SUM(G72+I72+K72+M72),2)","v":0},{"$f":"COUNTIF(G72,\">0\")","v":0},{"$f":"COUNTIF(I72,\">0\")","v":0},{"$f":"COUNTIF(K72,\">0\")","v":0},{"$f":"AA72+AB72+AC72+AF72","v":0},null,0]
[{"$f":"IF(ISTEXT(C73),1,\"\")","v":""},{"$f":"'Görevli Kişiler'!#REF!","v":{"$error":"#REF!"}},{"$f":"'Görevli Kişiler'!#REF!","v":{"$error":"#REF!"}},{"$f":"'Görevli Kişiler'!#REF!","v":{"$error":"#REF!"}},{"$f":"(#REF!)","v":{"$error":"#REF!"}},{"$f":"'Görevli Kişiler'!#REF!","v":{"$error":"#REF!"}},null,{"$error":"#REF!"},null,{"$error":"#REF!"},null,{"$error":"#REF!"},null,{"$error":"#REF!"},null,0,null,{"$error":"#REF!"},null,null,null,null,0,null,{"$error":"#DIV/0!"},0,0,0,0,0,null,{"$f":"COUNTIF(M73,\">0\")","v":0}]
["",{"$f":"'Görevli Kişiler'!#REF!","v":{"$error":"#REF!"}},{"$f":"'Görevli Kişiler'!#REF!","v":{"$error":"#REF!"}},{"$f":"'Görevli Kişiler'!#REF!","v":{"$error":"#REF!"}},{"$f":"(#REF!)","v":{"$error":"#REF!"}},{"$f":"'Görevli Kişiler'!#REF!","v":{"$error":"#REF!"}},null,{"$error":"#REF!"},null,{"$error":"#REF!"},null,{"$error":"#REF!"},null,{"$error":"#REF!"},null,{"$f":"W74","v":0},null,{"$error":"#REF!"},null,null,null,null,0,null,{"$error":"#DIV/0!"},0,0,0,0,0,null,0]
["",{"$f":"'Görevli Kişiler'!#REF!","v":{"$error":"#REF!"}},{"$f":"'Görevli Kişiler'!#REF!","v":{"$error":"#REF!"}},{"$f":"'Görevli Kişiler'!#REF!","v":{"$error":"#REF!"}},{"$f":"(#REF!)","v":{"$error":"#REF!"}},{"$f":"'Görevli Kişiler'!#REF!","v":{"$error":"#REF!"}},null,{"$error":"#REF!"},null,{"$error":"#REF!"},null,{"$error":"#REF!"},null,{"$error":"#REF!"},null,0,null,{"$error":"#REF!"},null,null,null,null,0,null,{"$error":"#DIV/0!"},0,0,0,0,0,null,0]
["",{"$f":"'Görevli Kişiler'!#REF!","v":{"$error":"#REF!"}},{"$f":"'Görevli Kişiler'!#REF!","v":{"$error":"#REF!"}},{"$f":"'Görevli Kişiler'!#REF!","v":{"$error":"#REF!"}},{"$f":"(#REF!)","v":{"$error":"#REF!"}},{"$f":"'Görevli Kişiler'!#REF!","v":{"$error":"#REF!"}},null,{"$error":"#REF!"},null,{"$error":"#REF!"},null,{"$error":"#REF!"},null,{"$error":"#REF!"},null,0,null,{"$error":"#REF!"},null,null,null,null,0,null,{"$error":"#DIV/0!"},0,0,0,0,0,null,0]
["",{"$f":"'Görevli Kişiler'!#REF!","v":{"$error":"#REF!"}},{"$f":"'Görevli Kişiler'!#REF!","v":{"$error":"#REF!"}},{"$f":"'Görevli Kişiler'!#REF!","v":{"$error":"#REF!"}},{"$f":"(#REF!)","v":{"$error":"#REF!"}},{"$f":"'Görevli Kişiler'!#REF!","v":{"$error":"#REF!"}},null,{"$error":"#REF!"},null,{"$error":"#REF!"},null,{"$error":"#REF!"},null,{"$error":"#REF!"},null,0,null,{"$error":"#REF!"},null,null,null,null,0,null,{"$error":"#DIV/0!"},0,0,0,0,0,null,0]
["",{"$f":"'Görevli Kişiler'!#REF!","v":{"$error":"#REF!"}},{"$f":"'Görevli Kişiler'!#REF!","v":{"$error":"#REF!"}},{"$f":"'Görevli Kişiler'!#REF!","v":{"$error":"#REF!"}},{"$f":"(#REF!)","v":{"$error":"#REF!"}},{"$f":"'Görevli Kişiler'!#REF!","v":{"$error":"#REF!"}},null,{"$error":"#REF!"},null,{"$error":"#REF!"},null,{"$error":"#REF!"},null,{"$error":"#REF!"},null,0,null,{"$error":"#REF!"},null,null,null,null,0,null,{"$error":"#DIV/0!"},0,0,0,0,0,null,0]
["",{"$f":"'Görevli Kişiler'!#REF!","v":{"$error":"#REF!"}},{"$f":"'Görevli Kişiler'!#REF!","v":{"$error":"#REF!"}},{"$f":"'Görevli Kişiler'!#REF!","v":{"$error":"#REF!"}},{"$f":"(#REF!)","v":{"$error":"#REF!"}},{"$f":"'Görevli Kişiler'!#REF!","v":{"$error":"#REF!"}},null,{"$error":"#REF!"},null,{"$error":"#REF!"},null,{"$error":"#REF!"},null,{"$error":"#REF!"},null,0,null,{"$error":"#REF!"},null,null,null,null,0,null,{"$error":"#DIV/0!"},0,0,0,0,0,null,0]
["",{"$f":"'Görevli Kişiler'!#REF!","v":{"$error":"#REF!"}},{"$f":"'Görevli Kişiler'!#REF!","v":{"$error":"#REF!"}},{"$f":"'Görevli Kişiler'!#REF!","v":{"$error":"#REF!"}},{"$f":"(#REF!)","v":{"$error":"#REF!"}},{"$f":"'Görevli Kişiler'!#REF!","v":{"$error":"#REF!"}},null,{"$error":"#REF!"},null,{"$error":"#REF!"},null,{"$error":"#REF!"},null,{"$error":"#REF!"},null,0,null,{"$error":"#REF!"},null,null,null,null,0,null,{"$error":"#DIV/0!"},0,0,0,0,0,null,0]
["",{"$f":"'Görevli Kişiler'!#REF!","v":{"$error":"#REF!"}},{"$f":"'Görevli Kişiler'!#REF!","v":{"$error":"#REF!"}},{"$f":"'Görevli Kişiler'!#REF!","v":{"$error":"#REF!"}},{"$f":"(#REF!)","v":{"$error":"#REF!"}},{"$f":"'Görevli Kişiler'!#REF!","v":{"$error":"#REF!"}},null,{"$error":"#REF!"},null,{"$error":"#REF!"},null,{"$f":"ROUND(SUM(E81*K81),2)","v":{"$error":"#REF!"}},null,{"$error":"#REF!"},null,0,null,{"$error":"#REF!"},null,null,null,null,0,null,{"$error":"#DIV/0!"},0,0,0,0,0,null,0]
["",{"$f":"'Görevli Kişiler'!#REF!","v":{"$error":"#REF!"}},{"$f":"'Görevli Kişiler'!#REF!","v":{"$error":"#REF!"}},{"$f":"'Görevli Kişiler'!#REF!","v":{"$error":"#REF!"}},{"$f":"(#REF!)","v":{"$error":"#REF!"}},{"$f":"'Görevli Kişiler'!#REF!","v":{"$error":"#REF!"}},null,{"$error":"#REF!"},null,{"$error":"#REF!"},null,{"$error":"#REF!"},null,{"$error":"#REF!"},null,0,null,{"$error":"#REF!"},null,null,null,null,0,null,{"$error":"#DIV/0!"},0,0,0,0,0,null,0]
["",{"$f":"'Görevli Kişiler'!#REF!","v":{"$error":"#REF!"}},{"$f":"'Görevli Kişiler'!#REF!","v":{"$error":"#REF!"}},{"$f":"'Görevli Kişiler'!#REF!","v":{"$error":"#REF!"}},{"$f":"(#REF!)","v":{"$error":"#REF!"}},{"$f":"'Görevli Kişiler'!#REF!","v":{"$error":"#REF!"}},null,{"$error":"#REF!"},null,{"$error":"#REF!"},null,{"$error":"#REF!"},null,{"$error":"#REF!"},null,0,null,{"$error":"#REF!"},null,null,null,null,0,null,{"$error":"#DIV/0!"},0,0,0,0,0,null,0]
["",{"$f":"'Görevli Kişiler'!#REF!","v":{"$error":"#REF!"}},{"$f":"'Görevli Kişiler'!#REF!","v":{"$error":"#REF!"}},{"$f":"'Görevli Kişiler'!#REF!","v":{"$error":"#REF!"}},{"$f":"(#REF!)","v":{"$error":"#REF!"}},{"$f":"'Görevli Kişiler'!#REF!","v":{"$error":"#REF!"}},null,{"$error":"#REF!"},null,{"$error":"#REF!"},null,{"$error":"#REF!"},null,{"$error":"#REF!"},null,0,null,{"$error":"#REF!"},null,null,null,null,0,null,{"$error":"#DIV/0!"},0,0,0,0,0,null,0]
["",{"$f":"'Görevli Kişiler'!#REF!","v":{"$error":"#REF!"}},{"$f":"'Görevli Kişiler'!#REF!","v":{"$error":"#REF!"}},{"$f":"'Görevli Kişiler'!#REF!","v":{"$error":"#REF!"}},{"$f":"(#REF!)","v":{"$error":"#REF!"}},{"$f":"'Görevli Kişiler'!#REF!","v":{"$error":"#REF!"}},null,{"$error":"#REF!"},null,{"$error":"#REF!"},null,{"$error":"#REF!"},null,{"$error":"#REF!"},null,0,null,{"$error":"#REF!"},null,null,null,null,0,null,{"$error":"#DIV/0!"},0,0,0,0,0,null,0]
["",{"$f":"'Görevli Kişiler'!#REF!","v":{"$error":"#REF!"}},{"$f":"'Görevli Kişiler'!#REF!","v":{"$error":"#REF!"}},{"$f":"'Görevli Kişiler'!#REF!","v":{"$error":"#REF!"}},{"$f":"(#REF!)","v":{"$error":"#REF!"}},{"$f":"'Görevli Kişiler'!#REF!","v":{"$error":"#REF!"}},null,{"$error":"#REF!"},null,{"$error":"#REF!"},null,{"$error":"#REF!"},null,{"$error":"#REF!"},null,0,null,{"$error":"#REF!"},null,null,null,null,0,null,{"$error":"#DIV/0!"},0,0,0,0,0,null,0]
["",{"$f":"'Görevli Kişiler'!#REF!","v":{"$error":"#REF!"}},{"$f":"'Görevli Kişiler'!#REF!","v":{"$error":"#REF!"}},{"$f":"'Görevli Kişiler'!#REF!","v":{"$error":"#REF!"}},{"$f":"(#REF!)","v":{"$error":"#REF!"}},{"$f":"'Görevli Kişiler'!#REF!","v":{"$error":"#REF!"}},null,{"$error":"#REF!"},null,{"$error":"#REF!"},null,{"$error":"#REF!"},null,{"$error":"#REF!"},null,0,null,{"$error":"#REF!"},null,null,null,null,0,null,{"$error":"#DIV/0!"},0,0,0,0,0,null,0]
["",{"$f":"'Görevli Kişiler'!#REF!","v":{"$error":"#REF!"}},{"$f":"'Görevli Kişiler'!#REF!","v":{"$error":"#REF!"}},{"$f":"'Görevli Kişiler'!#REF!","v":{"$error":"#REF!"}},{"$f":"(#REF!)","v":{"$error":"#REF!"}},{"$f":"'Görevli Kişiler'!#REF!","v":{"$error":"#REF!"}},null,{"$error":"#REF!"},null,{"$error":"#REF!"},null,{"$error":"#REF!"},null,{"$error":"#REF!"},null,0,null,{"$error":"#REF!"},null,null,null,null,0,null,{"$error":"#DIV/0!"},0,0,0,0,0,null,0]
["",{"$f":"'Görevli Kişiler'!#REF!","v":{"$error":"#REF!"}},{"$f":"'Görevli Kişiler'!#REF!","v":{"$error":"#REF!"}},{"$f":"'Görevli Kişiler'!#REF!","v":{"$error":"#REF!"}},{"$f":"(#REF!)","v":{"$error":"#REF!"}},{"$f":"'Görevli Kişiler'!#REF!","v":{"$error":"#REF!"}},null,{"$error":"#REF!"},null,{"$error":"#REF!"},null,{"$error":"#REF!"},null,{"$error":"#REF!"},null,0,null,{"$error":"#REF!"},null,null,null,null,0,null,{"$error":"#DIV/0!"},0,0,0,0,0,null,0]
["",{"$f":"'Görevli Kişiler'!#REF!","v":{"$error":"#REF!"}},{"$f":"'Görevli Kişiler'!#REF!","v":{"$error":"#REF!"}},{"$f":"'Görevli Kişiler'!#REF!","v":{"$error":"#REF!"}},{"$f":"(#REF!)","v":{"$error":"#REF!"}},{"$f":"'Görevli Kişiler'!#REF!","v":{"$error":"#REF!"}},null,{"$error":"#REF!"},null,{"$error":"#REF!"},null,{"$error":"#REF!"},null,{"$error":"#REF!"},null,0,null,{"$error":"#REF!"},null,null,null,null,0,null,{"$error":"#DIV/0!"},0,0,0,0,0,null,0]
["",{"$f":"'Görevli Kişiler'!#REF!","v":{"$error":"#REF!"}},{"$f":"'Görevli Kişiler'!#REF!","v":{"$error":"#REF!"}},{"$f":"'Görevli Kişiler'!#REF!","v":{"$error":"#REF!"}},{"$f":"(#REF!)","v":{"$error":"#REF!"}},{"$f":"'Görevli Kişiler'!#REF!","v":{"$error":"#REF!"}},null,{"$error":"#REF!"},null,{"$error":"#REF!"},null,{"$error":"#REF!"},null,{"$error":"#REF!"},null,0,null,{"$error":"#REF!"},null,null,null,null,0,null,{"$error":"#DIV/0!"},0,0,0,0,0,null,0]
["",{"$f":"'Görevli Kişiler'!#REF!","v":{"$error":"#REF!"}},{"$f":"'Görevli Kişiler'!#REF!","v":{"$error":"#REF!"}},{"$f":"'Görevli Kişiler'!#REF!","v":{"$error":"#REF!"}},{"$f":"(#REF!)","v":{"$error":"#REF!"}},{"$f":"'Görevli Kişiler'!#REF!","v":{"$error":"#REF!"}},null,{"$error":"#REF!"},null,{"$error":"#REF!"},null,{"$error":"#REF!"},null,{"$error":"#REF!"},null,0,null,{"$error":"#REF!"},null,null,null,null,0,null,{"$error":"#DIV/0!"},0,0,0,0,0,null,0]
["",{"$f":"'Görevli Kişiler'!#REF!","v":{"$error":"#REF!"}},{"$f":"'Görevli Kişiler'!#REF!","v":{"$error":"#REF!"}},{"$f":"'Görevli Kişiler'!#REF!","v":{"$error":"#REF!"}},{"$f":"(#REF!)","v":{"$error":"#REF!"}},{"$f":"'Görevli Kişiler'!#REF!","v":{"$error":"#REF!"}},null,{"$error":"#REF!"},null,{"$error":"#REF!"},null,{"$error":"#REF!"},null,{"$error":"#REF!"},null,0,null,{"$error":"#REF!"},null,null,null,null,0,null,{"$error":"#DIV/0!"},0,0,0,0,0,null,0]
["",{"$f":"'Görevli Kişiler'!#REF!","v":{"$error":"#REF!"}},{"$f":"'Görevli Kişiler'!#REF!","v":{"$error":"#REF!"}},{"$f":"'Görevli Kişiler'!#REF!","v":{"$error":"#REF!"}},{"$f":"(#REF!)","v":{"$error":"#REF!"}},{"$f":"'Görevli Kişiler'!#REF!","v":{"$error":"#REF!"}},null,{"$error":"#REF!"},null,{"$error":"#REF!"},null,{"$error":"#REF!"},null,{"$error":"#REF!"},null,0,null,{"$error":"#REF!"},null,null,null,null,0,null,{"$error":"#DIV/0!"},0,0,0,0,0,null,0]
["",{"$f":"'Görevli Kişiler'!#REF!","v":{"$error":"#REF!"}},{"$f":"'Görevli Kişiler'!#REF!","v":{"$error":"#REF!"}},{"$f":"'Görevli Kişiler'!#REF!","v":{"$error":"#REF!"}},{"$f":"(#REF!)","v":{"$error":"#REF!"}},{"$f":"'Görevli Kişiler'!#REF!","v":{"$error":"#REF!"}},null,{"$error":"#REF!"},null,{"$error":"#REF!"},null,{"$error":"#REF!"},null,{"$error":"#REF!"},null,0,null,{"$error":"#REF!"},null,null,null,null,0,null,{"$error":"#DIV/0!"},0,0,0,0,0,null,0]
["",{"$f":"'Görevli Kişiler'!#REF!","v":{"$error":"#REF!"}},{"$f":"'Görevli Kişiler'!#REF!","v":{"$error":"#REF!"}},{"$f":"'Görevli Kişiler'!#REF!","v":{"$error":"#REF!"}},{"$f":"(#REF!)","v":{"$error":"#REF!"}},{"$f":"'Görevli Kişiler'!#REF!","v":{"$error":"#REF!"}},null,{"$error":"#REF!"},null,{"$error":"#REF!"},null,{"$error":"#REF!"},null,{"$error":"#REF!"},null,0,null,{"$error":"#REF!"},null,null,null,null,0,null,{"$error":"#DIV/0!"},0,0,0,0,0,null,0]
["",{"$f":"'Görevli Kişiler'!#REF!","v":{"$error":"#REF!"}},{"$f":"'Görevli Kişiler'!#REF!","v":{"$error":"#REF!"}},{"$f":"'Görevli Kişiler'!#REF!","v":{"$error":"#REF!"}},{"$f":"(#REF!)","v":{"$error":"#REF!"}},{"$f":"'Görevli Kişiler'!#REF!","v":{"$error":"#REF!"}},null,{"$error":"#REF!"},null,{"$error":"#REF!"},null,{"$error":"#REF!"},null,{"$error":"#REF!"},null,0,null,{"$error":"#REF!"},null,null,null,null,0,null,{"$error":"#DIV/0!"},0,0,0,0,0,null,0]
["",{"$f":"'Görevli Kişiler'!#REF!","v":{"$error":"#REF!"}},{"$f":"'Görevli Kişiler'!#REF!","v":{"$error":"#REF!"}},{"$f":"'Görevli Kişiler'!#REF!","v":{"$error":"#REF!"}},{"$f":"(#REF!)","v":{"$error":"#REF!"}},{"$f":"'Görevli Kişiler'!#REF!","v":{"$error":"#REF!"}},null,{"$error":"#REF!"},null,{"$error":"#REF!"},null,{"$error":"#REF!"},null,{"$error":"#REF!"},null,0,null,{"$error":"#REF!"},null,null,null,null,0,null,{"$error":"#DIV/0!"},0,0,0,0,0,null,0]
["",{"$f":"'Görevli Kişiler'!#REF!","v":{"$error":"#REF!"}},{"$f":"'Görevli Kişiler'!#REF!","v":{"$error":"#REF!"}},{"$f":"'Görevli Kişiler'!#REF!","v":{"$error":"#REF!"}},{"$f":"(#REF!)","v":{"$error":"#REF!"}},{"$f":"'Görevli Kişiler'!#REF!","v":{"$error":"#REF!"}},null,{"$error":"#REF!"},null,{"$error":"#REF!"},null,{"$error":"#REF!"},null,{"$error":"#REF!"},null,0,null,{"$error":"#REF!"},null,null,null,null,0,null,{"$error":"#DIV/0!"},0,0,0,0,0,null,0]
["",{"$f":"'Görevli Kişiler'!#REF!","v":{"$error":"#REF!"}},{"$f":"'Görevli Kişiler'!#REF!","v":{"$error":"#REF!"}},{"$f":"'Görevli Kişiler'!#REF!","v":{"$error":"#REF!"}},{"$f":"(#REF!)","v":{"$error":"#REF!"}},{"$f":"'Görevli Kişiler'!#REF!","v":{"$error":"#REF!"}},null,{"$error":"#REF!"},null,{"$error":"#REF!"},null,{"$error":"#REF!"},null,{"$error":"#REF!"},null,0,null,{"$error":"#REF!"},null,null,null,null,0,null,{"$error":"#DIV/0!"},0,0,0,0,0,null,0]
["",{"$f":"'Görevli Kişiler'!#REF!","v":{"$error":"#REF!"}},{"$f":"'Görevli Kişiler'!#REF!","v":{"$error":"#REF!"}},{"$f":"'Görevli Kişiler'!#REF!","v":{"$error":"#REF!"}},{"$f":"(#REF!)","v":{"$error":"#REF!"}},{"$f":"'Görevli Kişiler'!#REF!","v":{"$error":"#REF!"}},null,{"$error":"#REF!"},null,{"$error":"#REF!"},null,{"$error":"#REF!"},null,{"$error":"#REF!"},null,0,null,{"$error":"#REF!"},null,null,null,null,0,null,{"$error":"#DIV/0!"},0,0,0,0,0,null,0]
["",{"$f":"'Görevli Kişiler'!#REF!","v":{"$error":"#REF!"}},{"$f":"'Görevli Kişiler'!#REF!","v":{"$error":"#REF!"}},{"$f":"'Görevli Kişiler'!#REF!","v":{"$error":"#REF!"}},{"$f":"(#REF!)","v":{"$error":"#REF!"}},{"$f":"'Görevli Kişiler'!#REF!","v":{"$error":"#REF!"}},null,{"$error":"#REF!"},null,{"$error":"#REF!"},null,{"$error":"#REF!"},null,{"$error":"#REF!"},null,0,null,{"$error":"#REF!"},null,null,null,null,0,null,{"$error":"#DIV/0!"},0,0,0,0,0,null,0]
["",{"$f":"'Görevli Kişiler'!#REF!","v":{"$error":"#REF!"}},{"$f":"'Görevli Kişiler'!#REF!","v":{"$error":"#REF!"}},{"$f":"'Görevli Kişiler'!#REF!","v":{"$error":"#REF!"}},{"$f":"(#REF!)","v":{"$error":"#REF!"}},{"$f":"'Görevli Kişiler'!#REF!","v":{"$error":"#REF!"}},null,{"$error":"#REF!"},null,{"$error":"#REF!"},null,{"$error":"#REF!"},null,{"$error":"#REF!"},null,0,null,{"$error":"#REF!"},null,null,null,null,0,null,{"$error":"#DIV/0!"},0,0,0,0,0,null,0]
["",{"$f":"'Görevli Kişiler'!#REF!","v":{"$error":"#REF!"}},{"$f":"'Görevli Kişiler'!#REF!","v":{"$error":"#REF!"}},{"$f":"'Görevli Kişiler'!#REF!","v":{"$error":"#REF!"}},{"$f":"(#REF!)","v":{"$error":"#REF!"}},{"$f":"'Görevli Kişiler'!#REF!","v":{"$error":"#REF!"}},null,{"$f":"ROUND(SUM(E104*G104),2)","v":{"$error":"#REF!"}},null,{"$error":"#REF!"},null,{"$error":"#REF!"},null,{"$f":"ROUND(SUM(E104*M104),2)","v":{"$error":"#REF!"}},null,0,null,{"$error":"#REF!"},null,null,null,null,0,null,{"$error":"#DIV/0!"},0,0,0,0,0,null,0]
["",{"$f":"'Görevli Kişiler'!#REF!","v":{"$error":"#REF!"}},{"$f":"'Görevli Kişiler'!#REF!","v":{"$error":"#REF!"}},{"$f":"'Görevli Kişiler'!#REF!","v":{"$error":"#REF!"}},{"$f":"(#REF!)","v":{"$error":"#REF!"}},{"$f":"'Görevli Kişiler'!#REF!","v":{"$error":"#REF!"}},null,{"$f":"ROUND(SUM(E105*G105),2)","v":{"$error":"#REF!"}},null,{"$error":"#REF!"},null,{"$error":"#REF!"},null,{"$f":"ROUND(SUM(E105*M105),2)","v":{"$error":"#REF!"}},null,0,null,{"$error":"#REF!"},null,null,null,null,0,null,{"$error":"#DIV/0!"},0,0,0,0,0,null,0]
["",{"$f":"'Görevli Kişiler'!#REF!","v":{"$error":"#REF!"}},{"$f":"'Görevli Kişiler'!#REF!","v":{"$error":"#REF!"}},{"$f":"'Görevli Kişiler'!#REF!","v":{"$error":"#REF!"}},{"$f":"(#REF!)","v":{"$error":"#REF!"}},{"$f":"'Görevli Kişiler'!#REF!","v":{"$error":"#REF!"}},null,{"$f":"ROUND(SUM(E106*G106),2)","v":{"$error":"#REF!"}},null,{"$error":"#REF!"},null,{"$error":"#REF!"},null,{"$f":"ROUND(SUM(E106*M106),2)","v":{"$error":"#REF!"}},null,0,null,{"$error":"#REF!"},null,null,null,null,0,null,{"$error":"#DIV/0!"},0,0,0,0,0,null,0]
[1,{"$f":"'Görevli Kişiler'!#REF!","v":{"$error":"#REF!"}},{"$f":"'Görevli Kişiler'!#REF!","v":{"$error":"#REF!"}},{"$f":"'Görevli Kişiler'!#REF!","v":{"$error":"#REF!"}},{"$f":"(#REF!)","v":{"$error":"#REF!"}},{"$f":"'Görevli Kişiler'!#REF!","v":{"$error":"#REF!"}},null,{"$f":"ROUND(SUM(E107*G107),2)","v":{"$error":"#REF!"}},null,{"$error":"#REF!"},null,{"$error":"#REF!"},null,{"$f":"ROUND(SUM(E107*M107),2)","v":{"$error":"#REF!"}},null,0,null,{"$error":"#REF!"},null,null,null,null,0,null,{"$error":"#DIV/0!"},0,0,0,0,0,null,0]
[null,"Kişiler / Firmalarca Bildirilen Yaklaşık  Maliyet Fiyatları Toplamı ( KDV HARİÇ )",null,null,null,null," TOPLAM",{"$f":"SUM(H8:H37)","v":8862.2999999999993}," TOPLAM",{"$f":"SUM(J8:J37)","v":9907.2999999999993}," TOPLAM",{"$f":"SUM(L8:L37)","v":10722.3}," TOPLAM",{"$f":"SUM(N8:N37)","v":0},null," TOPLAM",null,{"$f":"SUM(R8:T37)","v":9883.1299999999992}]
[]
[null,"S.NO","Satın Alınacak  İş / Mal / Hizmetin Adı,",null,"UYGUN GÖRÜLEN FİRMA / KİŞİ / KURUM / KURULUŞ ADI"]
[null,null,null,null,"ADI",null,null,"ADRESİ",null,null,null,null,null,"TEKLİF ETTİĞİ   FİYAT (TL)"]
[null,1,{"$f":"('Teklif Mek.Girişi'!E3)","v":"03  2  TÜKETİME YÖNELİK MAL VE MALZEME ALIMLARI"},null,{"$f":"(G6)","v":"A FİRMASI"},null,null,"Yaprak Mahallesi Şahinbey/GAZİANTEP",null,null,null,null,null,{"$f":"(H108)","v":8862.2999999999993},null,null,"KDV  HARİÇ"]

{"sheet":"Yak.Mal.Tes. Per.Onayı","index":4,"n_rows":49,"n_cols":8,"rows_kept":49,"cut":false,"hidden":false,"merged":[[27,2,27,3],[28,2,28,3],[22,2,22,3],[23,2,23,3],[24,2,24,3],[25,2,25,3],[26,2,26,3],[0,1,0,7],[23,24,23,28],[1,1,1,7],[2,1,2,7],[3,1,3,7],[6,1,6,7],[4,6,4,7],[14,6,14,7],[15,6,15,7],[17,1,17,5],[17,6,17,7],[10,1,10,7],[14,3,14,5],[15,3,15,5],[12,1,12,2],[12,3,12,5],[14,1,14,2],[15,1,15,2],[12,6,12,7],[43,5,43,7],[47,5,47,7],[30,1,30,6],[31,1,31,6],[29,1,29,6],[42,5,42,7],[46,5,46,7],[33,3,33,4],[34,1,34,7],[18,2,18,3],[19,2,19,3],[20,2,20,3],[21,2,21,3]]}
[null,"DOĞRUDAN TEMİN İHTİYAÇ LİSTESİ VE YAKLAŞIK \nMALİYET TESPİTİ İÇİN GÖREVLENDİRİLECEK PERSONEL ONAYI"]
[null,{"$f":"('Görevli Kişiler'!E3)","v":"T.C "}]
[null,{"$f":"('Görevli Kişiler'!E4)","v":"ŞAHİNBEY KAYMAKAMLIĞI"}]
[null,{"$f":"('Görevli Kişiler'!E5)","v":"DR.CEMİL KARSLIGİL  İLKOKULU"}]
[null,"SAYI  :",{"$f":"'Bilgi Girişi'!G15","v":3},null,null,null,{"$f":"'Bilgi Girişi'!G12","v":"2021-12-07"}]
[]
[null,"FİYAT ARAŞTIRMA TUTANAĞI"]
[]
[]
[]
[null,{"$f":"CONCATENATE(\"                İlçemiz  \"&'Görevli Kişiler'!E6&\"  için  \"&'Teklif Mektbu'!N3)","v":"                İlçemiz  TEMİZLİK MALZEMESİ ALIMI  için  aşağıda cinsi, özellikleri ve miktarları yazılı mallar / hizmetler 4734 sayılı Kamu İhale  Kanunu'nun 22/d Maddesi gereğince Doğrudan Temin Usulüyle satın alınacaktır.  İlgilenmeniz halinde KDV hariç teklifinizin bildirilmesini rica ederim / ederiz."}]
[]
[null,"Komisyon Başkanı",null,"Üye",null,null,"Üye"]
[]
[null,{"$f":"('Görevli Kişiler'!D45)","v":"Tarık KENDİRLİK"},null,{"$f":"('Görevli Kişiler'!D46)","v":"Mustafa TOPDAL"},null,null,{"$f":"('Görevli Kişiler'!D47)","v":"Sema İNAL"}]
[null,{"$f":"('Görevli Kişiler'!F45)","v":"Müdür Yardımcısı"},null,{"$f":"('Görevli Kişiler'!F46)","v":"Öğretmen"},null,null,{"$f":"('Görevli Kişiler'!F47)","v":"Öğretmen"}]
[]
[null," SATIN ALINACAK MALIN",null,null,null,null," \"KDV\" HARİÇ"]
[null,"S.NO","MALZEMENİN  CİNSİ",null,"MİKTARI","BİRİMİ","BİRİM FİYATI (TL)","TOPLAM FİYATI (TL)"]
[null,{"$f":"('Bilgi Girişi'!B27)","v":1},{"$f":"('Bilgi Girişi'!C27)","v":"ELEKTRİK TESİSATI ONARIMI"},null,{"$f":"('Bilgi Girişi'!H27)","v":1},{"$f":"('Bilgi Girişi'!I27)","v":"ADET"}]
[null,{"$f":"('Bilgi Girişi'!B28)","v":2},{"$f":"('Bilgi Girişi'!C28)","v":"SU TESİSATI ONARIMI"},null,{"$f":"('Bilgi Girişi'!H28)","v":1},{"$f":"('Bilgi Girişi'!I28)","v":"ADET"}]
[null,{"$f":"('Bilgi Girişi'!B29)","v":3},{"$f":"('Bilgi Girişi'!C29)","v":"BOYA ONARIMI"},null,{"$f":"('Bilgi Girişi'!H29)","v":5},{"$f":"('Bilgi Girişi'!I29)","v":"ADET"}]
[null,{"$f":"('Bilgi Girişi'!B30)","v":4},{"$f":"('Bilgi Girişi'!C30)","v":"ÇATI ONARIMI"},null,{"$f":"('Bilgi Girişi'!H30)","v":1},{"$f":"('Bilgi Girişi'!I30)","v":"ADET"}]
[null,{"$f":"('Bilgi Girişi'!B31)","v":0},{"$f":"('Bilgi Girişi'!C31)","v":0},null,{"$f":"('Bilgi Girişi'!H31)","v":0},{"$f":"('Bilgi Girişi'!I31)","v":0}]
[null,{"$f":"('Bilgi Girişi'!B32)","v":0},{"$f":"('Bilgi Girişi'!C32)","v":0},null,null,{"$f":"('Bilgi Girişi'!I32)","v":0}]
[null,{"$f":"('Bilgi Girişi'!B33)","v":0},{"$f":"('Bilgi Girişi'!C33)","v":0},null,null,{"$f":"('Bilgi Girişi'!I33)","v":0}]
[null,{"$f":"('Bilgi Girişi'!B34)","v":0},{"$f":"('Bilgi Girişi'!C34)","v":0},null,null,{"$f":"('Bilgi Girişi'!I34)","v":0}]
[null,{"$f":"('Bilgi Girişi'!B35)","v":0},{"$f":"('Bilgi Girişi'!C35)","v":0},null,null,{"$f":"('Bilgi Girişi'!I35)","v":0}]
[null,{"$f":"('Bilgi Girişi'!B36)","v":0},{"$f":"('Bilgi Girişi'!C36)","v":0},null,null,{"$f":"('Bilgi Girişi'!I36)","v":0}]
[null,"                                                                                                    KDV Hariç Teklif Edilen Toplam Fiyat (TL ):"]
[null,"                                                                                                                              KDV ( % …………)"]
[null,"                                                                                                                     K.D.V  DAHİL  TOPLAM FİYAT"]
[]
[null,"Özel / Diğer Şartlar:"]
[null,"1- Ürünler yukarıda belirtilen özelliklerde, TSE Standartlarına uygun ve karar tarihinden 20 gün içerinde teslim edilmek zorundadır."]
[null,"2- Nakliye ve Sigorta yüklenici firma tarafından karşılanır ve ürünün tamamını teslim etmekle mükelleftir."]
[null,"Diğer (Varsa) :"]
[]
[]
[]
[]
[]
[null,null,null,null,null," TEKLİF EDEN"]
[null,null,null,null,null,"  ……….. /…….. / 20….…."]
[]
[]
[null,null,null,null,null,"Adı, Soyadı--Ticaret Ünvanı--"]
[null,null,null,null,null,"İmza--Mühür"]
[null,"NOT :-Bu Belge Piyasa Fiyat  Araştırması Tutanağına  Eklenecektir."]

{"sheet":" Yak.Mal.Hes.Cet","index":5,"n_rows":120,"n_cols":29,"rows_kept":120,"cut":false,"hidden":false,"merged":[[121,5,121,7],[2,4,2,13],[114,12,114,16],[116,12,116,16],[116,1,116,3],[117,6,117,10],[117,12,117,16],[116,6,116,10],[117,1,117,3],[8,15,9,15],[8,16,9,16],[8,6,8,7],[112,2,112,16],[113,2,113,16],[119,1,119,7],[7,10,7,11],[0,1,0,16],[3,4,3,13],[2,1,2,3],[3,1,3,3],[2,15,7,16],[7,8,7,9],[4,6,6,13],[4,1,5,3],[6,1,9,1],[7,6,7,7],[6,2,8,5],[114,1,114,3],[1,2,1,16],[4,4,5,5],[7,12,7,13],[8,10,8,11],[110,1,110,5],[8,8,8,9],[8,12,8,13]]}
[null,"Y A K L A Ş I K   M A L İ Y E T   H E S A P   C E T V E L İ"]
[null,null,"Y A K L A Ş I K   M A L İ Y E T   H E S A P   C E T V E L İ"]
[null," Darenin Adı",null,null,{"$f":"CONCATENATE(('Görevli Kişiler'!E96)&\"Şahinbey \"&('Görevli Kişiler'!E5))","v":"Şahinbey DR.CEMİL KARSLIGİL  İLKOKULU"},null,null,null,null,null,null,null,null,null,null,"İdarece Tesbit \nve Takdir Edilen \nYaklaşık Maliyet\n( KDV Hariç )",null,null,null,null,null,null,null,2,{"$f":"AVERAGE(V3,W3,X3)","v":2},{"$f":"IF(W3>0,W3,0)","v":0}]
[null,"Yaklaşık Maliyeti Yapılan İş / Mal / Hizmetin Adı, Niteliği",null,null,{"$f":"'Görevli Kişiler'!E6","v":"TEMİZLİK MALZEMESİ ALIMI"}]
[null,"Düzenleme Tarihi",null,null,{"$f":"('Bilgi Girişi'!G9)","v":"2021-12-07"},null,"Kişiler / Kurumlar / Firmalar ve Yaklaşık Maliyet İçin \nBildirilen Fiyatlar ( KDV Hariç )"]
[]
[null,"Sıra No","Yaklaşı Maliyeti Hesaplanacak Mal ve Hizmetin"]
[null,null,null,null,null,null,1,null,2,null,3,null,4]
[null,null,null,null,null,null,"A",null,"B",null,"C",null,{"$f":"('Teklif Mek.Girişi'!M6)","v":0},null,null,"Birim Yaklaşık Maliyet \nFiyatı ","Toplam Yaklaşık Maliyet \nFiyatı "]
[null,null,"Cinsi","Özelliği","Miktarı","Ölçüsü","Birim \nFiyat ","Toplam \nFiyat","Birim \nFiyat ","Toplam \nFiyat","Birim \nFiyat ","Toplam \nFiyat","Birim \nFiyat ","Toplam \nFiyat"]
[{"$f":"IF(ISTEXT(C11),1,\"\")","v":1},{"$f":"('Bilgi Girişi'!B27)","v":1},{"$f":"('Bilgi Girişi'!C27)","v":"ELEKTRİK TESİSATI ONARIMI"},{"$f":"('Bilgi Girişi'!F27)","v":0},{"$f":"('Bilgi Girişi'!H27)","v":1},{"$f":"('Bilgi Girişi'!I27)","v":"ADET"},{"$f":"('Teklif Mek.Girişi'!G8)","v":8722.2999999999993},{"$f":"ROUND(SUM(E11*G11),2)","v":8722.2999999999993},{"$f":"('Teklif Mek.Girişi'!I8)","v":9732.2999999999993},{"$f":"ROUND(SUM(E11*I11),2)","v":9732.2999999999993},{"$f":"('Teklif Mek.Girişi'!K8)","v":10722.3},{"$f":"ROUND(SUM(E11*K11),2)","v":10722.3},{"$f":"('Teklif Mek.Girişi'!M8)","v":0},{"$f":"ROUND(SUM(E11*M11),2)","v":0},null,{"$f":"T11","v":9725.6299999999992},{"$f":"ROUND(SUM(E11*P11),2)","v":9725.6299999999992},null,null,{"$f":"IF(W11>0,V11,0)","v":9725.6299999999992},null,{"$f":"ROUND(SUM(W11/AA11),2)","v":9725.6299999999992},{"$f":"ROUND(SUM(G11+I11+K11+M11),2)","v":29176.9},{"$f":"COUNTIF(G11,\">0\")","v":1},{"$f":"COUNTIF(I11,\">0\")","v":1},{"$f":"COUNTIF(K11,\">0\")","v":1},{"$f":"X11+Y11+Z11+AC11","v":3},{"$f":"VALUE(AA11)","v":3},{"$f":"COUNTIF(M11,\">0\")","v":0}]
[{"$f":"IF(ISTEXT(C12),1,\"\")","v":1},{"$f":"('Bilgi Girişi'!B28)","v":2},{"$f":"('Bilgi Girişi'!C28)","v":"SU TESİSATI ONARIMI"},{"$f":"('Bilgi Girişi'!F28)","v":0},{"$f":"('Bilgi Girişi'!H28)","v":1},{"$f":"('Bilgi Girişi'!I28)","v":"ADET"},{"$f":"('Teklif Mek.Girişi'!G9)","v":15},15,{"$f":"('Teklif Mek.Girişi'!I9)","v":20},20,{"$f":"('Teklif Mek.Girişi'!K9)","v":0},0,{"$f":"('Teklif Mek.Girişi'!M9)","v":0},0,null,{"$f":"T12","v":17.5},17.5,null,null,17.5,null,17.5,35,1,1,0,2,null,0]
[1,{"$f":"('Bilgi Girişi'!B29)","v":3},{"$f":"('Bilgi Girişi'!C29)","v":"BOYA ONARIMI"},{"$f":"('Bilgi Girişi'!F29)","v":0},{"$f":"('Bilgi Girişi'!H29)","v":5},{"$f":"('Bilgi Girişi'!I29)","v":"ADET"},{"$f":"('Teklif Mek.Girişi'!G10)","v":20},100,{"$f":"('Teklif Mek.Girişi'!I10)","v":25},125,{"$f":"('Teklif Mek.Girişi'!K10)","v":0},0,{"$f":"('Teklif Mek.Girişi'!M10)","v":0},0,null,{"$f":"T13","v":22.5},112.5,null,null,22.5,null,22.5,45,1,1,0,2,null,0]
[1,{"$f":"('Bilgi Girişi'!B30)","v":4},{"$f":"('Bilgi Girişi'!C30)","v":"ÇATI ONARIMI"},{"$f":"('Bilgi Girişi'!F30)","v":0},{"$f":"('Bilgi Girişi'!H30)","v":1},{"$f":"('Bilgi Girişi'!I30)","v":"ADET"},{"$f":"('Teklif Mek.Girişi'!G11)","v":25},25,{"$f":"('Teklif Mek.Girişi'!I11)","v":30},30,{"$f":"('Teklif Mek.Girişi'!K11)","v":0},0,{"$f":"('Teklif Mek.Girişi'!M11)","v":0},0,null,27.5,27.5,null,null,27.5,null,27.5,55,1,1,0,2,null,0]
["",{"$f":"('Bilgi Girişi'!B31)","v":0},{"$f":"('Bilgi Girişi'!C31)","v":0},{"$f":"('Bilgi Girişi'!F31)","v":0},{"$f":"('Bilgi Girişi'!H31)","v":0},{"$f":"('Bilgi Girişi'!I31)","v":0},{"$f":"('Teklif Mek.Girişi'!G12)","v":0},0,{"$f":"('Teklif Mek.Girişi'!I12)","v":0},0,{"$f":"('Teklif Mek.Girişi'!K12)","v":0},0,{"$f":"('Teklif Mek.Girişi'!M12)","v":0},0,null,0,0,null,null,0,null,{"$error":"#DIV/0!"},0,0,0,0,0,null,0]
["",{"$f":"('Bilgi Girişi'!B32)","v":0},{"$f":"('Bilgi Girişi'!C32)","v":0},{"$f":"('Bilgi Girişi'!F32)","v":0},{"$f":"('Bilgi Girişi'!H32)","v":0},{"$f":"('Bilgi Girişi'!I32)","v":0},{"$f":"('Teklif Mek.Girişi'!G13)","v":0},0,{"$f":"('Teklif Mek.Girişi'!I13)","v":0},0,{"$f":"('Teklif Mek.Girişi'!K13)","v":0},0,{"$f":"('Teklif Mek.Girişi'!M13)","v":0},0,null,0,0,null,null,0,null,{"$error":"#DIV/0!"},0,0,0,0,0,null,0]
["",{"$f":"('Bilgi Girişi'!B33)","v":0},{"$f":"('Bilgi Girişi'!C33)","v":0},{"$f":"('Bilgi Girişi'!F33)","v":0},{"$f":"('Bilgi Girişi'!H33)","v":0},{"$f":"('Bilgi Girişi'!I33)","v":0},{"$f":"('Teklif Mek.Girişi'!G14)","v":0},0,{"$f":"('Teklif Mek.Girişi'!I14)","v":0},0,{"$f":"('Teklif Mek.Girişi'!K14)","v":0},0,{"$f":"('Teklif Mek.Girişi'!M14)","v":0},0,null,0,0,null,null,0,null,{"$error":"#DIV/0!"},0,0,0,0,0,null,0]
["",{"$f":"('Bilgi Girişi'!B34)","v":0},{"$f":"('Bilgi Girişi'!C34)","v":0},{"$f":"('Bilgi Girişi'!F34)","v":0},{"$f":"('Bilgi Girişi'!H34)","v":0},{"$f":"('Bilgi Girişi'!I34)","v":0},{"$f":"('Teklif Mek.Girişi'!G15)","v":0},0,{"$f":"('Teklif Mek.Girişi'!I15)","v":0},0,{"$f":"('Teklif Mek.Girişi'!K15)","v":0},0,{"$f":"('Teklif Mek.Girişi'!M15)","v":0},0,null,0,0,null,null,0,null,{"$error":"#DIV/0!"},0,0,0,0,0,null,0]
["",{"$f":"('Bilgi Girişi'!B35)","v":0},{"$f":"('Bilgi Girişi'!C35)","v":0},{"$f":"('Bilgi Girişi'!F35)","v":0},{"$f":"('Bilgi Girişi'!H35)","v":0},{"$f":"('Bilgi Girişi'!I35)","v":0},{"$f":"('Teklif Mek.Girişi'!G16)","v":0},0,{"$f":"('Teklif Mek.Girişi'!I16)","v":0},0,{"$f":"('Teklif Mek.Girişi'!K16)","v":0},0,{"$f":"('Teklif Mek.Girişi'!M16)","v":0},0,null,0,0,null,null,0,null,{"$error":"#DIV/0!"},0,0,0,0,0,null,0]
["",{"$f":"('Bilgi Girişi'!B36)","v":0},{"$f":"('Bilgi Girişi'!C36)","v":0},{"$f":"('Bilgi Girişi'!F36)","v":0},{"$f":"('Bilgi Girişi'!H36)","v":0},{"$f":"('Bilgi Girişi'!I36)","v":0},{"$f":"('Teklif Mek.Girişi'!G17)","v":0},0,{"$f":"('Teklif Mek.Girişi'!I17)","v":0},0,{"$f":"('Teklif Mek.Girişi'!K17)","v":0},0,{"$f":"('Teklif Mek.Girişi'!M17)","v":0},0,null,0,0,null,null,0,null,{"$error":"#DIV/0!"},0,0,0,0,0,null,0]
["",{"$f":"('Bilgi Girişi'!B37)","v":0},{"$f":"('Bilgi Girişi'!C37)","v":0},{"$f":"('Bilgi Girişi'!F37)","v":0},{"$f":"('Bilgi Girişi'!H37)","v":0},{"$f":"('Bilgi Girişi'!I37)","v":0},{"$f":"('Teklif Mek.Girişi'!G18)","v":0},0,{"$f":"('Teklif Mek.Girişi'!I18)","v":0},0,{"$f":"('Teklif Mek.Girişi'!K18)","v":0},0,{"$f":"('Teklif Mek.Girişi'!M18)","v":0},0,null,{"$f":"T21","v":0},0,null,null,{"$f":"IF(W21>0,V21,0)","v":0},null,{"$f":"ROUND(SUM(W21/AA21),2)","v":{"$error":"#DIV/0!"}},0,0,0,0,{"$f":"X21+Y21+Z21+AC21","v":0},null,0]
["",{"$f":"('Bilgi Girişi'!B38)","v":0},{"$f":"('Bilgi Girişi'!C38)","v":0},{"$f":"('Bilgi Girişi'!F38)","v":0},{"$f":"('Bilgi Girişi'!H38)","v":0},{"$f":"('Bilgi Girişi'!I38)","v":0},{"$f":"('Teklif Mek.Girişi'!G19)","v":0},0,{"$f":"('Teklif Mek.Girişi'!I19)","v":0},0,{"$f":"('Teklif Mek.Girişi'!K19)","v":0},0,{"$f":"('Teklif Mek.Girişi'!M19)","v":0},0,null,0,0,null,null,0,null,{"$error":"#DIV/0!"},0,0,0,0,0,null,0]
["",{"$f":"('Bilgi Girişi'!B39)","v":0},{"$f":"('Bilgi Girişi'!C39)","v":0},{"$f":"('Bilgi Girişi'!F39)","v":0},{"$f":"('Bilgi Girişi'!H39)","v":0},{"$f":"('Bilgi Girişi'!I39)","v":0},{"$f":"('Teklif Mek.Girişi'!G20)","v":0},0,{"$f":"('Teklif Mek.Girişi'!I20)","v":0},0,{"$f":"('Teklif Mek.Girişi'!K20)","v":0},0,{"$f":"('Teklif Mek.Girişi'!M20)","v":0},0,null,0,0,null,null,0,null,{"$error":"#DIV/0!"},0,0,0,0,0,null,0]
["",{"$f":"('Bilgi Girişi'!B40)","v":0},{"$f":"('Bilgi Girişi'!C40)","v":0},{"$f":"('Bilgi Girişi'!F40)","v":0},{"$f":"('Bilgi Girişi'!H40)","v":0},{"$f":"('Bilgi Girişi'!I40)","v":0},{"$f":"('Teklif Mek.Girişi'!G21)","v":0},0,{"$f":"('Teklif Mek.Girişi'!I21)","v":0},0,{"$f":"('Teklif Mek.Girişi'!K21)","v":0},0,{"$f":"('Teklif Mek.Girişi'!M21)","v":0},0,null,0,0,null,null,0,null,{"$error":"#DIV/0!"},0,0,0,0,0,null,0]
["",{"$f":"('Bilgi Girişi'!B41)","v":0},{"$f":"('Bilgi Girişi'!C41)","v":0},{"$f":"('Bilgi Girişi'!F41)","v":0},{"$f":"('Bilgi Girişi'!H41)","v":0},{"$f":"('Bilgi Girişi'!I41)","v":0},{"$f":"('Teklif Mek.Girişi'!G22)","v":0},0,{"$f":"('Teklif Mek.Girişi'!I22)","v":0},0,{"$f":"('Teklif Mek.Girişi'!K22)","v":0},0,{"$f":"('Teklif Mek.Girişi'!M22)","v":0},0,null,0,0,null,null,0,null,{"$error":"#DIV/0!"},0,0,0,0,0,null,0]
["",{"$f":"('Bilgi Girişi'!B42)","v":0},{"$f":"('Bilgi Girişi'!C42)","v":0},{"$f":"('Bilgi Girişi'!F42)","v":0},{"$f":"('Bilgi Girişi'!H42)","v":0},{"$f":"('Bilgi Girişi'!I42)","v":0},{"$f":"('Teklif Mek.Girişi'!G23)","v":0},0,{"$f":"('Teklif Mek.Girişi'!I23)","v":0},0,{"$f":"('Teklif Mek.Girişi'!K23)","v":0},0,{"$f":"('Teklif Mek.Girişi'!M23)","v":0},0,null,0,0,null,null,0,null,{"$error":"#DIV/0!"},0,0,0,0,0,null,0]
["",{"$f":"('Bilgi Girişi'!B43)","v":0},{"$f":"('Bilgi Girişi'!C43)","v":0},{"$f":"('Bilgi Girişi'!F43)","v":0},{"$f":"('Bilgi Girişi'!H43)","v":0},{"$f":"('Bilgi Girişi'!I43)","v":0},{"$f":"('Teklif Mek.Girişi'!G24)","v":0},0,{"$f":"('Teklif Mek.Girişi'!I24)","v":0},0,{"$f":"('Teklif Mek.Girişi'!K24)","v":0},0,{"$f":"('Teklif Mek.Girişi'!M24)","v":0},0,null,0,0,null,null,0,null,{"$error":"#DIV/0!"},0,0,0,0,0,null,0]
["",{"$f":"('Bilgi Girişi'!B44)","v":0},{"$f":"('Bilgi Girişi'!C44)","v":0},{"$f":"('Bilgi Girişi'!F44)","v":0},{"$f":"('Bilgi Girişi'!H44)","v":0},{"$f":"('Bilgi Girişi'!I44)","v":0},{"$f":"('Teklif Mek.Girişi'!G25)","v":0},0,{"$f":"('Teklif Mek.Girişi'!I25)","v":0},0,{"$f":"('Teklif Mek.Girişi'!K25)","v":0},0,{"$f":"('Teklif Mek.Girişi'!M25)","v":0},0,null,0,0,null,null,0,null,{"$error":"#DIV/0!"},0,0,0,0,0,null,0]
["",{"$f":"('Bilgi Girişi'!B45)","v":0},{"$f":"('Bilgi Girişi'!C45)","v":0},{"$f":"('Bilgi Girişi'!F45)","v":0},{"$f":"('Bilgi Girişi'!H45)","v":0},{"$f":"('Bilgi Girişi'!I45)","v":0},{"$f":"('Teklif Mek.Girişi'!G26)","v":0},0,{"$f":"('Teklif Mek.Girişi'!I26)","v":0},0,{"$f":"('Teklif Mek.Girişi'!K26)","v":0},0,{"$f":"('Teklif Mek.Girişi'!M26)","v":0},0,null,0,0,null,null,0,null,{"$error":"#DIV/0!"},0,0,0,0,0,null,0]
["",{"$f":"('Bilgi Girişi'!B46)","v":0},{"$f":"('Bilgi Girişi'!C46)","v":0},{"$f":"('Bilgi Girişi'!F46)","v":0},{"$f":"('Bilgi Girişi'!H46)","v":0},{"$f":"('Bilgi Girişi'!I46)","v":0},{"$f":"('Teklif Mek.Girişi'!G27)","v":0},0,{"$f":"('Teklif Mek.Girişi'!I27)","v":0},0,{"$f":"('Teklif Mek.Girişi'!K27)","v":0},0,{"$f":"('Teklif Mek.Girişi'!M27)","v":0},0,null,0,0,null,null,0,null,{"$error":"#DIV/0!"},0,0,0,0,0,null,0]
["",{"$f":"('Bilgi Girişi'!B47)","v":0},{"$f":"('Bilgi Girişi'!C47)","v":0},{"$f":"('Bilgi Girişi'!F47)","v":0},{"$f":"('Bilgi Girişi'!H47)","v":0},{"$f":"('Bilgi Girişi'!I47)","v":0},{"$f":"('Teklif Mek.Girişi'!G28)","v":0},0,{"$f":"('Teklif Mek.Girişi'!I28)","v":0},0,{"$f":"('Teklif Mek.Girişi'!K28)","v":0},0,{"$f":"('Teklif Mek.Girişi'!M28)","v":0},0,null,0,0,null,null,0,null,{"$error":"#DIV/0!"},0,0,0,0,0,null,0]
["",{"$f":"('Bilgi Girişi'!B48)","v":0},{"$f":"('Bilgi Girişi'!C48)","v":0},{"$f":"('Bilgi Girişi'!F48)","v":0},{"$f":"('Bilgi Girişi'!H48)","v":0},{"$f":"('Bilgi Girişi'!I48)","v":0},{"$f":"('Teklif Mek.Girişi'!G29)","v":0},0,{"$f":"('Teklif Mek.Girişi'!I29)","v":0},0,{"$f":"('Teklif Mek.Girişi'!K29)","v":0},0,{"$f":"('Teklif Mek.Girişi'!M29)","v":0},0,null,0,0,null,null,0,null,{"$error":"#DIV/0!"},0,0,0,0,0,null,0]
["",{"$f":"('Bilgi Girişi'!B49)","v":0},{"$f":"('Bilgi Girişi'!C49)","v":0},{"$f":"('Bilgi Girişi'!F49)","v":0},{"$f":"('Bilgi Girişi'!H49)","v":0},{"$f":"('Bilgi Girişi'!I49)","v":0},{"$f":"('Teklif Mek.Girişi'!G30)","v":0},0,{"$f":"('Teklif Mek.Girişi'!I30)","v":0},0,{"$f":"('Teklif Mek.Girişi'!K30)","v":0},0,{"$f":"('Teklif Mek.Girişi'!M30)","v":0},0,null,0,0,null,null,0,null,{"$error":"#DIV/0!"},0,0,0,0,0,null,0]
["",{"$f":"('Bilgi Girişi'!B50)","v":0},{"$f":"('Bilgi Girişi'!C50)","v":0},{"$f":"('Bilgi Girişi'!F50)","v":0},{"$f":"('Bilgi Girişi'!H50)","v":0},{"$f":"('Bilgi Girişi'!I50)","v":0},{"$f":"('Teklif Mek.Girişi'!G31)","v":0},0,{"$f":"('Teklif Mek.Girişi'!I31)","v":0},0,{"$f":"('Teklif Mek.Girişi'!K31)","v":0},0,{"$f":"('Teklif Mek.Girişi'!M31)","v":0},0,null,0,0,null,null,0,null,{"$error":"#DIV/0!"},0,0,0,0,0,null,0]
["",{"$f":"('Bilgi Girişi'!B51)","v":0},{"$f":"('Bilgi Girişi'!C51)","v":0},{"$f":"('Bilgi Girişi'!F51)","v":0},{"$f":"('Bilgi Girişi'!H51)","v":0},{"$f":"('Bilgi Girişi'!I51)","v":0},{"$f":"('Teklif Mek.Girişi'!G32)","v":0},0,{"$f":"('Teklif Mek.Girişi'!I32)","v":0},0,{"$f":"('Teklif Mek.Girişi'!K32)","v":0},0,{"$f":"('Teklif Mek.Girişi'!M32)","v":0},0,null,0,0,null,null,0,null,{"$error":"#DIV/0!"},0,0,0,0,0,null,0]
["",{"$f":"('Bilgi Girişi'!B52)","v":0},{"$f":"('Bilgi Girişi'!C52)","v":0},{"$f":"('Bilgi Girişi'!F52)","v":0},{"$f":"('Bilgi Girişi'!H52)","v":0},{"$f":"('Bilgi Girişi'!I52)","v":0},{"$f":"('Teklif Mek.Girişi'!G33)","v":0},0,{"$f":"('Teklif Mek.Girişi'!I33)","v":0},0,{"$f":"('Teklif Mek.Girişi'!K33)","v":0},0,{"$f":"('Teklif Mek.Girişi'!M33)","v":0},0,null,0,0,null,null,0,null,{"$error":"#DIV/0!"},0,0,0,0,0,null,0]
["",{"$f":"('Bilgi Girişi'!B53)","v":0},{"$f":"('Bilgi Girişi'!C53)","v":0},{"$f":"('Bilgi Girişi'!F53)","v":0},{"$f":"('Bilgi Girişi'!H53)","v":0},{"$f":"('Bilgi Girişi'!I53)","v":0},{"$f":"('Teklif Mek.Girişi'!G34)","v":0},0,{"$f":"('Teklif Mek.Girişi'!I34)","v":0},0,{"$f":"('Teklif Mek.Girişi'!K34)","v":0},0,{"$f":"('Teklif Mek.Girişi'!M34)","v":0},0,null,0,0,null,null,0,null,{"$error":"#DIV/0!"},0,0,0,0,0,null,0]
["",{"$f":"('Bilgi Girişi'!B54)","v":0},{"$f":"('Bilgi Girişi'!C54)","v":0},{"$f":"('Bilgi Girişi'!F54)","v":0},{"$f":"('Bilgi Girişi'!H54)","v":0},{"$f":"('Bilgi Girişi'!I54)","v":0},{"$f":"('Teklif Mek.Girişi'!G35)","v":0},0,{"$f":"('Teklif Mek.Girişi'!I35)","v":0},0,{"$f":"('Teklif Mek.Girişi'!K35)","v":0},0,{"$f":"('Teklif Mek.Girişi'!M35)","v":0},0,null,0,0,null,null,0,null,{"$error":"#DIV/0!"},0,0,0,0,0,null,0]
["",{"$f":"('Bilgi Girişi'!B55)","v":0},{"$f":"('Bilgi Girişi'!C55)","v":0},{"$f":"('Bilgi Girişi'!F55)","v":0},{"$f":"('Bilgi Girişi'!H55)","v":0},{"$f":"('Bilgi Girişi'!I55)","v":0},{"$f":"('Teklif Mek.Girişi'!G36)","v":0},0,{"$f":"('Teklif Mek.Girişi'!I36)","v":0},0,{"$f":"('Teklif Mek.Girişi'!K36)","v":0},0,{"$f":"('Teklif Mek.Girişi'!M36)","v":0},0,null,0,0,null,null,0,null,{"$error":"#DIV/0!"},0,0,0,0,0,null,0]
["",{"$f":"('Bilgi Girişi'!B56)","v":0},{"$f":"('Bilgi Girişi'!C56)","v":0},{"$f":"('Bilgi Girişi'!F56)","v":0},{"$f":"('Bilgi Girişi'!H56)","v":0},{"$f":"('Bilgi Girişi'!I56)","v":0},{"$f":"('Teklif Mek.Girişi'!G37)","v":0},0,{"$f":"('Teklif Mek.Girişi'!I37)","v":0},0,{"$f":"('Teklif Mek.Girişi'!K37)","v":0},0,{"$f":"('Teklif Mek.Girişi'!M37)","v":0},0,null,0,0,null,null,0,null,{"$error":"#DIV/0!"},0,0,0,0,0,null,0]
["",{"$f":"'Görevli Kişiler'!#REF!","v":{"$error":"#REF!"}},{"$f":"'Görevli Kişiler'!#REF!","v":{"$error":"#REF!"}},{"$f":"('Bilgi Girişi'!F57)","v":0},{"$f":"(#REF!)","v":{"$error":"#REF!"}},{"$f":"'Görevli Kişiler'!#REF!","v":{"$error":"#REF!"}},null,{"$error":"#REF!"},null,{"$error":"#REF!"},{"$f":"('Teklif Mek.Girişi'!K38)","v":0},{"$error":"#REF!"},null,{"$error":"#REF!"},null,0,{"$error":"#REF!"},null,null,0,null,{"$error":"#DIV/0!"},0,0,0,0,0,null,0]
["",{"$f":"'Görevli Kişiler'!#REF!","v":{"$error":"#REF!"}},{"$f":"'Görevli Kişiler'!#REF!","v":{"$error":"#REF!"}},{"$f":"('Bilgi Girişi'!F58)","v":0},{"$f":"(#REF!)","v":{"$error":"#REF!"}},{"$f":"'Görevli Kişiler'!#REF!","v":{"$error":"#REF!"}},null,{"$error":"#REF!"},null,{"$error":"#REF!"},{"$f":"('Teklif Mek.Girişi'!K39)","v":0},{"$error":"#REF!"},null,{"$error":"#REF!"},null,0,{"$error":"#REF!"},null,null,0,null,{"$error":"#DIV/0!"},0,0,0,0,0,null,0]
["",{"$f":"'Görevli Kişiler'!#REF!","v":{"$error":"#REF!"}},{"$f":"'Görevli Kişiler'!#REF!","v":{"$error":"#REF!"}},{"$f":"('Bilgi Girişi'!F59)","v":0},{"$f":"(#REF!)","v":{"$error":"#REF!"}},{"$f":"'Görevli Kişiler'!#REF!","v":{"$error":"#REF!"}},null,{"$f":"ROUND(SUM(E43*G43),2)","v":{"$error":"#REF!"}},null,{"$f":"ROUND(SUM(E43*I43),2)","v":{"$error":"#REF!"}},{"$f":"('Teklif Mek.Girişi'!K40)","v":0},{"$f":"ROUND(SUM(E43*K43),2)","v":{"$error":"#REF!"}},null,{"$f":"ROUND(SUM(E43*M43),2)","v":{"$error":"#REF!"}},null,0,{"$f":"ROUND(SUM(E43*P43),2)","v":{"$error":"#REF!"}},null,null,0,null,{"$error":"#DIV/0!"},{"$f":"ROUND(SUM(G43+I43+K43+M43),2)","v":0},{"$f":"COUNTIF(G43,\">0\")","v":0},{"$f":"COUNTIF(I43,\">0\")","v":0},{"$f":"COUNTIF(K43,\">0\")","v":0},0,null,{"$f":"COUNTIF(M43,\">0\")","v":0}]
["",{"$f":"'Görevli Kişiler'!#REF!","v":{"$error":"#REF!"}},{"$f":"'Görevli Kişiler'!#REF!","v":{"$error":"#REF!"}},{"$f":"('Bilgi Girişi'!F60)","v":0},{"$f":"(#REF!)","v":{"$error":"#REF!"}},{"$f":"'Görevli Kişiler'!#REF!","v":{"$error":"#REF!"}},null,{"$error":"#REF!"},null,{"$error":"#REF!"},{"$f":"('Teklif Mek.Girişi'!K41)","v":0},{"$error":"#REF!"},null,{"$error":"#REF!"},null,0,{"$error":"#REF!"},null,null,0,null,{"$error":"#DIV/0!"},0,0,0,0,0,null,0]
["",{"$f":"'Görevli Kişiler'!#REF!","v":{"$error":"#REF!"}},{"$f":"'Görevli Kişiler'!#REF!","v":{"$error":"#REF!"}},{"$f":"('Bilgi Girişi'!F61)","v":0},{"$f":"(#REF!)","v":{"$error":"#REF!"}},{"$f":"'Görevli Kişiler'!#REF!","v":{"$error":"#REF!"}},null,{"$error":"#REF!"},null,{"$error":"#REF!"},{"$f":"('Teklif Mek.Girişi'!K42)","v":0},{"$error":"#REF!"},null,{"$error":"#REF!"},null,0,{"$error":"#REF!"},null,null,0,null,{"$error":"#DIV/0!"},0,0,0,0,0,null,0]
["",{"$f":"'Görevli Kişiler'!#REF!","v":{"$error":"#REF!"}},{"$f":"'Görevli Kişiler'!#REF!","v":{"$error":"#REF!"}},{"$f":"('Bilgi Girişi'!F62)","v":0},{"$f":"(#REF!)","v":{"$error":"#REF!"}},{"$f":"'Görevli Kişiler'!#REF!","v":{"$error":"#REF!"}},null,{"$error":"#REF!"},null,{"$error":"#REF!"},{"$f":"('Teklif Mek.Girişi'!K43)","v":0},{"$error":"#REF!"},null,{"$error":"#REF!"},null,0,{"$error":"#REF!"},null,null,0,null,{"$error":"#DIV/0!"},0,0,0,0,0,null,0]
["",{"$f":"'Görevli Kişiler'!#REF!","v":{"$error":"#REF!"}},{"$f":"'Görevli Kişiler'!#REF!","v":{"$error":"#REF!"}},{"$f":"('Bilgi Girişi'!F63)","v":0},{"$f":"(#REF!)","v":{"$error":"#REF!"}},{"$f":"'Görevli Kişiler'!#REF!","v":{"$error":"#REF!"}},null,{"$error":"#REF!"},null,{"$error":"#REF!"},{"$f":"('Teklif Mek.Girişi'!K44)","v":0},{"$error":"#REF!"},null,{"$error":"#REF!"},null,0,{"$error":"#REF!"},null,null,0,null,{"$error":"#DIV/0!"},0,0,0,0,0,null,0]
["",{"$f":"'Görevli Kişiler'!#REF!","v":{"$error":"#REF!"}},{"$f":"'Görevli Kişiler'!#REF!","v":{"$error":"#REF!"}},{"$f":"('Bilgi Girişi'!F64)","v":0},{"$f":"(#REF!)","v":{"$error":"#REF!"}},{"$f":"'Görevli Kişiler'!#REF!","v":{"$error":"#REF!"}},null,{"$error":"#REF!"},null,{"$error":"#REF!"},{"$f":"('Teklif Mek.Girişi'!K45)","v":0},{"$error":"#REF!"},null,{"$error":"#REF!"},null,0,{"$error":"#REF!"},null,null,0,null,{"$error":"#DIV/0!"},0,0,0,0,0,null,0]
["",{"$f":"'Görevli Kişiler'!#REF!","v":{"$error":"#REF!"}},{"$f":"'Görevli Kişiler'!#REF!","v":{"$error":"#REF!"}},{"$f":"('Bilgi Girişi'!F65)","v":0},{"$f":"(#REF!)","v":{"$error":"#REF!"}},{"$f":"'Görevli Kişiler'!#REF!","v":{"$error":"#REF!"}},null,{"$error":"#REF!"},null,{"$error":"#REF!"},{"$f":"('Teklif Mek.Girişi'!K46)","v":0},{"$error":"#REF!"},null,{"$error":"#REF!"},null,0,{"$error":"#REF!"},null,null,0,null,{"$error":"#DIV/0!"},0,0,0,0,0,null,0]
["",{"$f":"'Görevli Kişiler'!#REF!","v":{"$error":"#REF!"}},{"$f":"'Görevli Kişiler'!#REF!","v":{"$error":"#REF!"}},{"$f":"('Bilgi Girişi'!F66)","v":0},{"$f":"(#REF!)","v":{"$error":"#REF!"}},{"$f":"'Görevli Kişiler'!#REF!","v":{"$error":"#REF!"}},null,{"$error":"#REF!"},null,{"$error":"#REF!"},{"$f":"('Teklif Mek.Girişi'!K47)","v":0},{"$error":"#REF!"},null,{"$error":"#REF!"},null,0,{"$error":"#REF!"},null,null,0,null,{"$error":"#DIV/0!"},0,0,0,0,0,null,0]
["",{"$f":"'Görevli Kişiler'!#REF!","v":{"$error":"#REF!"}},{"$f":"'Görevli Kişiler'!#REF!","v":{"$error":"#REF!"}},{"$f":"('Bilgi Girişi'!F67)","v":0},{"$f":"(#REF!)","v":{"$error":"#REF!"}},{"$f":"'Görevli Kişiler'!#REF!","v":{"$error":"#REF!"}},null,{"$error":"#REF!"},null,{"$error":"#REF!"},{"$f":"('Teklif Mek.Girişi'!K48)","v":0},{"$error":"#REF!"},null,{"$error":"#REF!"},null,0,{"$error":"#REF!"},null,null,0,null,{"$error":"#DIV/0!"},0,0,0,0,0,null,0]
["",{"$f":"'Görevli Kişiler'!#REF!","v":{"$error":"#REF!"}},{"$f":"'Görevli Kişiler'!#REF!","v":{"$error":"#REF!"}},{"$f":"('Bilgi Girişi'!F68)","v":0},{"$f":"(#REF!)","v":{"$error":"#REF!"}},{"$f":"'Görevli Kişiler'!#REF!","v":{"$error":"#REF!"}},null,{"$error":"#REF!"},null,{"$error":"#REF!"},{"$f":"('Teklif Mek.Girişi'!K49)","v":0},{"$error":"#REF!"},null,{"$error":"#REF!"},null,0,{"$error":"#REF!"},null,null,0,null,{"$error":"#DIV/0!"},0,0,0,0,0,null,0]
["",{"$f":"'Görevli Kişiler'!#REF!","v":{"$error":"#REF!"}},{"$f":"'Görevli Kişiler'!#REF!","v":{"$error":"#REF!"}},{"$f":"('Bilgi Girişi'!F69)","v":0},{"$f":"(#REF!)","v":{"$error":"#REF!"}},{"$f":"'Görevli Kişiler'!#REF!","v":{"$error":"#REF!"}},null,{"$error":"#REF!"},null,{"$error":"#REF!"},{"$f":"('Teklif Mek.Girişi'!K50)","v":0},{"$error":"#REF!"},null,{"$error":"#REF!"},null,0,{"$error":"#REF!"},null,null,0,null,{"$error":"#DIV/0!"},0,0,0,0,0,null,0]
["",{"$f":"'Görevli Kişiler'!#REF!","v":{"$error":"#REF!"}},{"$f":"'Görevli Kişiler'!#REF!","v":{"$error":"#REF!"}},{"$f":"('Bilgi Girişi'!F70)","v":0},{"$f":"(#REF!)","v":{"$error":"#REF!"}},{"$f":"'Görevli Kişiler'!#REF!","v":{"$error":"#REF!"}},null,{"$error":"#REF!"},null,{"$error":"#REF!"},{"$f":"('Teklif Mek.Girişi'!K51)","v":0},{"$error":"#REF!"},null,{"$error":"#REF!"},null,0,{"$error":"#REF!"},null,null,0,null,{"$error":"#DIV/0!"},0,0,0,0,0,null,0]
["",{"$f":"'Görevli Kişiler'!#REF!","v":{"$error":"#REF!"}},{"$f":"'Görevli Kişiler'!#REF!","v":{"$error":"#REF!"}},{"$f":"('Bilgi Girişi'!F71)","v":0},{"$f":"(#REF!)","v":{"$error":"#REF!"}},{"$f":"'Görevli Kişiler'!#REF!","v":{"$error":"#REF!"}},null,{"$error":"#REF!"},null,{"$error":"#REF!"},{"$f":"('Teklif Mek.Girişi'!K52)","v":0},{"$error":"#REF!"},null,{"$error":"#REF!"},null,0,{"$error":"#REF!"},null,null,0,null,{"$error":"#DIV/0!"},0,0,0,0,0,null,0]
["",{"$f":"'Görevli Kişiler'!#REF!","v":{"$error":"#REF!"}},{"$f":"'Görevli Kişiler'!#REF!","v":{"$error":"#REF!"}},{"$f":"('Bilgi Girişi'!F72)","v":0},{"$f":"(#REF!)","v":{"$error":"#REF!"}},{"$f":"'Görevli Kişiler'!#REF!","v":{"$error":"#REF!"}},null,{"$error":"#REF!"},null,{"$error":"#REF!"},{"$f":"('Teklif Mek.Girişi'!K53)","v":0},{"$error":"#REF!"},null,{"$error":"#REF!"},null,0,{"$error":"#REF!"},null,null,0,null,{"$error":"#DIV/0!"},0,0,0,0,0,null,0]
["",{"$f":"'Görevli Kişiler'!#REF!","v":{"$error":"#REF!"}},{"$f":"'Görevli Kişiler'!#REF!","v":{"$error":"#REF!"}},{"$f":"('Bilgi Girişi'!F73)","v":0},{"$f":"(#REF!)","v":{"$error":"#REF!"}},{"$f":"'Görevli Kişiler'!#REF!","v":{"$error":"#REF!"}},null,{"$error":"#REF!"},null,{"$error":"#REF!"},{"$f":"('Teklif Mek.Girişi'!K54)","v":0},{"$error":"#REF!"},null,{"$error":"#REF!"},null,0,{"$error":"#REF!"},null,null,0,null,{"$error":"#DIV/0!"},0,0,0,0,0,null,0]
["",{"$f":"'Görevli Kişiler'!#REF!","v":{"$error":"#REF!"}},{"$f":"'Görevli Kişiler'!#REF!","v":{"$error":"#REF!"}},{"$f":"('Bilgi Girişi'!F74)","v":0},{"$f":"(#REF!)","v":{"$error":"#REF!"}},{"$f":"'Görevli Kişiler'!#REF!","v":{"$error":"#REF!"}},null,{"$error":"#REF!"},null,{"$error":"#REF!"},{"$f":"('Teklif Mek.Girişi'!K55)","v":0},{"$error":"#REF!"},null,{"$error":"#REF!"},null,0,{"$error":"#REF!"},null,null,0,null,{"$error":"#DIV/0!"},0,0,0,0,0,null,0]
["",{"$f":"'Görevli Kişiler'!#REF!","v":{"$error":"#REF!"}},{"$f":"'Görevli Kişiler'!#REF!","v":{"$error":"#REF!"}},{"$f":"('Bilgi Girişi'!F75)","v":0},{"$f":"(#REF!)","v":{"$error":"#REF!"}},{"$f":"'Görevli Kişiler'!#REF!","v":{"$error":"#REF!"}},null,{"$error":"#REF!"},null,{"$error":"#REF!"},{"$f":"('Teklif Mek.Girişi'!K56)","v":0},{"$error":"#REF!"},null,{"$error":"#REF!"},null,0,{"$error":"#REF!"},null,null,0,null,{"$error":"#DIV/0!"},0,0,0,0,0,null,0]
["",{"$f":"'Görevli Kişiler'!#REF!","v":{"$error":"#REF!"}},{"$f":"'Görevli Kişiler'!#REF!","v":{"$error":"#REF!"}},{"$f":"('Bilgi Girişi'!F76)","v":0},{"$f":"(#REF!)","v":{"$error":"#REF!"}},{"$f":"'Görevli Kişiler'!#REF!","v":{"$error":"#REF!"}},null,{"$error":"#REF!"},null,{"$error":"#REF!"},{"$f":"('Teklif Mek.Girişi'!K57)","v":0},{"$error":"#REF!"},null,{"$error":"#REF!"},null,0,{"$error":"#REF!"},null,null,0,null,{"$error":"#DIV/0!"},0,0,0,0,0,null,0]
["",{"$f":"'Görevli Kişiler'!#REF!","v":{"$error":"#REF!"}},{"$f":"'Görevli Kişiler'!#REF!","v":{"$error":"#REF!"}},{"$f":"('Bilgi Girişi'!F77)","v":0},{"$f":"(#REF!)","v":{"$error":"#REF!"}},{"$f":"'Görevli Kişiler'!#REF!","v":{"$error":"#REF!"}},null,{"$error":"#REF!"},null,{"$error":"#REF!"},{"$f":"('Teklif Mek.Girişi'!K58)","v":0},{"$error":"#REF!"},null,{"$error":"#REF!"},null,0,{"$error":"#REF!"},null,null,0,null,{"$error":"#DIV/0!"},0,0,0,0,0,null,0]
["",{"$f":"'Görevli Kişiler'!#REF!","v":{"$error":"#REF!"}},{"$f":"'Görevli Kişiler'!#REF!","v":{"$error":"#REF!"}},{"$f":"('Bilgi Girişi'!F78)","v":0},{"$f":"(#REF!)","v":{"$error":"#REF!"}},{"$f":"'Görevli Kişiler'!#REF!","v":{"$error":"#REF!"}},null,{"$error":"#REF!"},null,{"$error":"#REF!"},{"$f":"('Teklif Mek.Girişi'!K59)","v":0},{"$error":"#REF!"},null,{"$error":"#REF!"},null,0,{"$error":"#REF!"},null,null,0,null,{"$error":"#DIV/0!"},0,0,0,0,0,null,0]
["",{"$f":"'Görevli Kişiler'!#REF!","v":{"$error":"#REF!"}},{"$f":"'Görevli Kişiler'!#REF!","v":{"$error":"#REF!"}},{"$f":"('Bilgi Girişi'!F79)","v":0},{"$f":"(#REF!)","v":{"$error":"#REF!"}},{"$f":"'Görevli Kişiler'!#REF!","v":{"$error":"#REF!"}},null,{"$error":"#REF!"},null,{"$error":"#REF!"},{"$f":"('Teklif Mek.Girişi'!K60)","v":0},{"$error":"#REF!"},null,{"$error":"#REF!"},null,0,{"$error":"#REF!"},null,null,0,null,{"$error":"#DIV/0!"},0,0,0,0,0,null,0]
["",{"$f":"'Görevli Kişiler'!#REF!","v":{"$error":"#REF!"}},{"$f":"'Görevli Kişiler'!#REF!","v":{"$error":"#REF!"}},{"$f":"('Bilgi Girişi'!F80)","v":0},{"$f":"(#REF!)","v":{"$error":"#REF!"}},{"$f":"'Görevli Kişiler'!#REF!","v":{"$error":"#REF!"}},null,{"$error":"#REF!"},null,{"$error":"#REF!"},{"$f":"('Teklif Mek.Girişi'!K61)","v":0},{"$error":"#REF!"},null,{"$error":"#REF!"},null,0,{"$error":"#REF!"},null,null,0,null,{"$error":"#DIV/0!"},0,0,0,0,0,null,0]
["",{"$f":"'Görevli Kişiler'!#REF!","v":{"$error":"#REF!"}},{"$f":"'Görevli Kişiler'!#REF!","v":{"$error":"#REF!"}},{"$f":"('Bilgi Girişi'!F81)","v":0},{"$f":"(#REF!)","v":{"$error":"#REF!"}},{"$f":"'Görevli Kişiler'!#REF!","v":{"$error":"#REF!"}},null,{"$error":"#REF!"},null,{"$error":"#REF!"},{"$f":"('Teklif Mek.Girişi'!K62)","v":0},{"$error":"#REF!"},null,{"$error":"#REF!"},null,0,{"$error":"#REF!"},null,null,0,null,{"$error":"#DIV/0!"},0,0,0,0,0,null,0]
["",{"$f":"'Görevli Kişiler'!#REF!","v":{"$error":"#REF!"}},{"$f":"'Görevli Kişiler'!#REF!","v":{"$error":"#REF!"}},{"$f":"('Bilgi Girişi'!F82)","v":0},{"$f":"(#REF!)","v":{"$error":"#REF!"}},{"$f":"'Görevli Kişiler'!#REF!","v":{"$error":"#REF!"}},null,{"$error":"#REF!"},null,{"$error":"#REF!"},{"$f":"('Teklif Mek.Girişi'!K63)","v":0},{"$error":"#REF!"},null,{"$error":"#REF!"},null,0,{"$error":"#REF!"},null,null,0,null,{"$error":"#DIV/0!"},0,0,0,0,0,null,0]
["",{"$f":"'Görevli Kişiler'!#REF!","v":{"$error":"#REF!"}},{"$f":"'Görevli Kişiler'!#REF!","v":{"$error":"#REF!"}},{"$f":"('Bilgi Girişi'!F83)","v":0},{"$f":"(#REF!)","v":{"$error":"#REF!"}},{"$f":"'Görevli Kişiler'!#REF!","v":{"$error":"#REF!"}},null,{"$error":"#REF!"},null,{"$error":"#REF!"},{"$f":"('Teklif Mek.Girişi'!K64)","v":0},{"$error":"#REF!"},null,{"$error":"#REF!"},null,0,{"$error":"#REF!"},null,null,0,null,{"$error":"#DIV/0!"},0,0,0,0,0,null,0]
["",{"$f":"'Görevli Kişiler'!#REF!","v":{"$error":"#REF!"}},{"$f":"'Görevli Kişiler'!#REF!","v":{"$error":"#REF!"}},{"$f":"('Bilgi Girişi'!F84)","v":0},{"$f":"(#REF!)","v":{"$error":"#REF!"}},{"$f":"'Görevli Kişiler'!#REF!","v":{"$error":"#REF!"}},null,{"$error":"#REF!"},null,{"$error":"#REF!"},{"$f":"('Teklif Mek.Girişi'!K65)","v":0},{"$error":"#REF!"},null,{"$error":"#REF!"},null,0,{"$error":"#REF!"},null,null,0,null,{"$error":"#DIV/0!"},0,0,0,0,0,null,0]
["",{"$f":"'Görevli Kişiler'!#REF!","v":{"$error":"#REF!"}},{"$f":"'Görevli Kişiler'!#REF!","v":{"$error":"#REF!"}},{"$f":"('Bilgi Girişi'!F85)","v":0},{"$f":"(#REF!)","v":{"$error":"#REF!"}},{"$f":"'Görevli Kişiler'!#REF!","v":{"$error":"#REF!"}},null,{"$error":"#REF!"},null,{"$error":"#REF!"},{"$f":"('Teklif Mek.Girişi'!K66)","v":0},{"$error":"#REF!"},null,{"$error":"#REF!"},null,0,{"$error":"#REF!"},null,null,0,null,{"$error":"#DIV/0!"},0,0,0,0,0,null,0]
["",{"$f":"'Görevli Kişiler'!#REF!","v":{"$error":"#REF!"}},{"$f":"'Görevli Kişiler'!#REF!","v":{"$error":"#REF!"}},{"$f":"('Bilgi Girişi'!F86)","v":0},{"$f":"(#REF!)","v":{"$error":"#REF!"}},{"$f":"'Görevli Kişiler'!#REF!","v":{"$error":"#REF!"}},null,{"$error":"#REF!"},null,{"$error":"#REF!"},{"$f":"('Teklif Mek.Girişi'!K67)","v":0},{"$error":"#REF!"},null,{"$error":"#REF!"},null,0,{"$error":"#REF!"},null,null,0,null,{"$error":"#DIV/0!"},0,0,0,0,0,null,0]
["",{"$f":"'Görevli Kişiler'!#REF!","v":{"$error":"#REF!"}},{"$f":"'Görevli Kişiler'!#REF!","v":{"$error":"#REF!"}},{"$f":"('Bilgi Girişi'!F87)","v":0},{"$f":"(#REF!)","v":{"$error":"#REF!"}},{"$f":"'Görevli Kişiler'!#REF!","v":{"$error":"#REF!"}},null,{"$error":"#REF!"},null,{"$error":"#REF!"},{"$f":"('Teklif Mek.Girişi'!K68)","v":0},{"$error":"#REF!"},null,{"$error":"#REF!"},null,0,{"$error":"#REF!"},null,null,0,null,{"$error":"#DIV/0!"},0,0,0,0,0,null,0]
["",{"$f":"'Görevli Kişiler'!#REF!","v":{"$error":"#REF!"}},{"$f":"'Görevli Kişiler'!#REF!","v":{"$error":"#REF!"}},{"$f":"('Bilgi Girişi'!F88)","v":0},{"$f":"(#REF!)","v":{"$error":"#REF!"}},{"$f":"'Görevli Kişiler'!#REF!","v":{"$error":"#REF!"}},null,{"$error":"#REF!"},null,{"$error":"#REF!"},{"$f":"('Teklif Mek.Girişi'!K69)","v":0},{"$error":"#REF!"},null,{"$error":"#REF!"},null,0,{"$error":"#REF!"},null,null,0,null,{"$error":"#DIV/0!"},0,0,0,0,0,null,0]
["",{"$f":"'Görevli Kişiler'!#REF!","v":{"$error":"#REF!"}},{"$f":"'Görevli Kişiler'!#REF!","v":{"$error":"#REF!"}},{"$f":"('Bilgi Girişi'!F89)","v":0},{"$f":"(#REF!)","v":{"$error":"#REF!"}},{"$f":"'Görevli Kişiler'!#REF!","v":{"$error":"#REF!"}},null,{"$error":"#REF!"},null,{"$error":"#REF!"},{"$f":"('Teklif Mek.Girişi'!K70)","v":0},{"$error":"#REF!"},null,{"$error":"#REF!"},null,0,{"$error":"#REF!"},null,null,0,null,{"$error":"#DIV/0!"},0,0,0,0,0,null,0]
["",{"$f":"'Görevli Kişiler'!#REF!","v":{"$error":"#REF!"}},{"$f":"'Görevli Kişiler'!#REF!","v":{"$error":"#REF!"}},{"$f":"('Bilgi Girişi'!F90)","v":0},{"$f":"(#REF!)","v":{"$error":"#REF!"}},{"$f":"'Görevli Kişiler'!#REF!","v":{"$error":"#REF!"}},null,{"$error":"#REF!"},null,{"$error":"#REF!"},{"$f":"('Teklif Mek.Girişi'!K71)","v":0},{"$error":"#REF!"},null,{"$error":"#REF!"},null,0,{"$error":"#REF!"},null,null,0,null,{"$error":"#DIV/0!"},0,0,0,0,0,null,0]
["",{"$f":"'Görevli Kişiler'!#REF!","v":{"$error":"#REF!"}},{"$f":"'Görevli Kişiler'!#REF!","v":{"$error":"#REF!"}},{"$f":"('Bilgi Girişi'!F91)","v":0},{"$f":"(#REF!)","v":{"$error":"#REF!"}},{"$f":"'Görevli Kişiler'!#REF!","v":{"$error":"#REF!"}},null,{"$f":"ROUND(SUM(E75*G75),2)","v":{"$error":"#REF!"}},null,{"$f":"ROUND(SUM(E75*I75),2)","v":{"$error":"#REF!"}},{"$f":"('Teklif Mek.Girişi'!K72)","v":0},{"$f":"ROUND(SUM(E75*K75),2)","v":{"$error":"#REF!"}},null,{"$f":"ROUND(SUM(E75*M75),2)","v":{"$error":"#REF!"}},null,0,{"$f":"ROUND(SUM(E75*P75),2)","v":{"$error":"#REF!"}},null,null,0,null,{"$error":"#DIV/0!"},{"$f":"ROUND(SUM(G75+I75+K75+M75),2)","v":0},{"$f":"COUNTIF(G75,\">0\")","v":0},{"$f":"COUNTIF(I75,\">0\")","v":0},{"$f":"COUNTIF(K75,\">0\")","v":0},0,null,{"$f":"COUNTIF(M75,\">0\")","v":0}]
[{"$f":"IF(ISTEXT(C76),1,\"\")","v":""},{"$f":"'Görevli Kişiler'!#REF!","v":{"$error":"#REF!"}},{"$f":"'Görevli Kişiler'!#REF!","v":{"$error":"#REF!"}},{"$f":"('Bilgi Girişi'!F92)","v":0},{"$f":"(#REF!)","v":{"$error":"#REF!"}},{"$f":"'Görevli Kişiler'!#REF!","v":{"$error":"#REF!"}},null,{"$error":"#REF!"},null,{"$error":"#REF!"},{"$f":"('Teklif Mek.Girişi'!K73)","v":0},{"$error":"#REF!"},null,{"$error":"#REF!"},null,{"$f":"T76","v":0},{"$error":"#REF!"},null,null,0,null,{"$error":"#DIV/0!"},0,0,0,0,0,null,0]
["",{"$f":"'Görevli Kişiler'!#REF!","v":{"$error":"#REF!"}},{"$f":"'Görevli Kişiler'!#REF!","v":{"$error":"#REF!"}},{"$f":"('Bilgi Girişi'!F93)","v":0},{"$f":"(#REF!)","v":{"$error":"#REF!"}},{"$f":"'Görevli Kişiler'!#REF!","v":{"$error":"#REF!"}},null,{"$error":"#REF!"},null,{"$error":"#REF!"},{"$f":"('Teklif Mek.Girişi'!K74)","v":0},{"$error":"#REF!"},null,{"$error":"#REF!"},null,0,{"$error":"#REF!"},null,null,0,null,{"$error":"#DIV/0!"},0,0,0,0,0,null,0]
["",{"$f":"'Görevli Kişiler'!#REF!","v":{"$error":"#REF!"}},{"$f":"'Görevli Kişiler'!#REF!","v":{"$error":"#REF!"}},{"$f":"('Bilgi Girişi'!F94)","v":0},{"$f":"(#REF!)","v":{"$error":"#REF!"}},{"$f":"'Görevli Kişiler'!#REF!","v":{"$error":"#REF!"}},null,{"$error":"#REF!"},null,{"$error":"#REF!"},{"$f":"('Teklif Mek.Girişi'!K75)","v":0},{"$error":"#REF!"},null,{"$error":"#REF!"},null,0,{"$error":"#REF!"},null,null,0,null,{"$error":"#DIV/0!"},0,0,0,0,0,null,0]
["",{"$f":"'Görevli Kişiler'!#REF!","v":{"$error":"#REF!"}},{"$f":"'Görevli Kişiler'!#REF!","v":{"$error":"#REF!"}},{"$f":"('Bilgi Girişi'!F95)","v":0},{"$f":"(#REF!)","v":{"$error":"#REF!"}},{"$f":"'Görevli Kişiler'!#REF!","v":{"$error":"#REF!"}},null,{"$error":"#REF!"},null,{"$error":"#REF!"},{"$f":"('Teklif Mek.Girişi'!K76)","v":0},{"$error":"#REF!"},null,{"$error":"#REF!"},null,0,{"$error":"#REF!"},null,null,0,null,{"$error":"#DIV/0!"},0,0,0,0,0,null,0]
["",{"$f":"'Görevli Kişiler'!#REF!","v":{"$error":"#REF!"}},{"$f":"'Görevli Kişiler'!#REF!","v":{"$error":"#REF!"}},{"$f":"('Bilgi Girişi'!F96)","v":0},{"$f":"(#REF!)","v":{"$error":"#REF!"}},{"$f":"'Görevli Kişiler'!#REF!","v":{"$error":"#REF!"}},null,{"$error":"#REF!"},null,{"$error":"#REF!"},{"$f":"('Teklif Mek.Girişi'!K77)","v":0},{"$error":"#REF!"},null,{"$error":"#REF!"},null,0,{"$error":"#REF!"},null,null,0,null,{"$error":"#DIV/0!"},0,0,0,0,0,null,0]
["",{"$f":"'Görevli Kişiler'!#REF!","v":{"$error":"#REF!"}},{"$f":"'Görevli Kişiler'!#REF!","v":{"$error":"#REF!"}},{"$f":"('Bilgi Girişi'!F97)","v":0},{"$f":"(#REF!)","v":{"$error":"#REF!"}},{"$f":"'Görevli Kişiler'!#REF!","v":{"$error":"#REF!"}},null,{"$error":"#REF!"},null,{"$error":"#REF!"},{"$f":"('Teklif Mek.Girişi'!K78)","v":0},{"$error":"#REF!"},null,{"$error":"#REF!"},null,0,{"$error":"#REF!"},null,null,0,null,{"$error":"#DIV/0!"},0,0,0,0,0,null,0]
["",{"$f":"'Görevli Kişiler'!#REF!","v":{"$error":"#REF!"}},{"$f":"'Görevli Kişiler'!#REF!","v":{"$error":"#REF!"}},{"$f":"('Bilgi Girişi'!F98)","v":0},{"$f":"(#REF!)","v":{"$error":"#REF!"}},{"$f":"'Görevli Kişiler'!#REF!","v":{"$error":"#REF!"}},null,{"$error":"#REF!"},null,{"$error":"#REF!"},{"$f":"('Teklif Mek.Girişi'!K79)","v":0},{"$error":"#REF!"},null,{"$error":"#REF!"},null,0,{"$error":"#REF!"},null,null,0,null,{"$error":"#DIV/0!"},0,0,0,0,0,null,0]
["",{"$f":"'Görevli Kişiler'!#REF!","v":{"$error":"#REF!"}},{"$f":"'Görevli Kişiler'!#REF!","v":{"$error":"#REF!"}},{"$f":"('Bilgi Girişi'!F99)","v":0},{"$f":"(#REF!)","v":{"$error":"#REF!"}},{"$f":"'Görevli Kişiler'!#REF!","v":{"$error":"#REF!"}},null,{"$error":"#REF!"},null,{"$error":"#REF!"},{"$f":"('Teklif Mek.Girişi'!K80)","v":0},{"$error":"#REF!"},null,{"$error":"#REF!"},null,0,{"$error":"#REF!"},null,null,0,null,{"$error":"#DIV/0!"},0,0,0,0,0,null,0]
["",{"$f":"'Görevli Kişiler'!#REF!","v":{"$error":"#REF!"}},{"$f":"'Görevli Kişiler'!#REF!","v":{"$error":"#REF!"}},{"$f":"('Bilgi Girişi'!F100)","v":0},{"$f":"(#REF!)","v":{"$error":"#REF!"}},{"$f":"'Görevli Kişiler'!#REF!","v":{"$error":"#REF!"}},null,{"$error":"#REF!"},null,{"$error":"#REF!"},{"$f":"('Teklif Mek.Girişi'!K81)","v":0},{"$error":"#REF!"},null,{"$error":"#REF!"},null,0,{"$error":"#REF!"},null,null,0,null,{"$error":"#DIV/0!"},0,0,0,0,0,null,0]
["",{"$f":"'Görevli Kişiler'!#REF!","v":{"$error":"#REF!"}},{"$f":"'Görevli Kişiler'!#REF!","v":{"$error":"#REF!"}},{"$f":"('Bilgi Girişi'!F101)","v":0},{"$f":"(#REF!)","v":{"$error":"#REF!"}},{"$f":"'Görevli Kişiler'!#REF!","v":{"$error":"#REF!"}},null,{"$error":"#REF!"},null,{"$error":"#REF!"},{"$f":"('Teklif Mek.Girişi'!K82)","v":0},{"$error":"#REF!"},null,{"$error":"#REF!"},null,0,{"$error":"#REF!"},null,null,{"$f":"IF(W85>0,V85,0)","v":0},null,{"$f":"ROUND(SUM(W85/AA85),2)","v":{"$error":"#DIV/0!"}},0,0,0,0,{"$f":"X85+Y85+Z85+AC85","v":0},null,{"$f":"COUNTIF(M85,\">0\")","v":0}]
["",{"$f":"'Görevli Kişiler'!#REF!","v":{"$error":"#REF!"}},{"$f":"'Görevli Kişiler'!#REF!","v":{"$error":"#REF!"}},{"$f":"('Bilgi Girişi'!F102)","v":0},{"$f":"(#REF!)","v":{"$error":"#REF!"}},{"$f":"'Görevli Kişiler'!#REF!","v":{"$error":"#REF!"}},null,{"$error":"#REF!"},null,{"$error":"#REF!"},{"$f":"('Teklif Mek.Girişi'!K83)","v":0},{"$error":"#REF!"},null,{"$error":"#REF!"},null,0,{"$error":"#REF!"},null,null,0,null,{"$error":"#DIV/0!"},0,0,0,0,0,null,0]
["",{"$f":"'Görevli Kişiler'!#REF!","v":{"$error":"#REF!"}},{"$f":"'Görevli Kişiler'!#REF!","v":{"$error":"#REF!"}},{"$f":"('Bilgi Girişi'!F103)","v":0},{"$f":"(#REF!)","v":{"$error":"#REF!"}},{"$f":"'Görevli Kişiler'!#REF!","v":{"$error":"#REF!"}},null,{"$error":"#REF!"},null,{"$error":"#REF!"},{"$f":"('Teklif Mek.Girişi'!K84)","v":0},{"$error":"#REF!"},null,{"$error":"#REF!"},null,0,{"$error":"#REF!"},null,null,0,null,{"$error":"#DIV/0!"},0,0,0,0,0,null,0]
["",{"$f":"'Görevli Kişiler'!#REF!","v":{"$error":"#REF!"}},{"$f":"'Görevli Kişiler'!#REF!","v":{"$error":"#REF!"}},{"$f":"('Bilgi Girişi'!F104)","v":0},{"$f":"(#REF!)","v":{"$error":"#REF!"}},{"$f":"'Görevli Kişiler'!#REF!","v":{"$error":"#REF!"}},null,{"$error":"#REF!"},null,{"$error":"#REF!"},{"$f":"('Teklif Mek.Girişi'!K85)","v":0},{"$error":"#REF!"},null,{"$error":"#REF!"},null,0,{"$error":"#REF!"},null,null,0,null,{"$error":"#DIV/0!"},0,0,0,0,0,null,0]
["",{"$f":"'Görevli Kişiler'!#REF!","v":{"$error":"#REF!"}},{"$f":"'Görevli Kişiler'!#REF!","v":{"$error":"#REF!"}},{"$f":"('Bilgi Girişi'!F105)","v":0},{"$f":"(#REF!)","v":{"$error":"#REF!"}},{"$f":"'Görevli Kişiler'!#REF!","v":{"$error":"#REF!"}},null,{"$error":"#REF!"},null,{"$error":"#REF!"},{"$f":"('Teklif Mek.Girişi'!K86)","v":0},{"$error":"#REF!"},null,{"$error":"#REF!"},null,0,{"$error":"#REF!"},null,null,0,null,{"$error":"#DIV/0!"},0,0,0,0,0,null,0]
["",{"$f":"'Görevli Kişiler'!#REF!","v":{"$error":"#REF!"}},{"$f":"'Görevli Kişiler'!#REF!","v":{"$error":"#REF!"}},{"$f":"('Bilgi Girişi'!F106)","v":0},{"$f":"(#REF!)","v":{"$error":"#REF!"}},{"$f":"'Görevli Kişiler'!#REF!","v":{"$error":"#REF!"}},null,{"$error":"#REF!"},null,{"$error":"#REF!"},{"$f":"('Teklif Mek.Girişi'!K87)","v":0},{"$error":"#REF!"},null,{"$error":"#REF!"},null,0,{"$error":"#REF!"},null,null,0,null,{"$error":"#DIV/0!"},0,0,0,0,0,null,0]
["",{"$f":"'Görevli Kişiler'!#REF!","v":{"$error":"#REF!"}},{"$f":"'Görevli Kişiler'!#REF!","v":{"$error":"#REF!"}},{"$f":"('Bilgi Girişi'!F107)","v":0},{"$f":"(#REF!)","v":{"$error":"#REF!"}},{"$f":"'Görevli Kişiler'!#REF!","v":{"$error":"#REF!"}},null,{"$error":"#REF!"},null,{"$error":"#REF!"},{"$f":"('Teklif Mek.Girişi'!K88)","v":0},{"$error":"#REF!"},null,{"$error":"#REF!"},null,0,{"$error":"#REF!"},null,null,0,null,{"$error":"#DIV/0!"},0,0,0,0,0,null,0]
["",{"$f":"'Görevli Kişiler'!#REF!","v":{"$error":"#REF!"}},{"$f":"'Görevli Kişiler'!#REF!","v":{"$error":"#REF!"}},{"$f":"('Bilgi Girişi'!F108)","v":0},{"$f":"(#REF!)","v":{"$error":"#REF!"}},{"$f":"'Görevli Kişiler'!#REF!","v":{"$error":"#REF!"}},null,{"$error":"#REF!"},null,{"$error":"#REF!"},{"$f":"('Teklif Mek.Girişi'!K89)","v":0},{"$error":"#REF!"},null,{"$error":"#REF!"},null,0,{"$error":"#REF!"},null,null,0,null,{"$error":"#DIV/0!"},0,0,0,0,0,null,0]
["",{"$f":"'Görevli Kişiler'!#REF!","v":{"$error":"#REF!"}},{"$f":"'Görevli Kişiler'!#REF!","v":{"$error":"#REF!"}},{"$f":"('Bilgi Girişi'!F109)","v":0},{"$f":"(#REF!)","v":{"$error":"#REF!"}},{"$f":"'Görevli Kişiler'!#REF!","v":{"$error":"#REF!"}},null,{"$error":"#REF!"},null,{"$error":"#REF!"},{"$f":"('Teklif Mek.Girişi'!K90)","v":0},{"$error":"#REF!"},null,{"$error":"#REF!"},null,0,{"$error":"#REF!"},null,null,0,null,{"$error":"#DIV/0!"},0,0,0,0,0,null,0]
["",{"$f":"'Görevli Kişiler'!#REF!","v":{"$error":"#REF!"}},{"$f":"'Görevli Kişiler'!#REF!","v":{"$error":"#REF!"}},{"$f":"('Bilgi Girişi'!F110)","v":0},{"$f":"(#REF!)","v":{"$error":"#REF!"}},{"$f":"'Görevli Kişiler'!#REF!","v":{"$error":"#REF!"}},null,{"$error":"#REF!"},null,{"$error":"#REF!"},{"$f":"('Teklif Mek.Girişi'!K91)","v":0},{"$error":"#REF!"},null,{"$error":"#REF!"},null,0,{"$error":"#REF!"},null,null,0,null,{"$error":"#DIV/0!"},0,0,0,0,0,null,0]
["",{"$f":"'Görevli Kişiler'!#REF!","v":{"$error":"#REF!"}},{"$f":"'Görevli Kişiler'!#REF!","v":{"$error":"#REF!"}},{"$f":"('Bilgi Girişi'!F111)","v":0},{"$f":"(#REF!)","v":{"$error":"#REF!"}},{"$f":"'Görevli Kişiler'!#REF!","v":{"$error":"#REF!"}},null,{"$error":"#REF!"},null,{"$error":"#REF!"},{"$f":"('Teklif Mek.Girişi'!K92)","v":0},{"$error":"#REF!"},null,{"$error":"#REF!"},null,0,{"$error":"#REF!"},null,null,0,null,{"$error":"#DIV/0!"},0,0,0,0,0,null,0]
["",{"$f":"'Görevli Kişiler'!#REF!","v":{"$error":"#REF!"}},{"$f":"'Görevli Kişiler'!#REF!","v":{"$error":"#REF!"}},{"$f":"('Bilgi Girişi'!F112)","v":0},{"$f":"(#REF!)","v":{"$error":"#REF!"}},{"$f":"'Görevli Kişiler'!#REF!","v":{"$error":"#REF!"}},null,{"$error":"#REF!"},null,{"$error":"#REF!"},{"$f":"('Teklif Mek.Girişi'!K93)","v":0},{"$error":"#REF!"},null,{"$error":"#REF!"},null,0,{"$error":"#REF!"},null,null,0,null,{"$error":"#DIV/0!"},0,0,0,0,0,null,0]
["",{"$f":"'Görevli Kişiler'!#REF!","v":{"$error":"#REF!"}},{"$f":"'Görevli Kişiler'!#REF!","v":{"$error":"#REF!"}},{"$f":"('Bilgi Girişi'!F113)","v":0},{"$f":"(#REF!)","v":{"$error":"#REF!"}},{"$f":"'Görevli Kişiler'!#REF!","v":{"$error":"#REF!"}},null,{"$error":"#REF!"},null,{"$error":"#REF!"},{"$f":"('Teklif Mek.Girişi'!K94)","v":0},{"$error":"#REF!"},null,{"$error":"#REF!"},null,0,{"$error":"#REF!"},null,null,0,null,{"$error":"#DIV/0!"},0,0,0,0,0,null,0]
["",{"$f":"'Görevli Kişiler'!#REF!","v":{"$error":"#REF!"}},{"$f":"'Görevli Kişiler'!#REF!","v":{"$error":"#REF!"}},{"$f":"('Bilgi Girişi'!F114)","v":0},{"$f":"(#REF!)","v":{"$error":"#REF!"}},{"$f":"'Görevli Kişiler'!#REF!","v":{"$error":"#REF!"}},null,{"$error":"#REF!"},null,{"$error":"#REF!"},{"$f":"('Teklif Mek.Girişi'!K95)","v":0},{"$error":"#REF!"},null,{"$error":"#REF!"},null,0,{"$error":"#REF!"},null,null,0,null,{"$error":"#DIV/0!"},0,0,0,0,0,null,0]
["",{"$f":"'Görevli Kişiler'!#REF!","v":{"$error":"#REF!"}},{"$f":"'Görevli Kişiler'!#REF!","v":{"$error":"#REF!"}},{"$f":"('Bilgi Girişi'!F115)","v":0},{"$f":"(#REF!)","v":{"$error":"#REF!"}},{"$f":"'Görevli Kişiler'!#REF!","v":{"$error":"#REF!"}},null,{"$error":"#REF!"},null,{"$error":"#REF!"},{"$f":"('Teklif Mek.Girişi'!K96)","v":0},{"$error":"#REF!"},null,{"$error":"#REF!"},null,0,{"$error":"#REF!"},null,null,0,null,{"$error":"#DIV/0!"},0,0,0,0,0,null,0]
["",{"$f":"'Görevli Kişiler'!#REF!","v":{"$error":"#REF!"}},{"$f":"'Görevli Kişiler'!#REF!","v":{"$error":"#REF!"}},{"$f":"('Bilgi Girişi'!F116)","v":0},{"$f":"(#REF!)","v":{"$error":"#REF!"}},{"$f":"'Görevli Kişiler'!#REF!","v":{"$error":"#REF!"}},null,{"$error":"#REF!"},null,{"$error":"#REF!"},{"$f":"('Teklif Mek.Girişi'!K97)","v":0},{"$error":"#REF!"},null,{"$error":"#REF!"},null,0,{"$error":"#REF!"},null,null,0,null,{"$error":"#DIV/0!"},0,0,0,0,0,null,0]
["",{"$f":"'Görevli Kişiler'!#REF!","v":{"$error":"#REF!"}},{"$f":"'Görevli Kişiler'!#REF!","v":{"$error":"#REF!"}},{"$f":"('Bilgi Girişi'!F117)","v":0},{"$f":"(#REF!)","v":{"$error":"#REF!"}},{"$f":"'Görevli Kişiler'!#REF!","v":{"$error":"#REF!"}},null,{"$error":"#REF!"},null,{"$error":"#REF!"},{"$f":"('Teklif Mek.Girişi'!K98)","v":0},{"$error":"#REF!"},null,{"$error":"#REF!"},null,0,{"$error":"#REF!"},null,null,0,null,{"$error":"#DIV/0!"},0,0,0,0,0,null,0]
["",{"$f":"'Görevli Kişiler'!#REF!","v":{"$error":"#REF!"}},{"$f":"'Görevli Kişiler'!#REF!","v":{"$error":"#REF!"}},{"$f":"('Bilgi Girişi'!F118)","v":0},{"$f":"(#REF!)","v":{"$error":"#REF!"}},{"$f":"'Görevli Kişiler'!#REF!","v":{"$error":"#REF!"}},null,{"$error":"#REF!"},null,{"$error":"#REF!"},{"$f":"('Teklif Mek.Girişi'!K99)","v":0},{"$error":"#REF!"},null,{"$error":"#REF!"},null,0,{"$error":"#REF!"},null,null,0,null,{"$error":"#DIV/0!"},0,0,0,0,0,null,0]
["",{"$f":"'Görevli Kişiler'!#REF!","v":{"$error":"#REF!"}},{"$f":"'Görevli Kişiler'!#REF!","v":{"$error":"#REF!"}},{"$f":"('Bilgi Girişi'!F119)","v":0},{"$f":"(#REF!)","v":{"$error":"#REF!"}},{"$f":"'Görevli Kişiler'!#REF!","v":{"$error":"#REF!"}},null,{"$error":"#REF!"},null,{"$error":"#REF!"},{"$f":"('Teklif Mek.Girişi'!K100)","v":0},{"$error":"#REF!"},null,{"$error":"#REF!"},null,0,{"$error":"#REF!"},null,null,0,null,{"$error":"#DIV/0!"},0,0,0,0,0,null,0]
["",{"$f":"'Görevli Kişiler'!#REF!","v":{"$error":"#REF!"}},{"$f":"'Görevli Kişiler'!#REF!","v":{"$error":"#REF!"}},{"$f":"('Bilgi Girişi'!F120)","v":0},{"$f":"(#REF!)","v":{"$error":"#REF!"}},{"$f":"'Görevli Kişiler'!#REF!","v":{"$error":"#REF!"}},null,{"$error":"#REF!"},null,{"$error":"#REF!"},{"$f":"('Teklif Mek.Girişi'!K101)","v":0},{"$error":"#REF!"},null,{"$error":"#REF!"},null,0,{"$error":"#REF!"},null,null,0,null,{"$error":"#DIV/0!"},0,0,0,0,0,null,0]
["",{"$f":"'Görevli Kişiler'!#REF!","v":{"$error":"#REF!"}},{"$f":"'Görevli Kişiler'!#REF!","v":{"$error":"#REF!"}},{"$f":"('Bilgi Girişi'!F121)","v":0},{"$f":"(#REF!)","v":{"$error":"#REF!"}},{"$f":"'Görevli Kişiler'!#REF!","v":{"$error":"#REF!"}},null,{"$error":"#REF!"},null,{"$error":"#REF!"},{"$f":"('Teklif Mek.Girişi'!K102)","v":0},{"$error":"#REF!"},null,{"$error":"#REF!"},null,0,{"$error":"#REF!"},null,null,0,null,{"$error":"#DIV/0!"},0,0,0,0,0,null,0]
["",{"$f":"'Görevli Kişiler'!#REF!","v":{"$error":"#REF!"}},{"$f":"'Görevli Kişiler'!#REF!","v":{"$error":"#REF!"}},{"$f":"('Bilgi Girişi'!F122)","v":0},{"$f":"(#REF!)","v":{"$error":"#REF!"}},{"$f":"'Görevli Kişiler'!#REF!","v":{"$error":"#REF!"}},null,{"$error":"#REF!"},null,{"$error":"#REF!"},{"$f":"('Teklif Mek.Girişi'!K103)","v":0},{"$error":"#REF!"},null,{"$error":"#REF!"},null,0,{"$error":"#REF!"},null,null,0,null,{"$error":"#DIV/0!"},0,0,0,0,0,null,0]
["",{"$f":"'Görevli Kişiler'!#REF!","v":{"$error":"#REF!"}},{"$f":"'Görevli Kişiler'!#REF!","v":{"$error":"#REF!"}},{"$f":"('Bilgi Girişi'!F123)","v":0},{"$f":"(#REF!)","v":{"$error":"#REF!"}},{"$f":"'Görevli Kişiler'!#REF!","v":{"$error":"#REF!"}},null,{"$f":"ROUND(SUM(E107*G107),2)","v":{"$error":"#REF!"}},null,{"$f":"ROUND(SUM(E107*I107),2)","v":{"$error":"#REF!"}},{"$f":"('Teklif Mek.Girişi'!K104)","v":0},{"$f":"ROUND(SUM(E107*K107),2)","v":{"$error":"#REF!"}},null,{"$f":"ROUND(SUM(E107*M107),2)","v":{"$error":"#REF!"}},null,0,{"$f":"ROUND(SUM(E107*P107),2)","v":{"$error":"#REF!"}},null,null,0,null,{"$error":"#DIV/0!"},0,0,0,0,0,null,0]
["",{"$f":"'Görevli Kişiler'!#REF!","v":{"$error":"#REF!"}},{"$f":"'Görevli Kişiler'!#REF!","v":{"$error":"#REF!"}},{"$f":"('Bilgi Girişi'!F124)","v":0},{"$f":"(#REF!)","v":{"$error":"#REF!"}},{"$f":"'Görevli Kişiler'!#REF!","v":{"$error":"#REF!"}},null,{"$f":"ROUND(SUM(E108*G108),2)","v":{"$error":"#REF!"}},null,{"$f":"ROUND(SUM(E108*I108),2)","v":{"$error":"#REF!"}},{"$f":"('Teklif Mek.Girişi'!K105)","v":0},{"$f":"ROUND(SUM(E108*K108),2)","v":{"$error":"#REF!"}},null,{"$f":"ROUND(SUM(E108*M108),2)","v":{"$error":"#REF!"}},null,0,{"$f":"ROUND(SUM(E108*P108),2)","v":{"$error":"#REF!"}},null,null,0,null,{"$error":"#DIV/0!"},0,0,0,0,0,null,0]
["",{"$f":"'Görevli Kişiler'!#REF!","v":{"$error":"#REF!"}},{"$f":"'Görevli Kişiler'!#REF!","v":{"$error":"#REF!"}},{"$f":"('Bilgi Girişi'!F125)","v":0},{"$f":"(#REF!)","v":{"$error":"#REF!"}},{"$f":"'Görevli Kişiler'!#REF!","v":{"$error":"#REF!"}},null,{"$f":"ROUND(SUM(E109*G109),2)","v":{"$error":"#REF!"}},null,{"$f":"ROUND(SUM(E109*I109),2)","v":{"$error":"#REF!"}},{"$f":"('Teklif Mek.Girişi'!K106)","v":0},{"$f":"ROUND(SUM(E109*K109),2)","v":{"$error":"#REF!"}},null,{"$f":"ROUND(SUM(E109*M109),2)","v":{"$error":"#REF!"}},null,0,{"$f":"ROUND(SUM(E109*P109),2)","v":{"$error":"#REF!"}},null,null,0,null,{"$error":"#DIV/0!"},0,0,0,0,0,null,0]
[1,{"$f":"'Görevli Kişiler'!#REF!","v":{"$error":"#REF!"}},{"$f":"'Görevli Kişiler'!#REF!","v":{"$error":"#REF!"}},{"$f":"('Bilgi Girişi'!F126)","v":0},{"$f":"(#REF!)","v":{"$error":"#REF!"}},{"$f":"'Görevli Kişiler'!#REF!","v":{"$error":"#REF!"}},null,{"$f":"ROUND(SUM(E110*G110),2)","v":{"$error":"#REF!"}},null,{"$f":"ROUND(SUM(E110*I110),2)","v":{"$error":"#REF!"}},{"$f":"('Teklif Mek.Girişi'!K107)","v":0},{"$f":"ROUND(SUM(E110*K110),2)","v":{"$error":"#REF!"}},null,{"$f":"ROUND(SUM(E110*M110),2)","v":{"$error":"#REF!"}},null,0,{"$f":"ROUND(SUM(E110*P110),2)","v":{"$error":"#REF!"}},null,null,0,null,{"$error":"#DIV/0!"},0,0,0,0,0,null,0]
[null,"Kişiler / Firmalarca Bildirilen Yaklaşık  Maliyet Fiyatları Toplamı ( KDV HARİÇ )",null,null,null,null," TOPLAM",{"$f":"SUM(H11:H40)","v":8862.2999999999993}," TOPLAM",{"$f":"SUM(J11:J40)","v":9907.2999999999993}," TOPLAM",{"$f":"SUM(L11:L40)","v":10722.3}," TOPLAM",{"$f":"SUM(N11:N40)","v":0},null," TOPLAM",{"$f":"SUM(Q11:Q40)","v":9883.1299999999992}]
[]
[null,null,"           İdaremizcen ihtiyaç duyulan ve satın alınması düşünülen aşağıda cinsi, özellikleri ve miktarları yazılı malların /  hizmetlerin 4734 Sayılı Kamu İhale Kanunu'nun 9'uncu Maddesi gereğince yaklaşık maliyetinin tesbitine esas olmak  üzere; ilgili kişi kurum ve firmalardan yaklaşık maliyetinin tesbitine esas olmak üzere,  her türlü fiyat araştırması yapılmıştır. Araştırma sonuçları yukarıda tabloda gösterilmiştir."]
[null,null,"          Yukarıda  açıklandığı  üzere, ihaleye çıkılması  düşünülen  mal  / hizmetlerin  fiyat  araştırması neticesinde;   4734  Sayılı  İhale  Kanunu'nun  9.  Maddesi gereğince yaklaşık  maliyetinin  KDV  hariç yukarıda belirtildiği  gibi takdir ve tesbit edilerek iş bu Hesap Cetveli tarafımca / tarafımızca düzenlenerek imza altına alınmıştır.  "]
[null,"Komisyon Başkanı"]
[]
[null,{"$f":"('Görevli Kişiler'!D27)","v":"Tarık KENDİRLİK"},null,null,null,null,{"$f":"('Görevli Kişiler'!D28)","v":"Mustafa TOPDAL"},null,null,null,null,null,{"$f":"('Görevli Kişiler'!D29)","v":"Sema İNAL"}]
[null,{"$f":"('Görevli Kişiler'!F27)","v":"Müdür Yardımcısı"},null,null,null,null,{"$f":"('Görevli Kişiler'!F28)","v":"Öğretmen"},null,null,null,null,null,{"$f":"('Görevli Kişiler'!F29)","v":"Öğretmen"}]
[]
[null,"Not:Yaklaşık Maliye Hesap Cetveli ve Ekleri İhale Onay Belgesi'ne Eklenecektir."]

{"sheet":"Onay Bel","index":6,"n_rows":30,"n_cols":5,"rows_kept":30,"cut":false,"hidden":false,"merged":[[29,4,29,6],[6,1,6,2],[7,1,7,2],[8,1,8,2],[9,1,9,2],[19,1,20,2],[25,1,26,3],[24,4,24,6],[25,4,25,6],[27,4,27,6],[26,4,26,6],[28,4,28,6],[11,3,11,6],[12,3,12,6],[13,3,13,6],[14,3,14,6],[15,3,18,6],[6,3,6,6],[7,3,7,6],[8,3,8,6],[9,3,9,6],[10,3,10,6],[10,1,10,2],[11,1,11,2],[12,1,12,2],[13,1,13,2],[14,1,14,2],[1,1,1,6],[2,1,2,2],[2,3,2,6],[3,1,3,2],[0,1,0,6],[3,3,3,6],[33,1,33,6],[35,1,35,6],[36,1,36,6],[37,1,37,6],[4,1,4,6],[29,1,29,3],[23,4,23,6],[15,1,18,2],[19,3,20,6],[21,1,21,6],[22,1,22,6],[5,1,5,6],[23,1,23,3],[24,1,24,3],[27,1,27,3],[28,1,28,3]]}
[null,"O N A Y    B E L G E S İ"]
[null,"Ek-1                                                             O N A Y   B E L G E S İ"]
[null,"İHALEYİ YAPAN İDARENİN ADI",null,{"$f":"CONCATENATE(('Görevli Kişiler'!E96)&\"Şahinbey \"&('Görevli Kişiler'!E5))","v":"Şahinbey DR.CEMİL KARSLIGİL  İLKOKULU"}]
[null,"BELGE TARİH VE SAYISI",null,{"$f":"CONCATENATE(TEXT('Bilgi Girişi'!G10,\"gg.aa.yyyy\")&\"  /  \"&('Bilgi Girişi'!G11))","v":"12.08.2022  /  403"}]
[null,{"$f":"('Görevli Kişiler'!E5)","v":"DR.CEMİL KARSLIGİL  İLKOKULU"}]
[null,"İHALE İLE İLGİLİ BİLGİLER"]
[null,"İşin Adı, Tanımı ve Niteliği",null,{"$f":"CONCATENATE(('Görevli Kişiler'!E6))","v":"TEMİZLİK MALZEMESİ ALIMI"}]
[null,"İşin Miktarı",null,{"$f":"('Bilgi Girişi'!H3)","v":1}]
[null,"Yaklaşık Maliyet",null,"-"]
[null,"Kullanılabilir Ödenek Tutarı",null,{"$f":"('Bilgi Girişi'!H5)","v":"-"}]
[null,"Yatırım Proje Numarası (varsa)",null,"-"]
[null,"Bütçe Tertibi (varsa)",null,{"$f":"CONCATENATE('Bilgi Girişi'!E5&\"  /  \"&('Bilgi Girişi'!E4))","v":"40.149.423.18772-13.68.01  /  03.2"}]
[null,"Avans Verilecekse Şartları",null,"Verilmeyecek"]
[null,"İhale Usulü",null,"4734 Sayılı Kamu İhale Kanununun 22/d maddesi gereğince; doğrudan temin yolu ile"]
[null,"İlanın Şekli ve Adedi",null,"İlan Yapılmayacak"]
[null,"Doküman Satış Bedeli",null,"Yok"]
[]
[]
[]
[null,"Fiyat Farkı Ödenecekse Dayanağı Bakanlar Kurulu Kararı",null,"Ödenmeyecek"]
[]
[null,"İHALE İLE İLGİLİ DİĞER AÇIKLAMALAR"]
[null,"ONAY"]
[null,"Yukarıda belirtilen malın alınması için ihaleye çıkılması hususunu\n onaylarınıza arz ederim.",null,null,"Uygundur"]
[null,{"$f":"CONCATENATE(TEXT('Bilgi Girişi'!G10,\"gg.aa.yyyy\"))","v":"12.08.2022"},null,null,{"$f":"CONCATENATE(TEXT('Bilgi Girişi'!G10,\"gg.aa.yyyy\"))","v":"12.08.2022"}]
[null,null,null,null,"İhale Yetkilisi"]
[]
[null,{"$f":"('Görevli Kişiler'!D24)","v":"Hakan ÇİTE"},null,null,{"$f":"('Görevli Kişiler'!D21)","v":"Mehmet ÖZDEMİR"}]
[null,{"$f":"('Görevli Kişiler'!F24)","v":"Müdür Yardımcısı"},null,null,{"$f":"('Görevli Kişiler'!F21)","v":"Okul Müdürü"}]
[null,"İmzası",null,null,"İmzası"]

{"sheet":"Piyasa Fiy.Arş Tut.","index":7,"n_rows":53,"n_cols":14,"rows_kept":53,"cut":false,"hidden":false,"merged":[[0,1,0,13],[7,2,8,2],[7,5,7,6],[7,7,7,8],[6,4,6,12],[7,3,8,3],[7,4,8,4],[7,1,8,1],[7,9,7,10],[1,1,1,13],[2,4,2,13],[3,4,3,13],[4,4,4,13],[2,1,2,3],[3,1,3,3],[4,1,4,3],[51,5,51,7],[52,5,52,7],[9,13,38,13],[42,6,42,11],[42,12,42,13],[41,3,41,13],[43,6,43,11],[44,1,44,13],[39,4,39,5],[41,1,42,1],[41,2,42,2],[42,3,42,5],[5,1,5,3],[50,5,50,7],[40,1,40,13],[43,3,43,5],[45,2,45,3],[48,2,48,3],[49,2,49,3],[45,4,45,8],[48,4,48,8],[49,4,49,8],[45,9,45,13],[48,9,48,13],[49,9,49,13],[6,1,6,2],[7,11,7,12],[39,1,39,3]]}
[null,"PİYASA FİYAT ARAŞTIRMA TUTANAĞI "]
[null,"PİYASA FİYAT ARAŞTIRMA TUTANAĞI "]
[null,"İdarenin Adı :",null,null,{"$f":"CONCATENATE(('Görevli Kişiler'!E96)&\"Şahinbey \"&('Görevli Kişiler'!E5))","v":"Şahinbey DR.CEMİL KARSLIGİL  İLKOKULU"}]
[null,"Proje No :",null,null,"Yok"]
[null,"Yapılan İş / Mal / Hizmetin Adı Niteliği",null,null,{"$f":"'Görevli Kişiler'!E6","v":"TEMİZLİK MALZEMESİ ALIMI"}]
[null,"Alım  İçin Yetkilendirilen Görevlilere İlişkin Onay Belgesi / Görevlendirme Onayı Tarih ve No.su",null,null,{"$f":"CONCATENATE(TEXT('Bilgi Girişi'!G7,\"gg.aa.yyyy\")&\" / \"&('Bilgi Girişi'!G8))","v":"08.06.2021 / 26167430"}]
[null,"Düzenleme Tarihi",null,{"$f":"('Bilgi Girişi'!G9)","v":"2021-12-07"},"Firmalar ve Fiyat Teklifleri (KDV Hariç) TL"]
[null,"Sıra No ","Mal / Hizmet / Yapım İşi","MALZEMENİN \n ÖZELLİKLERİ","Miktar",{"$f":"('Teklif Mek.Girişi'!G6)","v":"A FİRMASI"},null,{"$f":"('Teklif Mek.Girişi'!I6)","v":"B FİRMASI"},null,{"$f":"('Teklif Mek.Girişi'!K6)","v":"C FİRMASI"},null,{"$f":"('Teklif Mek.Girişi'!M6)","v":0}]
[null,null,null,null,null,"Birim Fiyat","Toplam Fiyatı","Birim Fiyat","Toplam Fiyatı","Birim Fiyat","Toplam Fiyatı","Birim Fiyat","Toplam Fiyatı"]
[null,{"$f":"('Bilgi Girişi'!B27)","v":1},{"$f":"('Bilgi Girişi'!C27)","v":"ELEKTRİK TESİSATI ONARIMI"},{"$f":"('Bilgi Girişi'!F27)","v":0},{"$f":"('Bilgi Girişi'!H27)","v":1},{"$f":"('Teklif Mek.Girişi'!G8)","v":8722.2999999999993},{"$f":"('Teklif Mek.Girişi'!H8)","v":8722.2999999999993},{"$f":"('Teklif Mek.Girişi'!I8)","v":9732.2999999999993},{"$f":"('Teklif Mek.Girişi'!J8)","v":9732.2999999999993},{"$f":"('Teklif Mek.Girişi'!K8)","v":10722.3},{"$f":"('Teklif Mek.Girişi'!L8)","v":10722.3},{"$f":"('Teklif Mek.Girişi'!M8)","v":0},{"$f":"('Teklif Mek.Girişi'!N8)","v":0},"Yaklaşık Maliyeti  (KDV Hariç)"]
[null,{"$f":"('Bilgi Girişi'!B28)","v":2},{"$f":"('Bilgi Girişi'!C28)","v":"SU TESİSATI ONARIMI"},{"$f":"('Bilgi Girişi'!F28)","v":0},{"$f":"('Bilgi Girişi'!H28)","v":1},{"$f":"('Teklif Mek.Girişi'!G9)","v":15},{"$f":"('Teklif Mek.Girişi'!H9)","v":15},{"$f":"('Teklif Mek.Girişi'!I9)","v":20},{"$f":"('Teklif Mek.Girişi'!J9)","v":20},{"$f":"('Teklif Mek.Girişi'!K9)","v":0},{"$f":"('Teklif Mek.Girişi'!L9)","v":0},{"$f":"('Teklif Mek.Girişi'!M9)","v":0},{"$f":"('Teklif Mek.Girişi'!N9)","v":0}]
[null,{"$f":"('Bilgi Girişi'!B29)","v":3},{"$f":"('Bilgi Girişi'!C29)","v":"BOYA ONARIMI"},{"$f":"('Bilgi Girişi'!F29)","v":0},{"$f":"('Bilgi Girişi'!H29)","v":5},{"$f":"('Teklif Mek.Girişi'!G10)","v":20},{"$f":"('Teklif Mek.Girişi'!H10)","v":100},{"$f":"('Teklif Mek.Girişi'!I10)","v":25},{"$f":"('Teklif Mek.Girişi'!J10)","v":125},{"$f":"('Teklif Mek.Girişi'!K10)","v":0},{"$f":"('Teklif Mek.Girişi'!L10)","v":0},{"$f":"('Teklif Mek.Girişi'!M10)","v":0},{"$f":"('Teklif Mek.Girişi'!N10)","v":0}]
[null,{"$f":"('Bilgi Girişi'!B30)","v":4},{"$f":"('Bilgi Girişi'!C30)","v":"ÇATI ONARIMI"},{"$f":"('Bilgi Girişi'!F30)","v":0},{"$f":"('Bilgi Girişi'!H30)","v":1},{"$f":"('Teklif Mek.Girişi'!G11)","v":25},{"$f":"('Teklif Mek.Girişi'!H11)","v":25},{"$f":"('Teklif Mek.Girişi'!I11)","v":30},{"$f":"('Teklif Mek.Girişi'!J11)","v":30},{"$f":"('Teklif Mek.Girişi'!K11)","v":0},{"$f":"('Teklif Mek.Girişi'!L11)","v":0},{"$f":"('Teklif Mek.Girişi'!M11)","v":0},{"$f":"('Teklif Mek.Girişi'!N11)","v":0}]
[null,{"$f":"('Bilgi Girişi'!B31)","v":0},{"$f":"('Bilgi Girişi'!C31)","v":0},{"$f":"('Bilgi Girişi'!F31)","v":0},{"$f":"('Bilgi Girişi'!H31)","v":0},{"$f":"('Teklif Mek.Girişi'!G12)","v":0},{"$f":"('Teklif Mek.Girişi'!H12)","v":0},{"$f":"('Teklif Mek.Girişi'!I12)","v":0},{"$f":"('Teklif Mek.Girişi'!J12)","v":0},{"$f":"('Teklif Mek.Girişi'!K12)","v":0},{"$f":"('Teklif Mek.Girişi'!L12)","v":0},{"$f":"('Teklif Mek.Girişi'!M12)","v":0},{"$f":"('Teklif Mek.Girişi'!N12)","v":0}]
[null,{"$f":"('Bilgi Girişi'!B32)","v":0},{"$f":"('Bilgi Girişi'!C32)","v":0},{"$f":"('Bilgi Girişi'!F32)","v":0},{"$f":"('Bilgi Girişi'!H32)","v":0},{"$f":"('Teklif Mek.Girişi'!G13)","v":0},{"$f":"('Teklif Mek.Girişi'!H13)","v":0},{"$f":"('Teklif Mek.Girişi'!I13)","v":0},{"$f":"('Teklif Mek.Girişi'!J13)","v":0},{"$f":"('Teklif Mek.Girişi'!K13)","v":0},{"$f":"('Teklif Mek.Girişi'!L13)","v":0},{"$f":"('Teklif Mek.Girişi'!M13)","v":0},{"$f":"('Teklif Mek.Girişi'!N13)","v":0}]
[null,{"$f":"('Bilgi Girişi'!B33)","v":0},{"$f":"('Bilgi Girişi'!C33)","v":0},{"$f":"('Bilgi Girişi'!F33)","v":0},{"$f":"('Bilgi Girişi'!H33)","v":0},{"$f":"('Teklif Mek.Girişi'!G14)","v":0},{"$f":"('Teklif Mek.Girişi'!H14)","v":0},{"$f":"('Teklif Mek.Girişi'!I14)","v":0},{"$f":"('Teklif Mek.Girişi'!J14)","v":0},{"$f":"('Teklif Mek.Girişi'!K14)","v":0},{"$f":"('Teklif Mek.Girişi'!L14)","v":0},{"$f":"('Teklif Mek.Girişi'!M14)","v":0},{"$f":"('Teklif Mek.Girişi'!N14)","v":0}]
[null,{"$f":"('Bilgi Girişi'!B34)","v":0},{"$f":"('Bilgi Girişi'!C34)","v":0},{"$f":"('Bilgi Girişi'!F34)","v":0},{"$f":"('Bilgi Girişi'!H34)","v":0},{"$f":"('Teklif Mek.Girişi'!G15)","v":0},{"$f":"('Teklif Mek.Girişi'!H15)","v":0},{"$f":"('Teklif Mek.Girişi'!I15)","v":0},{"$f":"('Teklif Mek.Girişi'!J15)","v":0},{"$f":"('Teklif Mek.Girişi'!K15)","v":0},{"$f":"('Teklif Mek.Girişi'!L15)","v":0},{"$f":"('Teklif Mek.Girişi'!M15)","v":0},{"$f":"('Teklif Mek.Girişi'!N15)","v":0}]
[null,{"$f":"('Bilgi Girişi'!B35)","v":0},{"$f":"('Bilgi Girişi'!C35)","v":0},{"$f":"('Bilgi Girişi'!F35)","v":0},{"$f":"('Bilgi Girişi'!H35)","v":0},{"$f":"('Teklif Mek.Girişi'!G16)","v":0},{"$f":"('Teklif Mek.Girişi'!H16)","v":0},{"$f":"('Teklif Mek.Girişi'!I16)","v":0},{"$f":"('Teklif Mek.Girişi'!J16)","v":0},{"$f":"('Teklif Mek.Girişi'!K16)","v":0},{"$f":"('Teklif Mek.Girişi'!L16)","v":0},{"$f":"('Teklif Mek.Girişi'!M16)","v":0},{"$f":"('Teklif Mek.Girişi'!N16)","v":0}]
[null,{"$f":"('Bilgi Girişi'!B36)","v":0},{"$f":"('Bilgi Girişi'!C36)","v":0},{"$f":"('Bilgi Girişi'!F36)","v":0},{"$f":"('Bilgi Girişi'!H36)","v":0},{"$f":"('Teklif Mek.Girişi'!G17)","v":0},{"$f":"('Teklif Mek.Girişi'!H17)","v":0},{"$f":"('Teklif Mek.Girişi'!I17)","v":0},{"$f":"('Teklif Mek.Girişi'!J17)","v":0},{"$f":"('Teklif Mek.Girişi'!K17)","v":0},{"$f":"('Teklif Mek.Girişi'!L17)","v":0},{"$f":"('Teklif Mek.Girişi'!M17)","v":0},{"$f":"('Teklif Mek.Girişi'!N17)","v":0}]
[null,{"$f":"('Bilgi Girişi'!B37)","v":0},{"$f":"('Bilgi Girişi'!C37)","v":0},{"$f":"('Bilgi Girişi'!F37)","v":0},{"$f":"('Bilgi Girişi'!H37)","v":0},{"$f":"('Teklif Mek.Girişi'!G18)","v":0},{"$f":"('Teklif Mek.Girişi'!H18)","v":0},{"$f":"('Teklif Mek.Girişi'!I18)","v":0},{"$f":"('Teklif Mek.Girişi'!J18)","v":0},{"$f":"('Teklif Mek.Girişi'!K18)","v":0},{"$f":"('Teklif Mek.Girişi'!L18)","v":0},{"$f":"('Teklif Mek.Girişi'!M18)","v":0},{"$f":"('Teklif Mek.Girişi'!N18)","v":0}]
[null,{"$f":"('Bilgi Girişi'!B38)","v":0},{"$f":"('Bilgi Girişi'!C38)","v":0},{"$f":"('Bilgi Girişi'!F38)","v":0},{"$f":"('Bilgi Girişi'!H38)","v":0},{"$f":"('Teklif Mek.Girişi'!G19)","v":0},{"$f":"('Teklif Mek.Girişi'!H19)","v":0},{"$f":"('Teklif Mek.Girişi'!I19)","v":0},{"$f":"('Teklif Mek.Girişi'!J19)","v":0},{"$f":"('Teklif Mek.Girişi'!K19)","v":0},{"$f":"('Teklif Mek.Girişi'!L19)","v":0},{"$f":"('Teklif Mek.Girişi'!M19)","v":0},{"$f":"('Teklif Mek.Girişi'!N19)","v":0}]
[null,{"$f":"('Bilgi Girişi'!B39)","v":0},{"$f":"('Bilgi Girişi'!C39)","v":0},{"$f":"('Bilgi Girişi'!F39)","v":0},{"$f":"('Bilgi Girişi'!H39)","v":0},{"$f":"('Teklif Mek.Girişi'!G20)","v":0},{"$f":"('Teklif Mek.Girişi'!H20)","v":0},{"$f":"('Teklif Mek.Girişi'!I20)","v":0},{"$f":"('Teklif Mek.Girişi'!J20)","v":0},{"$f":"('Teklif Mek.Girişi'!K20)","v":0},{"$f":"('Teklif Mek.Girişi'!L20)","v":0},{"$f":"('Teklif Mek.Girişi'!M20)","v":0},{"$f":"('Teklif Mek.Girişi'!N20)","v":0}]
[null,{"$f":"('Bilgi Girişi'!B40)","v":0},{"$f":"('Bilgi Girişi'!C40)","v":0},{"$f":"('Bilgi Girişi'!F40)","v":0},{"$f":"('Bilgi Girişi'!H40)","v":0},{"$f":"('Teklif Mek.Girişi'!G21)","v":0},{"$f":"('Teklif Mek.Girişi'!H21)","v":0},{"$f":"('Teklif Mek.Girişi'!I21)","v":0},{"$f":"('Teklif Mek.Girişi'!J21)","v":0},{"$f":"('Teklif Mek.Girişi'!K21)","v":0},{"$f":"('Teklif Mek.Girişi'!L21)","v":0},{"$f":"('Teklif Mek.Girişi'!M21)","v":0},{"$f":"('Teklif Mek.Girişi'!N21)","v":0}]
[null,{"$f":"('Bilgi Girişi'!B41)","v":0},{"$f":"('Bilgi Girişi'!C41)","v":0},{"$f":"('Bilgi Girişi'!F41)","v":0},{"$f":"('Bilgi Girişi'!H41)","v":0},{"$f":"('Teklif Mek.Girişi'!G22)","v":0},{"$f":"('Teklif Mek.Girişi'!H22)","v":0},{"$f":"('Teklif Mek.Girişi'!I22)","v":0},{"$f":"('Teklif Mek.Girişi'!J22)","v":0},{"$f":"('Teklif Mek.Girişi'!K22)","v":0},{"$f":"('Teklif Mek.Girişi'!L22)","v":0},{"$f":"('Teklif Mek.Girişi'!M22)","v":0},{"$f":"('Teklif Mek.Girişi'!N22)","v":0}]
[null,{"$f":"('Bilgi Girişi'!B42)","v":0},{"$f":"('Bilgi Girişi'!C42)","v":0},{"$f":"('Bilgi Girişi'!F42)","v":0},{"$f":"('Bilgi Girişi'!H42)","v":0},{"$f":"('Teklif Mek.Girişi'!G23)","v":0},{"$f":"('Teklif Mek.Girişi'!H23)","v":0},{"$f":"('Teklif Mek.Girişi'!I23)","v":0},{"$f":"('Teklif Mek.Girişi'!J23)","v":0},{"$f":"('Teklif Mek.Girişi'!K23)","v":0},{"$f":"('Teklif Mek.Girişi'!L23)","v":0},{"$f":"('Teklif Mek.Girişi'!M23)","v":0},{"$f":"('Teklif Mek.Girişi'!N23)","v":0}]
[null,{"$f":"('Bilgi Girişi'!B43)","v":0},{"$f":"('Bilgi Girişi'!C43)","v":0},{"$f":"('Bilgi Girişi'!F43)","v":0},{"$f":"('Bilgi Girişi'!H43)","v":0},{"$f":"('Teklif Mek.Girişi'!G24)","v":0},{"$f":"('Teklif Mek.Girişi'!H24)","v":0},{"$f":"('Teklif Mek.Girişi'!I24)","v":0},{"$f":"('Teklif Mek.Girişi'!J24)","v":0},{"$f":"('Teklif Mek.Girişi'!K24)","v":0},{"$f":"('Teklif Mek.Girişi'!L24)","v":0},{"$f":"('Teklif Mek.Girişi'!M24)","v":0},{"$f":"('Teklif Mek.Girişi'!N24)","v":0}]
[null,{"$f":"('Bilgi Girişi'!B44)","v":0},{"$f":"('Bilgi Girişi'!C44)","v":0},{"$f":"('Bilgi Girişi'!F44)","v":0},{"$f":"('Bilgi Girişi'!H44)","v":0},{"$f":"('Teklif Mek.Girişi'!G25)","v":0},{"$f":"('Teklif Mek.Girişi'!H25)","v":0},{"$f":"('Teklif Mek.Girişi'!I25)","v":0},{"$f":"('Teklif Mek.Girişi'!J25)","v":0},{"$f":"('Teklif Mek.Girişi'!K25)","v":0},{"$f":"('Teklif Mek.Girişi'!L25)","v":0},{"$f":"('Teklif Mek.Girişi'!M25)","v":0},{"$f":"('Teklif Mek.Girişi'!N25)","v":0}]
[null,{"$f":"('Bilgi Girişi'!B45)","v":0},{"$f":"('Bilgi Girişi'!C45)","v":0},{"$f":"('Bilgi Girişi'!F45)","v":0},{"$f":"('Bilgi Girişi'!H45)","v":0},{"$f":"('Teklif Mek.Girişi'!G26)","v":0},{"$f":"('Teklif Mek.Girişi'!H26)","v":0},{"$f":"('Teklif Mek.Girişi'!I26)","v":0},{"$f":"('Teklif Mek.Girişi'!J26)","v":0},{"$f":"('Teklif Mek.Girişi'!K26)","v":0},{"$f":"('Teklif Mek.Girişi'!L26)","v":0},{"$f":"('Teklif Mek.Girişi'!M26)","v":0},{"$f":"('Teklif Mek.Girişi'!N26)","v":0}]
[null,{"$f":"('Bilgi Girişi'!B46)","v":0},{"$f":"('Bilgi Girişi'!C46)","v":0},{"$f":"('Bilgi Girişi'!F46)","v":0},{"$f":"('Bilgi Girişi'!H46)","v":0},{"$f":"('Teklif Mek.Girişi'!G27)","v":0},{"$f":"('Teklif Mek.Girişi'!H27)","v":0},{"$f":"('Teklif Mek.Girişi'!I27)","v":0},{"$f":"('Teklif Mek.Girişi'!J27)","v":0},{"$f":"('Teklif Mek.Girişi'!K27)","v":0},{"$f":"('Teklif Mek.Girişi'!L27)","v":0},{"$f":"('Teklif Mek.Girişi'!M27)","v":0},{"$f":"('Teklif Mek.Girişi'!N27)","v":0}]
[null,{"$f":"('Bilgi Girişi'!B47)","v":0},{"$f":"('Bilgi Girişi'!C47)","v":0},{"$f":"('Bilgi Girişi'!F47)","v":0},{"$f":"('Bilgi Girişi'!H47)","v":0},{"$f":"('Teklif Mek.Girişi'!G28)","v":0},{"$f":"('Teklif Mek.Girişi'!H28)","v":0},{"$f":"('Teklif Mek.Girişi'!I28)","v":0},{"$f":"('Teklif Mek.Girişi'!J28)","v":0},{"$f":"('Teklif Mek.Girişi'!K28)","v":0},{"$f":"('Teklif Mek.Girişi'!L28)","v":0},{"$f":"('Teklif Mek.Girişi'!M28)","v":0},{"$f":"('Teklif Mek.Girişi'!N28)","v":0}]
[null,{"$f":"('Bilgi Girişi'!B48)","v":0},{"$f":"('Bilgi Girişi'!C48)","v":0},{"$f":"('Bilgi Girişi'!F48)","v":0},{"$f":"('Bilgi Girişi'!H48)","v":0},{"$f":"('Teklif Mek.Girişi'!G29)","v":0},{"$f":"('Teklif Mek.Girişi'!H29)","v":0},{"$f":"('Teklif Mek.Girişi'!I29)","v":0},{"$f":"('Teklif Mek.Girişi'!J29)","v":0},{"$f":"('Teklif Mek.Girişi'!K29)","v":0},{"$f":"('Teklif Mek.Girişi'!L29)","v":0},{"$f":"('Teklif Mek.Girişi'!M29)","v":0},{"$f":"('Teklif Mek.Girişi'!N29)","v":0}]
[null,{"$f":"('Bilgi Girişi'!B49)","v":0},{"$f":"('Bilgi Girişi'!C49)","v":0},{"$f":"('Bilgi Girişi'!F49)","v":0},{"$f":"('Bilgi Girişi'!H49)","v":0},{"$f":"('Teklif Mek.Girişi'!G30)","v":0},{"$f":"('Teklif Mek.Girişi'!H30)","v":0},{"$f":"('Teklif Mek.Girişi'!I30)","v":0},{"$f":"('Teklif Mek.Girişi'!J30)","v":0},{"$f":"('Teklif Mek.Girişi'!K30)","v":0},{"$f":"('Teklif Mek.Girişi'!L30)","v":0},{"$f":"('Teklif Mek.Girişi'!M30)","v":0},{"$f":"('Teklif Mek.Girişi'!N30)","v":0}]
[null,{"$f":"('Bilgi Girişi'!B50)","v":0},{"$f":"('Bilgi Girişi'!C50)","v":0},{"$f":"('Bilgi Girişi'!F50)","v":0},{"$f":"('Bilgi Girişi'!H50)","v":0},{"$f":"('Teklif Mek.Girişi'!G31)","v":0},{"$f":"('Teklif Mek.Girişi'!H31)","v":0},{"$f":"('Teklif Mek.Girişi'!I31)","v":0},{"$f":"('Teklif Mek.Girişi'!J31)","v":0},{"$f":"('Teklif Mek.Girişi'!K31)","v":0},{"$f":"('Teklif Mek.Girişi'!L31)","v":0},{"$f":"('Teklif Mek.Girişi'!M31)","v":0},{"$f":"('Teklif Mek.Girişi'!N31)","v":0}]
[null,{"$f":"('Bilgi Girişi'!B51)","v":0},{"$f":"('Bilgi Girişi'!C51)","v":0},{"$f":"('Bilgi Girişi'!F51)","v":0},{"$f":"('Bilgi Girişi'!H51)","v":0},{"$f":"('Teklif Mek.Girişi'!G32)","v":0},{"$f":"('Teklif Mek.Girişi'!H32)","v":0},{"$f":"('Teklif Mek.Girişi'!I32)","v":0},{"$f":"('Teklif Mek.Girişi'!J32)","v":0},{"$f":"('Teklif Mek.Girişi'!K32)","v":0},{"$f":"('Teklif Mek.Girişi'!L32)","v":0},{"$f":"('Teklif Mek.Girişi'!M32)","v":0},{"$f":"('Teklif Mek.Girişi'!N32)","v":0}]
[null,{"$f":"('Bilgi Girişi'!B52)","v":0},{"$f":"('Bilgi Girişi'!C52)","v":0},{"$f":"('Bilgi Girişi'!F52)","v":0},{"$f":"('Bilgi Girişi'!H52)","v":0},{"$f":"('Teklif Mek.Girişi'!G33)","v":0},{"$f":"('Teklif Mek.Girişi'!H33)","v":0},{"$f":"('Teklif Mek.Girişi'!I33)","v":0},{"$f":"('Teklif Mek.Girişi'!J33)","v":0},{"$f":"('Teklif Mek.Girişi'!K33)","v":0},{"$f":"('Teklif Mek.Girişi'!L33)","v":0},{"$f":"('Teklif Mek.Girişi'!M33)","v":0},{"$f":"('Teklif Mek.Girişi'!N33)","v":0}]
[null,{"$f":"('Bilgi Girişi'!B53)","v":0},{"$f":"('Bilgi Girişi'!C53)","v":0},{"$f":"('Bilgi Girişi'!F53)","v":0},{"$f":"('Bilgi Girişi'!H53)","v":0},{"$f":"('Teklif Mek.Girişi'!G34)","v":0},{"$f":"('Teklif Mek.Girişi'!H34)","v":0},{"$f":"('Teklif Mek.Girişi'!I34)","v":0},{"$f":"('Teklif Mek.Girişi'!J34)","v":0},{"$f":"('Teklif Mek.Girişi'!K34)","v":0},{"$f":"('Teklif Mek.Girişi'!L34)","v":0},{"$f":"('Teklif Mek.Girişi'!M34)","v":0},{"$f":"('Teklif Mek.Girişi'!N34)","v":0}]
[null,{"$f":"('Bilgi Girişi'!B54)","v":0},{"$f":"('Bilgi Girişi'!C54)","v":0},{"$f":"('Bilgi Girişi'!F54)","v":0},{"$f":"('Bilgi Girişi'!H54)","v":0},{"$f":"('Teklif Mek.Girişi'!G35)","v":0},{"$f":"('Teklif Mek.Girişi'!H35)","v":0},{"$f":"('Teklif Mek.Girişi'!I35)","v":0},{"$f":"('Teklif Mek.Girişi'!J35)","v":0},{"$f":"('Teklif Mek.Girişi'!K35)","v":0},{"$f":"('Teklif Mek.Girişi'!L35)","v":0},{"$f":"('Teklif Mek.Girişi'!M35)","v":0},{"$f":"('Teklif Mek.Girişi'!N35)","v":0}]
[null,{"$f":"('Bilgi Girişi'!B55)","v":0},{"$f":"('Bilgi Girişi'!C55)","v":0},{"$f":"('Bilgi Girişi'!F55)","v":0},{"$f":"('Bilgi Girişi'!H55)","v":0},{"$f":"('Teklif Mek.Girişi'!G36)","v":0},{"$f":"('Teklif Mek.Girişi'!H36)","v":0},{"$f":"('Teklif Mek.Girişi'!I36)","v":0},{"$f":"('Teklif Mek.Girişi'!J36)","v":0},{"$f":"('Teklif Mek.Girişi'!K36)","v":0},{"$f":"('Teklif Mek.Girişi'!L36)","v":0},{"$f":"('Teklif Mek.Girişi'!M36)","v":0},{"$f":"('Teklif Mek.Girişi'!N36)","v":0}]
[null,{"$f":"('Bilgi Girişi'!B56)","v":0},{"$f":"('Bilgi Girişi'!C56)","v":0},{"$f":"('Bilgi Girişi'!F56)","v":0},{"$f":"('Bilgi Girişi'!H56)","v":0},{"$f":"('Teklif Mek.Girişi'!G37)","v":0},{"$f":"('Teklif Mek.Girişi'!H37)","v":0},{"$f":"('Teklif Mek.Girişi'!I37)","v":0},{"$f":"('Teklif Mek.Girişi'!J37)","v":0},{"$f":"('Teklif Mek.Girişi'!K37)","v":0},{"$f":"('Teklif Mek.Girişi'!L37)","v":0},{"$f":"('Teklif Mek.Girişi'!M37)","v":0},{"$f":"('Teklif Mek.Girişi'!N37)","v":0}]
[null,null,null,null,"TOPLAM :",null,{"$f":"SUM(G10:G39)","v":8862.2999999999993}," TOPLAM",{"$f":"SUM(I10:I39)","v":9907.2999999999993}," TOPLAM",{"$f":"SUM(K10:K39)","v":10722.3}," TOPLAM",{"$f":"SUM(M10:M39)","v":0},{"$f":"(G40+I40+M40)/4","v":4692.3999999999996}]
[]
[null,"Sıra No ","Mal / Hizmet / Yapım İşi","Uygun Görülen Firma / Firmalar / Kişi"]
[null,null,null,"Adı",null,null,"Adresi",null,null,null,null,null,"Teklif Ettiği Fiyat TL"]
[null,1,{"$f":"E5","v":"TEMİZLİK MALZEMESİ ALIMI"},{"$f":"('Teklif Mek.Girişi'!G6)","v":"A FİRMASI"},null,null,{"$f":"('Teklif Mek.Girişi'!H112)","v":"Yaprak Mahallesi Şahinbey/GAZİANTEP"},null,null,null,null,null,{"$f":"('Teklif Mek.Girişi'!N112)","v":8862.2999999999993},"KDV Hariç"]
[null,"PİYASA FİYAT ARAŞTIRMA GÖREVLİLERİ :"]
[null,null,"Komisyon Başkanı",null,"Üye",null,null,null,null,"Komisyon Başkanı"]
[]
[]
[null,null,{"$f":"('Görevli Kişiler'!D33)","v":"Hakan ÇİTE"},null,{"$f":"('Görevli Kişiler'!D34)","v":"İnci ÇEVİK"},null,null,null,null,{"$f":"('Görevli Kişiler'!D35)","v":"Erol DURNA"}]
[null,null,{"$f":"('Görevli Kişiler'!F33)","v":"Müdür Yardımcısı"},null,{"$f":"('Görevli Kişiler'!F34)","v":"Öğretmen"},null,null,null,null,{"$f":"('Görevli Kişiler'!F35)","v":"Öğretmen"}]
[]
[]
[null,"M.Y.H.B.Y. Örnek No : 2"]

{"sheet":"Mua.veKabul Bel","index":8,"n_rows":304,"n_cols":110,"rows_kept":304,"cut":false,"hidden":false,"merged":[[31,1,31,2],[32,1,32,2],[38,0,82,4],[0,1,0,4],[2,1,2,4],[1,1,1,4],[27,1,27,4],[28,1,28,4],[25,1,25,4],[4,1,4,2],[5,1,5,2],[6,1,6,2],[7,1,7,2],[8,1,8,2],[9,1,9,2],[3,3,3,4],[3,1,3,2],[29,1,29,2],[9,3,9,4],[10,1,10,4],[4,3,4,4],[5,3,5,4],[6,3,6,4],[7,3,7,4],[8,3,8,4]]}
[null,"MUAYENE VE KABUL BELGESİ"]
[null,"Şayet Muayene ve Kabul Belgesini(Bu Belge) düzenleyecekseniz,\n Muayene Talep Yazısı ile Muayene Raporunu düzenlemeye gerek yoktur.\n"]
[null,"MUAYENE VE KABUL KOMİSYONU TUTANAĞI"]
[null,"İşin Adı:",null,{"$f":"CONCATENATE(('Görevli Kişiler'!E6))","v":"TEMİZLİK MALZEMESİ ALIMI"}]
[null,"Firma Adı :",null,{"$f":"'Piyasa Fiy.Arş Tut.'!D44","v":"A FİRMASI"}]
[null,"Fatura Tarihi :",null,{"$f":"('Bilgi Girişi'!G20)","v":"2022-08-01"}]
[null,"Fatura No :",null,{"$f":"('Bilgi Girişi'!G21)","v":117110}]
[null,"Fatura Toplam Tutarı :",null,{"$f":"('Bilgi Girişi'!G22)","v":375.83}]
[null,"Teslim Tarihi :",null,{"$f":"('Bilgi Girişi'!G23)","v":"2022-08-11"}]
[null,"Tutanak Tarih ve Sayısı :",null,{"$f":"('Bilgi Girişi'!G24)","v":5}]
[null,"              Müdürlüğümüz bünyesinde kullanılmak üzere alınan ve aşağıda liste olarak belirtilen ürünlerin tarafımızca eksiksiz ve sağlam bir şekilde teslim alınmıştır."]
[null,"Sıra\nNo","Satın Alınacak Malın","Özellikleri","Miktarı"]
[null,{"$f":"('Bilgi Girişi'!B27)","v":1},{"$f":"('Bilgi Girişi'!C27)","v":"ELEKTRİK TESİSATI ONARIMI"},{"$f":"('Bilgi Girişi'!F27)","v":0},{"$f":"CONCATENATE('Bilgi Girişi'!H27&\"  \"&'Bilgi Girişi'!I27)","v":"1  ADET"}]
[null,{"$f":"('Bilgi Girişi'!B28)","v":2},{"$f":"('Bilgi Girişi'!C28)","v":"SU TESİSATI ONARIMI"},{"$f":"('Bilgi Girişi'!F28)","v":0},{"$f":"CONCATENATE('Bilgi Girişi'!H28&\"  \"&'Bilgi Girişi'!I28)","v":"1  ADET"}]
[null,{"$f":"('Bilgi Girişi'!B29)","v":3},{"$f":"('Bilgi Girişi'!C29)","v":"BOYA ONARIMI"},{"$f":"('Bilgi Girişi'!F29)","v":0},{"$f":"CONCATENATE('Bilgi Girişi'!H29&\"  \"&'Bilgi Girişi'!I29)","v":"5  ADET"}]
[null,{"$f":"('Bilgi Girişi'!B30)","v":4},{"$f":"('Bilgi Girişi'!C30)","v":"ÇATI ONARIMI"},{"$f":"('Bilgi Girişi'!F30)","v":0},{"$f":"CONCATENATE('Bilgi Girişi'!H30&\"  \"&'Bilgi Girişi'!I30)","v":"1  ADET"}]
[null,{"$f":"('Bilgi Girişi'!B31)","v":0},{"$f":"('Bilgi Girişi'!C31)","v":0},{"$f":"('Bilgi Girişi'!F31)","v":0},{"$f":"CONCATENATE('Bilgi Girişi'!H31&\"  \"&'Bilgi Girişi'!I31)","v":"  "}]
[null,{"$f":"('Bilgi Girişi'!B32)","v":0},{"$f":"('Bilgi Girişi'!C32)","v":0},{"$f":"('Bilgi Girişi'!F32)","v":0},{"$f":"CONCATENATE('Bilgi Girişi'!H32&\"  \"&'Bilgi Girişi'!I32)","v":"  "}]
[null,{"$f":"('Bilgi Girişi'!B33)","v":0},{"$f":"('Bilgi Girişi'!C33)","v":0},{"$f":"('Bilgi Girişi'!F33)","v":0},{"$f":"CONCATENATE('Bilgi Girişi'!H33&\"  \"&'Bilgi Girişi'!I33)","v":"  "}]
[null,{"$f":"('Bilgi Girişi'!B34)","v":0},{"$f":"('Bilgi Girişi'!C34)","v":0},{"$f":"('Bilgi Girişi'!F34)","v":0},{"$f":"CONCATENATE('Bilgi Girişi'!H34&\"  \"&'Bilgi Girişi'!I34)","v":"  "}]
[null,{"$f":"('Bilgi Girişi'!B35)","v":0},{"$f":"('Bilgi Girişi'!C35)","v":0},{"$f":"('Bilgi Girişi'!F35)","v":0},{"$f":"CONCATENATE('Bilgi Girişi'!H35&\"  \"&'Bilgi Girişi'!I35)","v":"  "}]
[null,{"$f":"('Bilgi Girişi'!B36)","v":0},{"$f":"('Bilgi Girişi'!C36)","v":0},{"$f":"('Bilgi Girişi'!F36)","v":0},{"$f":"CONCATENATE('Bilgi Girişi'!H36&\"  \"&'Bilgi Girişi'!I36)","v":"  "}]
[null,{"$f":"('Bilgi Girişi'!B37)","v":0},{"$f":"('Bilgi Girişi'!C37)","v":0},{"$f":"('Bilgi Girişi'!F37)","v":0},{"$f":"CONCATENATE('Bilgi Girişi'!H37&\"  \"&'Bilgi Girişi'!I37)","v":"  "}]
[null,{"$f":"('Bilgi Girişi'!B38)","v":0},{"$f":"('Bilgi Girişi'!C38)","v":0},{"$f":"('Bilgi Girişi'!F38)","v":0},{"$f":"CONCATENATE('Bilgi Girişi'!H38&\"  \"&'Bilgi Girişi'!I38)","v":"  "}]
[]
[null,"          Yukarıda belirtilen iş kapsamında alımı yapılan Mal/Malzemelerin, komisyonumuzca yapılan incelemesinde kabul edilmesine engel teşkil edebilecek eksik, hata ve kusurun bulunmadığı tespit edilmiş olup, bedelinin ödenmesinden bir sakınca bulunmamaktadır. "]
[]
[null,"MUAYENE VE KABUL GÖREVLİLERİ"]
[null,{"$f":"D6","v":"2022-08-01"}]
[null,"Üye",null,"Üye","Komisyon Başkanı"]
[]
[null,{"$f":"('Görevli Kişiler'!D17)","v":"Mustafa TOPDAL"},null,{"$f":"('Görevli Kişiler'!D41)","v":"Sema İNAL"},{"$f":"('Görevli Kişiler'!D10)","v":"Hakan ÇİTE"}]
[null,{"$f":"('Görevli Kişiler'!F17)","v":"Öğretmen"},null,{"$f":"('Görevli Kişiler'!F41)","v":"Öğretmen"},{"$f":"('Görevli Kişiler'!F10)","v":"Müdür Yardımcısı"}]
[]
[]
[]
[]
[]
[]
[]
[]
[]
[]
[]
[]
[]
[]
[]
[]
[]
[]
[]
[]
[]
[]
[]
[]
[]
[]
[]
[]
[]
[]
[]
[]
[]
[]
[]
[]
[]
[]
[]
[]
[]
[]
[]
[]
[]
[]
[]
[]
[]
[]
[]
[]
[]
[]
[]
[]
[]
[]
[]
[]
[]
[]
[]
[]
[]
[]
[]
[]
[]
[]
[]
[]
[]
[]
[]
[]
[]
[]
[]
[]
[]
[]
[]
[]
[]
[]
[]
[]
[]
[]
[]
[]
[]
[]
[]
[]
[]
[]
[]
[]
[]
[]
[]
[]
[]
[]
[]
[]
[]
[]
[]
[]
[]
[]
[]
[]
[]
[]
[]
[]
[]
[]
[]
[]
[]
[]
[]
[]
[]
[]
[]
[]
[]
[]
[]
[]
[]
[]
[]
[]
[]
[]
[]
[]
[]
[]
[]
[]
[]
[]
[]
[]
[]
[]
[]
[]
[]
[]
[]
[]
[]
[]
[]
[]
[]
[]
[null,null,null,null,null,null,null,null,null,null,null,null,null,null,null,null,null,null,null,null,null,null,null,null,null,null,null,null,null,null,null,null,null,null,null,null,null,null,null,null,null,null,null,null,null,null,null,null,null,null,null,null,null,null,null,null,null,null,null,null,null,null,null,null,null,null,null,null,null,null,null,null,null,null,null,null,null,null,null,null,null,null,null,null,null,null,null,null,null,null,null,null,null,null,null,null,null,null,null,null,null,{"$f":"#REF!","v":{"$error":"#REF!"}},{"$f":"#REF!","v":{"$error":"#REF!"}},{"$f":"#REF!","v":{"$error":"#REF!"}},{"$f":"#REF!","v":{"$error":"#REF!"}},{"$f":"#REF!","v":{"$error":"#REF!"}},{"$f":"#REF!","v":{"$error":"#REF!"}},{"$f":"#REF!","v":{"$error":"#REF!"}},{"$f":"#REF!","v":{"$error":"#REF!"}},{"$f":"#REF!","v":{"$error":"#REF!"}}]
[null,null,null,null,null,null,null,null,null,null,null,null,null,null,null,null,null,null,null,null,null,null,null,null,null,null,null,null,null,null,null,null,null,null,null,null,null,null,null,null,null,null,null,null,null,null,null,null,null,null,null,null,null,null,null,null,null,null,null,null,null,null,null,null,null,null,null,null,null,null,null,null,null,null,null,null,null,null,null,null,null,null,null,null,null,null,null,null,null,null,null,null,null,null,null,null,null,null,null,null,null,{"$f":"#REF!","v":{"$error":"#REF!"}},{"$f":"#REF!","v":{"$error":"#REF!"}},{"$f":"#REF!","v":{"$error":"#REF!"}},{"$f":"#REF!","v":{"$error":"#REF!"}},{"$f":"#REF!","v":{"$error":"#REF!"}},{"$f":"#REF!","v":{"$error":"#REF!"}},{"$f":"#REF!","v":{"$error":"#REF!"}},{"$f":"#REF!","v":{"$error":"#REF!"}},{"$f":"#REF!","v":{"$error":"#REF!"}}]
[null,null,null,null,null,null,null,null,null,null,null,null,null,null,null,null,null,null,null,null,null,null,null,null,null,null,null,null,null,null,null,null,null,null,null,null,null,null,null,null,null,null,null,null,null,null,null,null,null,null,null,null,null,null,null,null,null,null,null,null,null,null,null,null,null,null,null,null,null,null,null,null,null,null,null,null,null,null,null,null,null,null,null,null,null,null,null,null,null,null,null,null,null,null,null,null,null,null,null,null,null,{"$f":"#REF!","v":{"$error":"#REF!"}},{"$f":"#REF!","v":{"$error":"#REF!"}},{"$f":"#REF!","v":{"$error":"#REF!"}},{"$f":"#REF!","v":{"$error":"#REF!"}},{"$f":"#REF!","v":{"$error":"#REF!"}},{"$f":"#REF!","v":{"$error":"#REF!"}},{"$f":"#REF!","v":{"$error":"#REF!"}},{"$f":"#REF!","v":{"$error":"#REF!"}},{"$f":"#REF!","v":{"$error":"#REF!"}}]
[null,null,null,null,null,null,null,null,null,null,null,null,null,null,null,null,null,null,null,null,null,null,null,null,null,null,null,null,null,null,null,null,null,null,null,null,null,null,null,null,null,null,null,null,null,null,null,null,null,null,null,null,null,null,null,null,null,null,null,null,null,null,null,null,null,null,null,null,null,null,null,null,null,null,null,null,null,null,null,null,null,null,null,null,null,null,null,null,null,null,null,null,null,null,null,null,null,null,null,null,null,{"$f":"#REF!","v":{"$error":"#REF!"}},{"$f":"#REF!","v":{"$error":"#REF!"}},{"$f":"#REF!","v":{"$error":"#REF!"}},{"$f":"#REF!","v":{"$error":"#REF!"}},{"$f":"#REF!","v":{"$error":"#REF!"}},{"$f":"#REF!","v":{"$error":"#REF!"}},{"$f":"#REF!","v":{"$error":"#REF!"}},{"$f":"#REF!","v":{"$error":"#REF!"}},{"$f":"#REF!","v":{"$error":"#REF!"}}]
[null,null,null,null,null,null,null,null,null,null,null,null,null,null,null,null,null,null,null,null,null,null,null,null,null,null,null,null,null,null,null,null,null,null,null,null,null,null,null,null,null,null,null,null,null,null,null,null,null,null,null,null,null,null,null,null,null,null,null,null,null,null,null,null,null,null,null,null,null,null,null,null,null,null,null,null,null,null,null,null,null,null,null,null,null,null,null,null,null,null,null,null,null,null,null,null,null,null,null,null,null,{"$f":"#REF!","v":{"$error":"#REF!"}},{"$f":"#REF!","v":{"$error":"#REF!"}},{"$f":"#REF!","v":{"$error":"#REF!"}},{"$f":"#REF!","v":{"$error":"#REF!"}},{"$f":"#REF!","v":{"$error":"#REF!"}},{"$f":"#REF!","v":{"$error":"#REF!"}},{"$f":"#REF!","v":{"$error":"#REF!"}},{"$f":"#REF!","v":{"$error":"#REF!"}},{"$f":"#REF!","v":{"$error":"#REF!"}}]
[null,null,null,null,null,null,null,null,null,null,null,null,null,null,null,null,null,null,null,null,null,null,null,null,null,null,null,null,null,null,null,null,null,null,null,null,null,null,null,null,null,null,null,null,null,null,null,null,null,null,null,null,null,null,null,null,null,null,null,null,null,null,null,null,null,null,null,null,null,null,null,null,null,null,null,null,null,null,null,null,null,null,null,null,null,null,null,null,null,null,null,null,null,null,null,null,null,null,null,null,null,{"$f":"#REF!","v":{"$error":"#REF!"}},{"$f":"#REF!","v":{"$error":"#REF!"}},{"$f":"#REF!","v":{"$error":"#REF!"}},{"$f":"#REF!","v":{"$error":"#REF!"}},{"$f":"#REF!","v":{"$error":"#REF!"}},{"$f":"#REF!","v":{"$error":"#REF!"}},{"$f":"#REF!","v":{"$error":"#REF!"}},{"$f":"#REF!","v":{"$error":"#REF!"}},{"$f":"#REF!","v":{"$error":"#REF!"}}]
[null,null,null,null,null,null,null,null,null,null,null,null,null,null,null,null,null,null,null,null,null,null,null,null,null,null,null,null,null,null,null,null,null,null,null,null,null,null,null,null,null,null,null,null,null,null,null,null,null,null,null,null,null,null,null,null,null,null,null,null,null,null,null,null,null,null,null,null,null,null,null,null,null,null,null,null,null,null,null,null,null,null,null,null,null,null,null,null,null,null,null,null,null,null,null,null,null,null,null,null,null,{"$f":"#REF!","v":{"$error":"#REF!"}},{"$f":"#REF!","v":{"$error":"#REF!"}},{"$f":"#REF!","v":{"$error":"#REF!"}},{"$f":"#REF!","v":{"$error":"#REF!"}},{"$f":"#REF!","v":{"$error":"#REF!"}},{"$f":"#REF!","v":{"$error":"#REF!"}},{"$f":"#REF!","v":{"$error":"#REF!"}},{"$f":"#REF!","v":{"$error":"#REF!"}},{"$f":"#REF!","v":{"$error":"#REF!"}}]
[null,null,null,null,null,null,null,null,null,null,null,null,null,null,null,null,null,null,null,null,null,null,null,null,null,null,null,null,null,null,null,null,null,null,null,null,null,null,null,null,null,null,null,null,null,null,null,null,null,null,null,null,null,null,null,null,null,null,null,null,null,null,null,null,null,null,null,null,null,null,null,null,null,null,null,null,null,null,null,null,null,null,null,null,null,null,null,null,null,null,null,null,null,null,null,null,null,null,null,null,null,{"$f":"#REF!","v":{"$error":"#REF!"}},{"$f":"#REF!","v":{"$error":"#REF!"}},{"$f":"#REF!","v":{"$error":"#REF!"}},{"$f":"#REF!","v":{"$error":"#REF!"}},{"$f":"#REF!","v":{"$error":"#REF!"}},{"$f":"#REF!","v":{"$error":"#REF!"}},{"$f":"#REF!","v":{"$error":"#REF!"}},{"$f":"#REF!","v":{"$error":"#REF!"}},{"$f":"#REF!","v":{"$error":"#REF!"}}]
[null,null,null,null,null,null,null,null,null,null,null,null,null,null,null,null,null,null,null,null,null,null,null,null,null,null,null,null,null,null,null,null,null,null,null,null,null,null,null,null,null,null,null,null,null,null,null,null,null,null,null,null,null,null,null,null,null,null,null,null,null,null,null,null,null,null,null,null,null,null,null,null,null,null,null,null,null,null,null,null,null,null,null,null,null,null,null,null,null,null,null,null,null,null,null,null,null,null,null,null,null,{"$f":"#REF!","v":{"$error":"#REF!"}},{"$f":"#REF!","v":{"$error":"#REF!"}},{"$f":"#REF!","v":{"$error":"#REF!"}},{"$f":"#REF!","v":{"$error":"#REF!"}},{"$f":"#REF!","v":{"$error":"#REF!"}},{"$f":"#REF!","v":{"$error":"#REF!"}},{"$f":"#REF!","v":{"$error":"#REF!"}},{"$f":"#REF!","v":{"$error":"#REF!"}},{"$f":"#REF!","v":{"$error":"#REF!"}}]
[null,null,null,null,null,null,null,null,null,null,null,null,null,null,null,null,null,null,null,null,null,null,null,null,null,null,null,null,null,null,null,null,null,null,null,null,null,null,null,null,null,null,null,null,null,null,null,null,null,null,null,null,null,null,null,null,null,null,null,null,null,null,null,null,null,null,null,null,null,null,null,null,null,null,null,null,null,null,null,null,null,null,null,null,null,null,null,null,null,null,null,null,null,null,null,null,null,null,null,null,null,{"$f":"#REF!","v":{"$error":"#REF!"}},{"$f":"#REF!","v":{"$error":"#REF!"}},{"$f":"#REF!","v":{"$error":"#REF!"}},{"$f":"#REF!","v":{"$error":"#REF!"}},{"$f":"#REF!","v":{"$error":"#REF!"}},{"$f":"#REF!","v":{"$error":"#REF!"}},{"$f":"#REF!","v":{"$error":"#REF!"}},{"$f":"#REF!","v":{"$error":"#REF!"}},{"$f":"#REF!","v":{"$error":"#REF!"}}]
[null,null,null,null,null,null,null,null,null,null,null,null,null,null,null,null,null,null,null,null,null,null,null,null,null,null,null,null,null,null,null,null,null,null,null,null,null,null,null,null,null,null,null,null,null,null,null,null,null,null,null,null,null,null,null,null,null,null,null,null,null,null,null,null,null,null,null,null,null,null,null,null,null,null,null,null,null,null,null,null,null,null,null,null,null,null,null,null,null,null,null,null,null,null,null,null,null,null,null,null,null,{"$f":"#REF!","v":{"$error":"#REF!"}},{"$f":"#REF!","v":{"$error":"#REF!"}},{"$f":"#REF!","v":{"$error":"#REF!"}},{"$f":"#REF!","v":{"$error":"#REF!"}},{"$f":"#REF!","v":{"$error":"#REF!"}},{"$f":"#REF!","v":{"$error":"#REF!"}},{"$f":"#REF!","v":{"$error":"#REF!"}},{"$f":"#REF!","v":{"$error":"#REF!"}},{"$f":"#REF!","v":{"$error":"#REF!"}}]
[null,null,null,null,null,null,null,null,null,null,null,null,null,null,null,null,null,null,null,null,null,null,null,null,null,null,null,null,null,null,null,null,null,null,null,null,null,null,null,null,null,null,null,null,null,null,null,null,null,null,null,null,null,null,null,null,null,null,null,null,null,null,null,null,null,null,null,null,null,null,null,null,null,null,null,null,null,null,null,null,null,null,null,null,null,null,null,null,null,null,null,null,null,null,null,null,null,null,null,null,null,{"$f":"#REF!","v":{"$error":"#REF!"}},{"$f":"#REF!","v":{"$error":"#REF!"}},{"$f":"#REF!","v":{"$error":"#REF!"}},{"$f":"#REF!","v":{"$error":"#REF!"}},{"$f":"#REF!","v":{"$error":"#REF!"}},{"$f":"#REF!","v":{"$error":"#REF!"}},{"$f":"#REF!","v":{"$error":"#REF!"}},{"$f":"#REF!","v":{"$error":"#REF!"}},{"$f":"#REF!","v":{"$error":"#REF!"}}]
[null,null,null,null,null,null,null,null,null,null,null,null,null,null,null,null,null,null,null,null,null,null,null,null,null,null,null,null,null,null,null,null,null,null,null,null,null,null,null,null,null,null,null,null,null,null,null,null,null,null,null,null,null,null,null,null,null,null,null,null,null,null,null,null,null,null,null,null,null,null,null,null,null,null,null,null,null,null,null,null,null,null,null,null,null,null,null,null,null,null,null,null,null,null,null,null,null,null,null,null,null,{"$f":"#REF!","v":{"$error":"#REF!"}},{"$f":"#REF!","v":{"$error":"#REF!"}},{"$f":"#REF!","v":{"$error":"#REF!"}},{"$f":"#REF!","v":{"$error":"#REF!"}},{"$f":"#REF!","v":{"$error":"#REF!"}},{"$f":"#REF!","v":{"$error":"#REF!"}},{"$f":"#REF!","v":{"$error":"#REF!"}},{"$f":"#REF!","v":{"$error":"#REF!"}},{"$f":"#REF!","v":{"$error":"#REF!"}}]
[null,null,null,null,null,null,null,null,null,null,null,null,null,null,null,null,null,null,null,null,null,null,null,null,null,null,null,null,null,null,null,null,null,null,null,null,null,null,null,null,null,null,null,null,null,null,null,null,null,null,null,null,null,null,null,null,null,null,null,null,null,null,null,null,null,null,null,null,null,null,null,null,null,null,null,null,null,null,null,null,null,null,null,null,null,null,null,null,null,null,null,null,null,null,null,null,null,null,null,null,null,{"$f":"#REF!","v":{"$error":"#REF!"}},{"$f":"#REF!","v":{"$error":"#REF!"}},{"$f":"#REF!","v":{"$error":"#REF!"}},{"$f":"#REF!","v":{"$error":"#REF!"}},{"$f":"#REF!","v":{"$error":"#REF!"}},{"$f":"#REF!","v":{"$error":"#REF!"}},{"$f":"#REF!","v":{"$error":"#REF!"}},{"$f":"#REF!","v":{"$error":"#REF!"}},{"$f":"#REF!","v":{"$error":"#REF!"}}]
[null,null,null,null,null,null,null,null,null,null,null,null,null,null,null,null,null,null,null,null,null,null,null,null,null,null,null,null,null,null,null,null,null,null,null,null,null,null,null,null,null,null,null,null,null,null,null,null,null,null,null,null,null,null,null,null,null,null,null,null,null,null,null,null,null,null,null,null,null,null,null,null,null,null,null,null,null,null,null,null,null,null,null,null,null,null,null,null,null,null,null,null,null,null,null,null,null,null,null,null,null,{"$f":"#REF!","v":{"$error":"#REF!"}},{"$f":"#REF!","v":{"$error":"#REF!"}},{"$f":"#REF!","v":{"$error":"#REF!"}},{"$f":"#REF!","v":{"$error":"#REF!"}},{"$f":"#REF!","v":{"$error":"#REF!"}},{"$f":"#REF!","v":{"$error":"#REF!"}},{"$f":"#REF!","v":{"$error":"#REF!"}},{"$f":"#REF!","v":{"$error":"#REF!"}},{"$f":"#REF!","v":{"$error":"#REF!"}}]
[null,null,null,null,null,null,null,null,null,null,null,null,null,null,null,null,null,null,null,null,null,null,null,null,null,null,null,null,null,null,null,null,null,null,null,null,null,null,null,null,null,null,null,null,null,null,null,null,null,null,null,null,null,null,null,null,null,null,null,null,null,null,null,null,null,null,null,null,null,null,null,null,null,null,null,null,null,null,null,null,null,null,null,null,null,null,null,null,null,null,null,null,null,null,null,null,null,null,null,null,null,{"$f":"#REF!","v":{"$error":"#REF!"}},{"$f":"#REF!","v":{"$error":"#REF!"}},{"$f":"#REF!","v":{"$error":"#REF!"}},{"$f":"#REF!","v":{"$error":"#REF!"}},{"$f":"#REF!","v":{"$error":"#REF!"}},{"$f":"#REF!","v":{"$error":"#REF!"}},{"$f":"#REF!","v":{"$error":"#REF!"}},{"$f":"#REF!","v":{"$error":"#REF!"}},{"$f":"#REF!","v":{"$error":"#REF!"}}]
[null,null,null,null,null,null,null,null,null,null,null,null,null,null,null,null,null,null,null,null,null,null,null,null,null,null,null,null,null,null,null,null,null,null,null,null,null,null,null,null,null,null,null,null,null,null,null,null,null,null,null,null,null,null,null,null,null,null,null,null,null,null,null,null,null,null,null,null,null,null,null,null,null,null,null,null,null,null,null,null,null,null,null,null,null,null,null,null,null,null,null,null,null,null,null,null,null,null,null,null,null,{"$f":"#REF!","v":{"$error":"#REF!"}},{"$f":"#REF!","v":{"$error":"#REF!"}},{"$f":"#REF!","v":{"$error":"#REF!"}},{"$f":"#REF!","v":{"$error":"#REF!"}},{"$f":"#REF!","v":{"$error":"#REF!"}},{"$f":"#REF!","v":{"$error":"#REF!"}},{"$f":"#REF!","v":{"$error":"#REF!"}},{"$f":"#REF!","v":{"$error":"#REF!"}},{"$f":"#REF!","v":{"$error":"#REF!"}}]
[null,null,null,null,null,null,null,null,null,null,null,null,null,null,null,null,null,null,null,null,null,null,null,null,null,null,null,null,null,null,null,null,null,null,null,null,null,null,null,null,null,null,null,null,null,null,null,null,null,null,null,null,null,null,null,null,null,null,null,null,null,null,null,null,null,null,null,null,null,null,null,null,null,null,null,null,null,null,null,null,null,null,null,null,null,null,null,null,null,null,null,null,null,null,null,null,null,null,null,null,null,{"$f":"#REF!","v":{"$error":"#REF!"}},{"$f":"#REF!","v":{"$error":"#REF!"}},{"$f":"#REF!","v":{"$error":"#REF!"}},{"$f":"#REF!","v":{"$error":"#REF!"}},{"$f":"#REF!","v":{"$error":"#REF!"}},{"$f":"#REF!","v":{"$error":"#REF!"}},{"$f":"#REF!","v":{"$error":"#REF!"}},{"$f":"#REF!","v":{"$error":"#REF!"}},{"$f":"#REF!","v":{"$error":"#REF!"}}]
[null,null,null,null,null,null,null,null,null,null,null,null,null,null,null,null,null,null,null,null,null,null,null,null,null,null,null,null,null,null,null,null,null,null,null,null,null,null,null,null,null,null,null,null,null,null,null,null,null,null,null,null,null,null,null,null,null,null,null,null,null,null,null,null,null,null,null,null,null,null,null,null,null,null,null,null,null,null,null,null,null,null,null,null,null,null,null,null,null,null,null,null,null,null,null,null,null,null,null,null,null,{"$f":"#REF!","v":{"$error":"#REF!"}},{"$f":"#REF!","v":{"$error":"#REF!"}},{"$f":"#REF!","v":{"$error":"#REF!"}},{"$f":"#REF!","v":{"$error":"#REF!"}},{"$f":"#REF!","v":{"$error":"#REF!"}},{"$f":"#REF!","v":{"$error":"#REF!"}},{"$f":"#REF!","v":{"$error":"#REF!"}},{"$f":"#REF!","v":{"$error":"#REF!"}},{"$f":"#REF!","v":{"$error":"#REF!"}}]
[null,null,null,null,null,null,null,null,null,null,null,null,null,null,null,null,null,null,null,null,null,null,null,null,null,null,null,null,null,null,null,null,null,null,null,null,null,null,null,null,null,null,null,null,null,null,null,null,null,null,null,null,null,null,null,null,null,null,null,null,null,null,null,null,null,null,null,null,null,null,null,null,null,null,null,null,null,null,null,null,null,null,null,null,null,null,null,null,null,null,null,null,null,null,null,null,null,null,null,null,null,{"$f":"#REF!","v":{"$error":"#REF!"}},{"$f":"#REF!","v":{"$error":"#REF!"}},{"$f":"#REF!","v":{"$error":"#REF!"}},{"$f":"#REF!","v":{"$error":"#REF!"}},{"$f":"#REF!","v":{"$error":"#REF!"}},{"$f":"#REF!","v":{"$error":"#REF!"}},{"$f":"#REF!","v":{"$error":"#REF!"}},{"$f":"#REF!","v":{"$error":"#REF!"}},{"$f":"#REF!","v":{"$error":"#REF!"}}]
[null,null,null,null,null,null,null,null,null,null,null,null,null,null,null,null,null,null,null,null,null,null,null,null,null,null,null,null,null,null,null,null,null,null,null,null,null,null,null,null,null,null,null,null,null,null,null,null,null,null,null,null,null,null,null,null,null,null,null,null,null,null,null,null,null,null,null,null,null,null,null,null,null,null,null,null,null,null,null,null,null,null,null,null,null,null,null,null,null,null,null,null,null,null,null,null,null,null,null,null,null,{"$f":"#REF!","v":{"$error":"#REF!"}},{"$f":"#REF!","v":{"$error":"#REF!"}},{"$f":"#REF!","v":{"$error":"#REF!"}},{"$f":"#REF!","v":{"$error":"#REF!"}},{"$f":"#REF!","v":{"$error":"#REF!"}},{"$f":"#REF!","v":{"$error":"#REF!"}},{"$f":"#REF!","v":{"$error":"#REF!"}},{"$f":"#REF!","v":{"$error":"#REF!"}},{"$f":"#REF!","v":{"$error":"#REF!"}}]
[null,null,null,null,null,null,null,null,null,null,null,null,null,null,null,null,null,null,null,null,null,null,null,null,null,null,null,null,null,null,null,null,null,null,null,null,null,null,null,null,null,null,null,null,null,null,null,null,null,null,null,null,null,null,null,null,null,null,null,null,null,null,null,null,null,null,null,null,null,null,null,null,null,null,null,null,null,null,null,null,null,null,null,null,null,null,null,null,null,null,null,null,null,null,null,null,null,null,null,null,null,{"$f":"#REF!","v":{"$error":"#REF!"}},{"$f":"#REF!","v":{"$error":"#REF!"}},{"$f":"#REF!","v":{"$error":"#REF!"}},{"$f":"#REF!","v":{"$error":"#REF!"}},{"$f":"#REF!","v":{"$error":"#REF!"}},{"$f":"#REF!","v":{"$error":"#REF!"}},{"$f":"#REF!","v":{"$error":"#REF!"}},{"$f":"#REF!","v":{"$error":"#REF!"}},{"$f":"#REF!","v":{"$error":"#REF!"}}]
[null,null,null,null,null,null,null,null,null,null,null,null,null,null,null,null,null,null,null,null,null,null,null,null,null,null,null,null,null,null,null,null,null,null,null,null,null,null,null,null,null,null,null,null,null,null,null,null,null,null,null,null,null,null,null,null,null,null,null,null,null,null,null,null,null,null,null,null,null,null,null,null,null,null,null,null,null,null,null,null,null,null,null,null,null,null,null,null,null,null,null,null,null,null,null,null,null,null,null,null,null,{"$f":"#REF!","v":{"$error":"#REF!"}},{"$f":"#REF!","v":{"$error":"#REF!"}},{"$f":"#REF!","v":{"$error":"#REF!"}},{"$f":"#REF!","v":{"$error":"#REF!"}},{"$f":"#REF!","v":{"$error":"#REF!"}},{"$f":"#REF!","v":{"$error":"#REF!"}},{"$f":"#REF!","v":{"$error":"#REF!"}},{"$f":"#REF!","v":{"$error":"#REF!"}},{"$f":"#REF!","v":{"$error":"#REF!"}}]
[null,null,null,null,null,null,null,null,null,null,null,null,null,null,null,null,null,null,null,null,null,null,null,null,null,null,null,null,null,null,null,null,null,null,null,null,null,null,null,null,null,null,null,null,null,null,null,null,null,null,null,null,null,null,null,null,null,null,null,null,null,null,null,null,null,null,null,null,null,null,null,null,null,null,null,null,null,null,null,null,null,null,null,null,null,null,null,null,null,null,null,null,null,null,null,null,null,null,null,null,null,{"$f":"#REF!","v":{"$error":"#REF!"}},{"$f":"#REF!","v":{"$error":"#REF!"}},{"$f":"#REF!","v":{"$error":"#REF!"}},{"$f":"#REF!","v":{"$error":"#REF!"}},{"$f":"#REF!","v":{"$error":"#REF!"}},{"$f":"#REF!","v":{"$error":"#REF!"}},{"$f":"#REF!","v":{"$error":"#REF!"}},{"$f":"#REF!","v":{"$error":"#REF!"}},{"$f":"#REF!","v":{"$error":"#REF!"}}]
[null,null,null,null,null,null,null,null,null,null,null,null,null,null,null,null,null,null,null,null,null,null,null,null,null,null,null,null,null,null,null,null,null,null,null,null,null,null,null,null,null,null,null,null,null,null,null,null,null,null,null,null,null,null,null,null,null,null,null,null,null,null,null,null,null,null,null,null,null,null,null,null,null,null,null,null,null,null,null,null,null,null,null,null,null,null,null,null,null,null,null,null,null,null,null,null,null,null,null,null,null,{"$f":"#REF!","v":{"$error":"#REF!"}},{"$f":"#REF!","v":{"$error":"#REF!"}},{"$f":"#REF!","v":{"$error":"#REF!"}},{"$f":"#REF!","v":{"$error":"#REF!"}},{"$f":"#REF!","v":{"$error":"#REF!"}},{"$f":"#REF!","v":{"$error":"#REF!"}},{"$f":"#REF!","v":{"$error":"#REF!"}},{"$f":"#REF!","v":{"$error":"#REF!"}},{"$f":"#REF!","v":{"$error":"#REF!"}}]
[null,null,null,null,null,null,null,null,null,null,null,null,null,null,null,null,null,null,null,null,null,null,null,null,null,null,null,null,null,null,null,null,null,null,null,null,null,null,null,null,null,null,null,null,null,null,null,null,null,null,null,null,null,null,null,null,null,null,null,null,null,null,null,null,null,null,null,null,null,null,null,null,null,null,null,null,null,null,null,null,null,null,null,null,null,null,null,null,null,null,null,null,null,null,null,null,null,null,null,null,null,{"$f":"#REF!","v":{"$error":"#REF!"}},{"$f":"#REF!","v":{"$error":"#REF!"}},{"$f":"#REF!","v":{"$error":"#REF!"}},{"$f":"#REF!","v":{"$error":"#REF!"}},{"$f":"#REF!","v":{"$error":"#REF!"}},{"$f":"#REF!","v":{"$error":"#REF!"}},{"$f":"#REF!","v":{"$error":"#REF!"}},{"$f":"#REF!","v":{"$error":"#REF!"}},{"$f":"#REF!","v":{"$error":"#REF!"}}]
[null,null,null,null,null,null,null,null,null,null,null,null,null,null,null,null,null,null,null,null,null,null,null,null,null,null,null,null,null,null,null,null,null,null,null,null,null,null,null,null,null,null,null,null,null,null,null,null,null,null,null,null,null,null,null,null,null,null,null,null,null,null,null,null,null,null,null,null,null,null,null,null,null,null,null,null,null,null,null,null,null,null,null,null,null,null,null,null,null,null,null,null,null,null,null,null,null,null,null,null,null,{"$f":"#REF!","v":{"$error":"#REF!"}},{"$f":"#REF!","v":{"$error":"#REF!"}},{"$f":"#REF!","v":{"$error":"#REF!"}},{"$f":"#REF!","v":{"$error":"#REF!"}},{"$f":"#REF!","v":{"$error":"#REF!"}},{"$f":"#REF!","v":{"$error":"#REF!"}},{"$f":"#REF!","v":{"$error":"#REF!"}},{"$f":"#REF!","v":{"$error":"#REF!"}},{"$f":"#REF!","v":{"$error":"#REF!"}}]
[null,null,null,null,null,null,null,null,null,null,null,null,null,null,null,null,null,null,null,null,null,null,null,null,null,null,null,null,null,null,null,null,null,null,null,null,null,null,null,null,null,null,null,null,null,null,null,null,null,null,null,null,null,null,null,null,null,null,null,null,null,null,null,null,null,null,null,null,null,null,null,null,null,null,null,null,null,null,null,null,null,null,null,null,null,null,null,null,null,null,null,null,null,null,null,null,null,null,null,null,null,{"$f":"#REF!","v":{"$error":"#REF!"}},{"$f":"#REF!","v":{"$error":"#REF!"}},{"$f":"#REF!","v":{"$error":"#REF!"}},{"$f":"#REF!","v":{"$error":"#REF!"}},{"$f":"#REF!","v":{"$error":"#REF!"}},{"$f":"#REF!","v":{"$error":"#REF!"}},{"$f":"#REF!","v":{"$error":"#REF!"}},{"$f":"#REF!","v":{"$error":"#REF!"}},{"$f":"#REF!","v":{"$error":"#REF!"}}]
[null,null,null,null,null,null,null,null,null,null,null,null,null,null,null,null,null,null,null,null,null,null,null,null,null,null,null,null,null,null,null,null,null,null,null,null,null,null,null,null,null,null,null,null,null,null,null,null,null,null,null,null,null,null,null,null,null,null,null,null,null,null,null,null,null,null,null,null,null,null,null,null,null,null,null,null,null,null,null,null,null,null,null,null,null,null,null,null,null,null,null,null,null,null,null,null,null,null,null,null,null,{"$f":"#REF!","v":{"$error":"#REF!"}},{"$f":"#REF!","v":{"$error":"#REF!"}},{"$f":"#REF!","v":{"$error":"#REF!"}},{"$f":"#REF!","v":{"$error":"#REF!"}},{"$f":"#REF!","v":{"$error":"#REF!"}},{"$f":"#REF!","v":{"$error":"#REF!"}},{"$f":"#REF!","v":{"$error":"#REF!"}},{"$f":"#REF!","v":{"$error":"#REF!"}},{"$f":"#REF!","v":{"$error":"#REF!"}}]
[null,null,null,null,null,null,null,null,null,null,null,null,null,null,null,null,null,null,null,null,null,null,null,null,null,null,null,null,null,null,null,null,null,null,null,null,null,null,null,null,null,null,null,null,null,null,null,null,null,null,null,null,null,null,null,null,null,null,null,null,null,null,null,null,null,null,null,null,null,null,null,null,null,null,null,null,null,null,null,null,null,null,null,null,null,null,null,null,null,null,null,null,null,null,null,null,null,null,null,null,null,{"$f":"#REF!","v":{"$error":"#REF!"}},{"$f":"#REF!","v":{"$error":"#REF!"}},{"$f":"#REF!","v":{"$error":"#REF!"}},{"$f":"#REF!","v":{"$error":"#REF!"}},{"$f":"#REF!","v":{"$error":"#REF!"}},{"$f":"#REF!","v":{"$error":"#REF!"}},{"$f":"#REF!","v":{"$error":"#REF!"}},{"$f":"#REF!","v":{"$error":"#REF!"}},{"$f":"#REF!","v":{"$error":"#REF!"}}]
[null,null,null,null,null,null,null,null,null,null,null,null,null,null,null,null,null,null,null,null,null,null,null,null,null,null,null,null,null,null,null,null,null,null,null,null,null,null,null,null,null,null,null,null,null,null,null,null,null,null,null,null,null,null,null,null,null,null,null,null,null,null,null,null,null,null,null,null,null,null,null,null,null,null,null,null,null,null,null,null,null,null,null,null,null,null,null,null,null,null,null,null,null,null,null,null,null,null,null,null,null,{"$f":"#REF!","v":{"$error":"#REF!"}},{"$f":"#REF!","v":{"$error":"#REF!"}},{"$f":"#REF!","v":{"$error":"#REF!"}},{"$f":"#REF!","v":{"$error":"#REF!"}},{"$f":"#REF!","v":{"$error":"#REF!"}},{"$f":"#REF!","v":{"$error":"#REF!"}},{"$f":"#REF!","v":{"$error":"#REF!"}},{"$f":"#REF!","v":{"$error":"#REF!"}},{"$f":"#REF!","v":{"$error":"#REF!"}}]
[null,null,null,null,null,null,null,null,null,null,null,null,null,null,null,null,null,null,null,null,null,null,null,null,null,null,null,null,null,null,null,null,null,null,null,null,null,null,null,null,null,null,null,null,null,null,null,null,null,null,null,null,null,null,null,null,null,null,null,null,null,null,null,null,null,null,null,null,null,null,null,null,null,null,null,null,null,null,null,null,null,null,null,null,null,null,null,null,null,null,null,null,null,null,null,null,null,null,null,null,null,{"$f":"#REF!","v":{"$error":"#REF!"}},{"$f":"#REF!","v":{"$error":"#REF!"}},{"$f":"#REF!","v":{"$error":"#REF!"}},{"$f":"#REF!","v":{"$error":"#REF!"}},{"$f":"#REF!","v":{"$error":"#REF!"}},{"$f":"#REF!","v":{"$error":"#REF!"}},{"$f":"#REF!","v":{"$error":"#REF!"}},{"$f":"#REF!","v":{"$error":"#REF!"}},{"$f":"#REF!","v":{"$error":"#REF!"}}]
[null,null,null,null,null,null,null,null,null,null,null,null,null,null,null,null,null,null,null,null,null,null,null,null,null,null,null,null,null,null,null,null,null,null,null,null,null,null,null,null,null,null,null,null,null,null,null,null,null,null,null,null,null,null,null,null,null,null,null,null,null,null,null,null,null,null,null,null,null,null,null,null,null,null,null,null,null,null,null,null,null,null,null,null,null,null,null,null,null,null,null,null,null,null,null,null,null,null,null,null,null,{"$f":"#REF!","v":{"$error":"#REF!"}},{"$f":"#REF!","v":{"$error":"#REF!"}},{"$f":"#REF!","v":{"$error":"#REF!"}},{"$f":"#REF!","v":{"$error":"#REF!"}},{"$f":"#REF!","v":{"$error":"#REF!"}},{"$f":"#REF!","v":{"$error":"#REF!"}},{"$f":"#REF!","v":{"$error":"#REF!"}},{"$f":"#REF!","v":{"$error":"#REF!"}},{"$f":"#REF!","v":{"$error":"#REF!"}}]
[null,null,null,null,null,null,null,null,null,null,null,null,null,null,null,null,null,null,null,null,null,null,null,null,null,null,null,null,null,null,null,null,null,null,null,null,null,null,null,null,null,null,null,null,null,null,null,null,null,null,null,null,null,null,null,null,null,null,null,null,null,null,null,null,null,null,null,null,null,null,null,null,null,null,null,null,null,null,null,null,null,null,null,null,null,null,null,null,null,null,null,null,null,null,null,null,null,null,null,null,null,{"$f":"#REF!","v":{"$error":"#REF!"}},{"$f":"#REF!","v":{"$error":"#REF!"}},{"$f":"#REF!","v":{"$error":"#REF!"}},{"$f":"#REF!","v":{"$error":"#REF!"}},{"$f":"#REF!","v":{"$error":"#REF!"}},{"$f":"#REF!","v":{"$error":"#REF!"}},{"$f":"#REF!","v":{"$error":"#REF!"}},{"$f":"#REF!","v":{"$error":"#REF!"}},{"$f":"#REF!","v":{"$error":"#REF!"}}]
[null,null,null,null,null,null,null,null,null,null,null,null,null,null,null,null,null,null,null,null,null,null,null,null,null,null,null,null,null,null,null,null,null,null,null,null,null,null,null,null,null,null,null,null,null,null,null,null,null,null,null,null,null,null,null,null,null,null,null,null,null,null,null,null,null,null,null,null,null,null,null,null,null,null,null,null,null,null,null,null,null,null,null,null,null,null,null,null,null,null,null,null,null,null,null,null,null,null,null,null,null,{"$f":"#REF!","v":{"$error":"#REF!"}},{"$f":"#REF!","v":{"$error":"#REF!"}},{"$f":"#REF!","v":{"$error":"#REF!"}},{"$f":"#REF!","v":{"$error":"#REF!"}},{"$f":"#REF!","v":{"$error":"#REF!"}},{"$f":"#REF!","v":{"$error":"#REF!"}},{"$f":"#REF!","v":{"$error":"#REF!"}},{"$f":"#REF!","v":{"$error":"#REF!"}},{"$f":"#REF!","v":{"$error":"#REF!"}}]
[null,null,null,null,null,null,null,null,null,null,null,null,null,null,null,null,null,null,null,null,null,null,null,null,null,null,null,null,null,null,null,null,null,null,null,null,null,null,null,null,null,null,null,null,null,null,null,null,null,null,null,null,null,null,null,null,null,null,null,null,null,null,null,null,null,null,null,null,null,null,null,null,null,null,null,null,null,null,null,null,null,null,null,null,null,null,null,null,null,null,null,null,null,null,null,null,null,null,null,null,null,{"$f":"#REF!","v":{"$error":"#REF!"}},{"$f":"#REF!","v":{"$error":"#REF!"}},{"$f":"#REF!","v":{"$error":"#REF!"}},{"$f":"#REF!","v":{"$error":"#REF!"}},{"$f":"#REF!","v":{"$error":"#REF!"}},{"$f":"#REF!","v":{"$error":"#REF!"}},{"$f":"#REF!","v":{"$error":"#REF!"}},{"$f":"#REF!","v":{"$error":"#REF!"}},{"$f":"#REF!","v":{"$error":"#REF!"}}]
[null,null,null,null,null,null,null,null,null,null,null,null,null,null,null,null,null,null,null,null,null,null,null,null,null,null,null,null,null,null,null,null,null,null,null,null,null,null,null,null,null,null,null,null,null,null,null,null,null,null,null,null,null,null,null,null,null,null,null,null,null,null,null,null,null,null,null,null,null,null,null,null,null,null,null,null,null,null,null,null,null,null,null,null,null,null,null,null,null,null,null,null,null,null,null,null,null,null,null,null,null,{"$f":"#REF!","v":{"$error":"#REF!"}},{"$f":"#REF!","v":{"$error":"#REF!"}},{"$f":"#REF!","v":{"$error":"#REF!"}},{"$f":"#REF!","v":{"$error":"#REF!"}},{"$f":"#REF!","v":{"$error":"#REF!"}},{"$f":"#REF!","v":{"$error":"#REF!"}},{"$f":"#REF!","v":{"$error":"#REF!"}},{"$f":"#REF!","v":{"$error":"#REF!"}},{"$f":"#REF!","v":{"$error":"#REF!"}}]
[null,null,null,null,null,null,null,null,null,null,null,null,null,null,null,null,null,null,null,null,null,null,null,null,null,null,null,null,null,null,null,null,null,null,null,null,null,null,null,null,null,null,null,null,null,null,null,null,null,null,null,null,null,null,null,null,null,null,null,null,null,null,null,null,null,null,null,null,null,null,null,null,null,null,null,null,null,null,null,null,null,null,null,null,null,null,null,null,null,null,null,null,null,null,null,null,null,null,null,null,null,{"$f":"#REF!","v":{"$error":"#REF!"}},{"$f":"#REF!","v":{"$error":"#REF!"}},{"$f":"#REF!","v":{"$error":"#REF!"}},{"$f":"#REF!","v":{"$error":"#REF!"}},{"$f":"#REF!","v":{"$error":"#REF!"}},{"$f":"#REF!","v":{"$error":"#REF!"}},{"$f":"#REF!","v":{"$error":"#REF!"}},{"$f":"#REF!","v":{"$error":"#REF!"}},{"$f":"#REF!","v":{"$error":"#REF!"}}]
[null,null,null,null,null,null,null,null,null,null,null,null,null,null,null,null,null,null,null,null,null,null,null,null,null,null,null,null,null,null,null,null,null,null,null,null,null,null,null,null,null,null,null,null,null,null,null,null,null,null,null,null,null,null,null,null,null,null,null,null,null,null,null,null,null,null,null,null,null,null,null,null,null,null,null,null,null,null,null,null,null,null,null,null,null,null,null,null,null,null,null,null,null,null,null,null,null,null,null,null,null,{"$f":"#REF!","v":{"$error":"#REF!"}},{"$f":"#REF!","v":{"$error":"#REF!"}},{"$f":"#REF!","v":{"$error":"#REF!"}},{"$f":"#REF!","v":{"$error":"#REF!"}},{"$f":"#REF!","v":{"$error":"#REF!"}},{"$f":"#REF!","v":{"$error":"#REF!"}},{"$f":"#REF!","v":{"$error":"#REF!"}},{"$f":"#REF!","v":{"$error":"#REF!"}},{"$f":"#REF!","v":{"$error":"#REF!"}}]
[null,null,null,null,null,null,null,null,null,null,null,null,null,null,null,null,null,null,null,null,null,null,null,null,null,null,null,null,null,null,null,null,null,null,null,null,null,null,null,null,null,null,null,null,null,null,null,null,null,null,null,null,null,null,null,null,null,null,null,null,null,null,null,null,null,null,null,null,null,null,null,null,null,null,null,null,null,null,null,null,null,null,null,null,null,null,null,null,null,null,null,null,null,null,null,null,null,null,null,null,null,{"$f":"#REF!","v":{"$error":"#REF!"}},{"$f":"#REF!","v":{"$error":"#REF!"}},{"$f":"#REF!","v":{"$error":"#REF!"}},{"$f":"#REF!","v":{"$error":"#REF!"}},{"$f":"#REF!","v":{"$error":"#REF!"}},{"$f":"#REF!","v":{"$error":"#REF!"}},{"$f":"#REF!","v":{"$error":"#REF!"}},{"$f":"#REF!","v":{"$error":"#REF!"}},{"$f":"#REF!","v":{"$error":"#REF!"}}]
[null,null,null,null,null,null,null,null,null,null,null,null,null,null,null,null,null,null,null,null,null,null,null,null,null,null,null,null,null,null,null,null,null,null,null,null,null,null,null,null,null,null,null,null,null,null,null,null,null,null,null,null,null,null,null,null,null,null,null,null,null,null,null,null,null,null,null,null,null,null,null,null,null,null,null,null,null,null,null,null,null,null,null,null,null,null,null,null,null,null,null,null,null,null,null,null,null,null,null,null,null,{"$f":"#REF!","v":{"$error":"#REF!"}},{"$f":"#REF!","v":{"$error":"#REF!"}},{"$f":"#REF!","v":{"$error":"#REF!"}},{"$f":"#REF!","v":{"$error":"#REF!"}},{"$f":"#REF!","v":{"$error":"#REF!"}},{"$f":"#REF!","v":{"$error":"#REF!"}},{"$f":"#REF!","v":{"$error":"#REF!"}},{"$f":"#REF!","v":{"$error":"#REF!"}},{"$f":"#REF!","v":{"$error":"#REF!"}}]
[null,null,null,null,null,null,null,null,null,null,null,null,null,null,null,null,null,null,null,null,null,null,null,null,null,null,null,null,null,null,null,null,null,null,null,null,null,null,null,null,null,null,null,null,null,null,null,null,null,null,null,null,null,null,null,null,null,null,null,null,null,null,null,null,null,null,null,null,null,null,null,null,null,null,null,null,null,null,null,null,null,null,null,null,null,null,null,null,null,null,null,null,null,null,null,null,null,null,null,null,null,{"$f":"#REF!","v":{"$error":"#REF!"}},{"$f":"#REF!","v":{"$error":"#REF!"}},{"$f":"#REF!","v":{"$error":"#REF!"}},{"$f":"#REF!","v":{"$error":"#REF!"}},{"$f":"#REF!","v":{"$error":"#REF!"}},{"$f":"#REF!","v":{"$error":"#REF!"}},{"$f":"#REF!","v":{"$error":"#REF!"}},{"$f":"#REF!","v":{"$error":"#REF!"}},{"$f":"#REF!","v":{"$error":"#REF!"}}]
[null,null,null,null,null,null,null,null,null,null,null,null,null,null,null,null,null,null,null,null,null,null,null,null,null,null,null,null,null,null,null,null,null,null,null,null,null,null,null,null,null,null,null,null,null,null,null,null,null,null,null,null,null,null,null,null,null,null,null,null,null,null,null,null,null,null,null,null,null,null,null,null,null,null,null,null,null,null,null,null,null,null,null,null,null,null,null,null,null,null,null,null,null,null,null,null,null,null,null,null,null,{"$f":"#REF!","v":{"$error":"#REF!"}},{"$f":"#REF!","v":{"$error":"#REF!"}},{"$f":"#REF!","v":{"$error":"#REF!"}},{"$f":"#REF!","v":{"$error":"#REF!"}},{"$f":"#REF!","v":{"$error":"#REF!"}},{"$f":"#REF!","v":{"$error":"#REF!"}},{"$f":"#REF!","v":{"$error":"#REF!"}},{"$f":"#REF!","v":{"$error":"#REF!"}},{"$f":"#REF!","v":{"$error":"#REF!"}}]
[null,null,null,null,null,null,null,null,null,null,null,null,null,null,null,null,null,null,null,null,null,null,null,null,null,null,null,null,null,null,null,null,null,null,null,null,null,null,null,null,null,null,null,null,null,null,null,null,null,null,null,null,null,null,null,null,null,null,null,null,null,null,null,null,null,null,null,null,null,null,null,null,null,null,null,null,null,null,null,null,null,null,null,null,null,null,null,null,null,null,null,null,null,null,null,null,null,null,null,null,null,{"$f":"#REF!","v":{"$error":"#REF!"}},{"$f":"#REF!","v":{"$error":"#REF!"}},{"$f":"#REF!","v":{"$error":"#REF!"}},{"$f":"#REF!","v":{"$error":"#REF!"}},{"$f":"#REF!","v":{"$error":"#REF!"}},{"$f":"#REF!","v":{"$error":"#REF!"}},{"$f":"#REF!","v":{"$error":"#REF!"}},{"$f":"#REF!","v":{"$error":"#REF!"}},{"$f":"#REF!","v":{"$error":"#REF!"}}]
[null,null,null,null,null,null,null,null,null,null,null,null,null,null,null,null,null,null,null,null,null,null,null,null,null,null,null,null,null,null,null,null,null,null,null,null,null,null,null,null,null,null,null,null,null,null,null,null,null,null,null,null,null,null,null,null,null,null,null,null,null,null,null,null,null,null,null,null,null,null,null,null,null,null,null,null,null,null,null,null,null,null,null,null,null,null,null,null,null,null,null,null,null,null,null,null,null,null,null,null,null,{"$f":"#REF!","v":{"$error":"#REF!"}},{"$f":"#REF!","v":{"$error":"#REF!"}},{"$f":"#REF!","v":{"$error":"#REF!"}},{"$f":"#REF!","v":{"$error":"#REF!"}},{"$f":"#REF!","v":{"$error":"#REF!"}},{"$f":"#REF!","v":{"$error":"#REF!"}},{"$f":"#REF!","v":{"$error":"#REF!"}},{"$f":"#REF!","v":{"$error":"#REF!"}},{"$f":"#REF!","v":{"$error":"#REF!"}}]
[null,null,null,null,null,null,null,null,null,null,null,null,null,null,null,null,null,null,null,null,null,null,null,null,null,null,null,null,null,null,null,null,null,null,null,null,null,null,null,null,null,null,null,null,null,null,null,null,null,null,null,null,null,null,null,null,null,null,null,null,null,null,null,null,null,null,null,null,null,null,null,null,null,null,null,null,null,null,null,null,null,null,null,null,null,null,null,null,null,null,null,null,null,null,null,null,null,null,null,null,null,{"$f":"#REF!","v":{"$error":"#REF!"}},{"$f":"#REF!","v":{"$error":"#REF!"}},{"$f":"#REF!","v":{"$error":"#REF!"}},{"$f":"#REF!","v":{"$error":"#REF!"}},{"$f":"#REF!","v":{"$error":"#REF!"}},{"$f":"#REF!","v":{"$error":"#REF!"}},{"$f":"#REF!","v":{"$error":"#REF!"}},{"$f":"#REF!","v":{"$error":"#REF!"}},{"$f":"#REF!","v":{"$error":"#REF!"}}]
[null,null,null,null,null,null,null,null,null,null,null,null,null,null,null,null,null,null,null,null,null,null,null,null,null,null,null,null,null,null,null,null,null,null,null,null,null,null,null,null,null,null,null,null,null,null,null,null,null,null,null,null,null,null,null,null,null,null,null,null,null,null,null,null,null,null,null,null,null,null,null,null,null,null,null,null,null,null,null,null,null,null,null,null,null,null,null,null,null,null,null,null,null,null,null,null,null,null,null,null,null,{"$f":"#REF!","v":{"$error":"#REF!"}},{"$f":"#REF!","v":{"$error":"#REF!"}},{"$f":"#REF!","v":{"$error":"#REF!"}},{"$f":"#REF!","v":{"$error":"#REF!"}},{"$f":"#REF!","v":{"$error":"#REF!"}},{"$f":"#REF!","v":{"$error":"#REF!"}},{"$f":"#REF!","v":{"$error":"#REF!"}},{"$f":"#REF!","v":{"$error":"#REF!"}},{"$f":"#REF!","v":{"$error":"#REF!"}}]
[null,null,null,null,null,null,null,null,null,null,null,null,null,null,null,null,null,null,null,null,null,null,null,null,null,null,null,null,null,null,null,null,null,null,null,null,null,null,null,null,null,null,null,null,null,null,null,null,null,null,null,null,null,null,null,null,null,null,null,null,null,null,null,null,null,null,null,null,null,null,null,null,null,null,null,null,null,null,null,null,null,null,null,null,null,null,null,null,null,null,null,null,null,null,null,null,null,null,null,null,null,{"$f":"#REF!","v":{"$error":"#REF!"}},{"$f":"#REF!","v":{"$error":"#REF!"}},{"$f":"#REF!","v":{"$error":"#REF!"}},{"$f":"#REF!","v":{"$error":"#REF!"}},{"$f":"#REF!","v":{"$error":"#REF!"}},{"$f":"#REF!","v":{"$error":"#REF!"}},{"$f":"#REF!","v":{"$error":"#REF!"}},{"$f":"#REF!","v":{"$error":"#REF!"}},{"$f":"#REF!","v":{"$error":"#REF!"}}]
[null,null,null,null,null,null,null,null,null,null,null,null,null,null,null,null,null,null,null,null,null,null,null,null,null,null,null,null,null,null,null,null,null,null,null,null,null,null,null,null,null,null,null,null,null,null,null,null,null,null,null,null,null,null,null,null,null,null,null,null,null,null,null,null,null,null,null,null,null,null,null,null,null,null,null,null,null,null,null,null,null,null,null,null,null,null,null,null,null,null,null,null,null,null,null,null,null,null,null,null,null,{"$f":"#REF!","v":{"$error":"#REF!"}},{"$f":"#REF!","v":{"$error":"#REF!"}},{"$f":"#REF!","v":{"$error":"#REF!"}},{"$f":"#REF!","v":{"$error":"#REF!"}},{"$f":"#REF!","v":{"$error":"#REF!"}},{"$f":"#REF!","v":{"$error":"#REF!"}},{"$f":"#REF!","v":{"$error":"#REF!"}},{"$f":"#REF!","v":{"$error":"#REF!"}},{"$f":"#REF!","v":{"$error":"#REF!"}}]
[null,null,null,null,null,null,null,null,null,null,null,null,null,null,null,null,null,null,null,null,null,null,null,null,null,null,null,null,null,null,null,null,null,null,null,null,null,null,null,null,null,null,null,null,null,null,null,null,null,null,null,null,null,null,null,null,null,null,null,null,null,null,null,null,null,null,null,null,null,null,null,null,null,null,null,null,null,null,null,null,null,null,null,null,null,null,null,null,null,null,null,null,null,null,null,null,null,null,null,null,null,{"$f":"#REF!","v":{"$error":"#REF!"}},{"$f":"#REF!","v":{"$error":"#REF!"}},{"$f":"#REF!","v":{"$error":"#REF!"}},{"$f":"#REF!","v":{"$error":"#REF!"}},{"$f":"#REF!","v":{"$error":"#REF!"}},{"$f":"#REF!","v":{"$error":"#REF!"}},{"$f":"#REF!","v":{"$error":"#REF!"}},{"$f":"#REF!","v":{"$error":"#REF!"}},{"$f":"#REF!","v":{"$error":"#REF!"}}]
[null,null,null,null,null,null,null,null,null,null,null,null,null,null,null,null,null,null,null,null,null,null,null,null,null,null,null,null,null,null,null,null,null,null,null,null,null,null,null,null,null,null,null,null,null,null,null,null,null,null,null,null,null,null,null,null,null,null,null,null,null,null,null,null,null,null,null,null,null,null,null,null,null,null,null,null,null,null,null,null,null,null,null,null,null,null,null,null,null,null,null,null,null,null,null,null,null,null,null,null,null,{"$f":"#REF!","v":{"$error":"#REF!"}},{"$f":"#REF!","v":{"$error":"#REF!"}},{"$f":"#REF!","v":{"$error":"#REF!"}},{"$f":"#REF!","v":{"$error":"#REF!"}},{"$f":"#REF!","v":{"$error":"#REF!"}},{"$f":"#REF!","v":{"$error":"#REF!"}},{"$f":"#REF!","v":{"$error":"#REF!"}},{"$f":"#REF!","v":{"$error":"#REF!"}},{"$f":"#REF!","v":{"$error":"#REF!"}}]
[null,null,null,null,null,null,null,null,null,null,null,null,null,null,null,null,null,null,null,null,null,null,null,null,null,null,null,null,null,null,null,null,null,null,null,null,null,null,null,null,null,null,null,null,null,null,null,null,null,null,null,null,null,null,null,null,null,null,null,null,null,null,null,null,null,null,null,null,null,null,null,null,null,null,null,null,null,null,null,null,null,null,null,null,null,null,null,null,null,null,null,null,null,null,null,null,null,null,null,null,null,{"$f":"#REF!","v":{"$error":"#REF!"}},{"$f":"#REF!","v":{"$error":"#REF!"}},{"$f":"#REF!","v":{"$error":"#REF!"}},{"$f":"#REF!","v":{"$error":"#REF!"}},{"$f":"#REF!","v":{"$error":"#REF!"}},{"$f":"#REF!","v":{"$error":"#REF!"}},{"$f":"#REF!","v":{"$error":"#REF!"}},{"$f":"#REF!","v":{"$error":"#REF!"}},{"$f":"#REF!","v":{"$error":"#REF!"}}]
[null,null,null,null,null,null,null,null,null,null,null,null,null,null,null,null,null,null,null,null,null,null,null,null,null,null,null,null,null,null,null,null,null,null,null,null,null,null,null,null,null,null,null,null,null,null,null,null,null,null,null,null,null,null,null,null,null,null,null,null,null,null,null,null,null,null,null,null,null,null,null,null,null,null,null,null,null,null,null,null,null,null,null,null,null,null,null,null,null,null,null,null,null,null,null,null,null,null,null,null,null,{"$f":"#REF!","v":{"$error":"#REF!"}},{"$f":"#REF!","v":{"$error":"#REF!"}},{"$f":"#REF!","v":{"$error":"#REF!"}},{"$f":"#REF!","v":{"$error":"#REF!"}},{"$f":"#REF!","v":{"$error":"#REF!"}},{"$f":"#REF!","v":{"$error":"#REF!"}},{"$f":"#REF!","v":{"$error":"#REF!"}},{"$f":"#REF!","v":{"$error":"#REF!"}},{"$f":"#REF!","v":{"$error":"#REF!"}}]
[null,null,null,null,null,null,null,null,null,null,null,null,null,null,null,null,null,null,null,null,null,null,null,null,null,null,null,null,null,null,null,null,null,null,null,null,null,null,null,null,null,null,null,null,null,null,null,null,null,null,null,null,null,null,null,null,null,null,null,null,null,null,null,null,null,null,null,null,null,null,null,null,null,null,null,null,null,null,null,null,null,null,null,null,null,null,null,null,null,null,null,null,null,null,null,null,null,null,null,null,null,{"$f":"#REF!","v":{"$error":"#REF!"}},{"$f":"#REF!","v":{"$error":"#REF!"}},{"$f":"#REF!","v":{"$error":"#REF!"}},{"$f":"#REF!","v":{"$error":"#REF!"}},{"$f":"#REF!","v":{"$error":"#REF!"}},{"$f":"#REF!","v":{"$error":"#REF!"}},{"$f":"#REF!","v":{"$error":"#REF!"}},{"$f":"#REF!","v":{"$error":"#REF!"}},{"$f":"#REF!","v":{"$error":"#REF!"}}]
[null,null,null,null,null,null,null,null,null,null,null,null,null,null,null,null,null,null,null,null,null,null,null,null,null,null,null,null,null,null,null,null,null,null,null,null,null,null,null,null,null,null,null,null,null,null,null,null,null,null,null,null,null,null,null,null,null,null,null,null,null,null,null,null,null,null,null,null,null,null,null,null,null,null,null,null,null,null,null,null,null,null,null,null,null,null,null,null,null,null,null,null,null,null,null,null,null,null,null,null,null,{"$f":"#REF!","v":{"$error":"#REF!"}},{"$f":"#REF!","v":{"$error":"#REF!"}},{"$f":"#REF!","v":{"$error":"#REF!"}},{"$f":"#REF!","v":{"$error":"#REF!"}},{"$f":"#REF!","v":{"$error":"#REF!"}},{"$f":"#REF!","v":{"$error":"#REF!"}},{"$f":"#REF!","v":{"$error":"#REF!"}},{"$f":"#REF!","v":{"$error":"#REF!"}},{"$f":"#REF!","v":{"$error":"#REF!"}}]
[null,null,null,null,null,null,null,null,null,null,null,null,null,null,null,null,null,null,null,null,null,null,null,null,null,null,null,null,null,null,null,null,null,null,null,null,null,null,null,null,null,null,null,null,null,null,null,null,null,null,null,null,null,null,null,null,null,null,null,null,null,null,null,null,null,null,null,null,null,null,null,null,null,null,null,null,null,null,null,null,null,null,null,null,null,null,null,null,null,null,null,null,null,null,null,null,null,null,null,null,null,{"$f":"#REF!","v":{"$error":"#REF!"}},{"$f":"#REF!","v":{"$error":"#REF!"}},{"$f":"#REF!","v":{"$error":"#REF!"}},{"$f":"#REF!","v":{"$error":"#REF!"}},{"$f":"#REF!","v":{"$error":"#REF!"}},{"$f":"#REF!","v":{"$error":"#REF!"}},{"$f":"#REF!","v":{"$error":"#REF!"}},{"$f":"#REF!","v":{"$error":"#REF!"}},{"$f":"#REF!","v":{"$error":"#REF!"}}]
[null,null,null,null,null,null,null,null,null,null,null,null,null,null,null,null,null,null,null,null,null,null,null,null,null,null,null,null,null,null,null,null,null,null,null,null,null,null,null,null,null,null,null,null,null,null,null,null,null,null,null,null,null,null,null,null,null,null,null,null,null,null,null,null,null,null,null,null,null,null,null,null,null,null,null,null,null,null,null,null,null,null,null,null,null,null,null,null,null,null,null,null,null,null,null,null,null,null,null,null,null,{"$f":"#REF!","v":{"$error":"#REF!"}},{"$f":"#REF!","v":{"$error":"#REF!"}},{"$f":"#REF!","v":{"$error":"#REF!"}},{"$f":"#REF!","v":{"$error":"#REF!"}},{"$f":"#REF!","v":{"$error":"#REF!"}},{"$f":"#REF!","v":{"$error":"#REF!"}},{"$f":"#REF!","v":{"$error":"#REF!"}},{"$f":"#REF!","v":{"$error":"#REF!"}},{"$f":"#REF!","v":{"$error":"#REF!"}}]
[null,null,null,null,null,null,null,null,null,null,null,null,null,null,null,null,null,null,null,null,null,null,null,null,null,null,null,null,null,null,null,null,null,null,null,null,null,null,null,null,null,null,null,null,null,null,null,null,null,null,null,null,null,null,null,null,null,null,null,null,null,null,null,null,null,null,null,null,null,null,null,null,null,null,null,null,null,null,null,null,null,null,null,null,null,null,null,null,null,null,null,null,null,null,null,null,null,null,null,null,null,{"$f":"#REF!","v":{"$error":"#REF!"}},{"$f":"#REF!","v":{"$error":"#REF!"}},{"$f":"#REF!","v":{"$error":"#REF!"}},{"$f":"#REF!","v":{"$error":"#REF!"}},{"$f":"#REF!","v":{"$error":"#REF!"}},{"$f":"#REF!","v":{"$error":"#REF!"}},{"$f":"#REF!","v":{"$error":"#REF!"}},{"$f":"#REF!","v":{"$error":"#REF!"}},{"$f":"#REF!","v":{"$error":"#REF!"}}]
[null,null,null,null,null,null,null,null,null,null,null,null,null,null,null,null,null,null,null,null,null,null,null,null,null,null,null,null,null,null,null,null,null,null,null,null,null,null,null,null,null,null,null,null,null,null,null,null,null,null,null,null,null,null,null,null,null,null,null,null,null,null,null,null,null,null,null,null,null,null,null,null,null,null,null,null,null,null,null,null,null,null,null,null,null,null,null,null,null,null,null,null,null,null,null,null,null,null,null,null,null,{"$f":"#REF!","v":{"$error":"#REF!"}},{"$f":"#REF!","v":{"$error":"#REF!"}},{"$f":"#REF!","v":{"$error":"#REF!"}},{"$f":"#REF!","v":{"$error":"#REF!"}},{"$f":"#REF!","v":{"$error":"#REF!"}},{"$f":"#REF!","v":{"$error":"#REF!"}},{"$f":"#REF!","v":{"$error":"#REF!"}},{"$f":"#REF!","v":{"$error":"#REF!"}},{"$f":"#REF!","v":{"$error":"#REF!"}}]
[null,null,null,null,null,null,null,null,null,null,null,null,null,null,null,null,null,null,null,null,null,null,null,null,null,null,null,null,null,null,null,null,null,null,null,null,null,null,null,null,null,null,null,null,null,null,null,null,null,null,null,null,null,null,null,null,null,null,null,null,null,null,null,null,null,null,null,null,null,null,null,null,null,null,null,null,null,null,null,null,null,null,null,null,null,null,null,null,null,null,null,null,null,null,null,null,null,null,null,null,null,{"$f":"#REF!","v":{"$error":"#REF!"}},{"$f":"#REF!","v":{"$error":"#REF!"}},{"$f":"#REF!","v":{"$error":"#REF!"}},{"$f":"#REF!","v":{"$error":"#REF!"}},{"$f":"#REF!","v":{"$error":"#REF!"}},{"$f":"#REF!","v":{"$error":"#REF!"}},{"$f":"#REF!","v":{"$error":"#REF!"}},{"$f":"#REF!","v":{"$error":"#REF!"}},{"$f":"#REF!","v":{"$error":"#REF!"}}]
[null,null,null,null,null,null,null,null,null,null,null,null,null,null,null,null,null,null,null,null,null,null,null,null,null,null,null,null,null,null,null,null,null,null,null,null,null,null,null,null,null,null,null,null,null,null,null,null,null,null,null,null,null,null,null,null,null,null,null,null,null,null,null,null,null,null,null,null,null,null,null,null,null,null,null,null,null,null,null,null,null,null,null,null,null,null,null,null,null,null,null,null,null,null,null,null,null,null,null,null,null,{"$f":"#REF!","v":{"$error":"#REF!"}},{"$f":"#REF!","v":{"$error":"#REF!"}},{"$f":"#REF!","v":{"$error":"#REF!"}},{"$f":"#REF!","v":{"$error":"#REF!"}},{"$f":"#REF!","v":{"$error":"#REF!"}},{"$f":"#REF!","v":{"$error":"#REF!"}},{"$f":"#REF!","v":{"$error":"#REF!"}},{"$f":"#REF!","v":{"$error":"#REF!"}},{"$f":"#REF!","v":{"$error":"#REF!"}}]
[null,null,null,null,null,null,null,null,null,null,null,null,null,null,null,null,null,null,null,null,null,null,null,null,null,null,null,null,null,null,null,null,null,null,null,null,null,null,null,null,null,null,null,null,null,null,null,null,null,null,null,null,null,null,null,null,null,null,null,null,null,null,null,null,null,null,null,null,null,null,null,null,null,null,null,null,null,null,null,null,null,null,null,null,null,null,null,null,null,null,null,null,null,null,null,null,null,null,null,null,null,{"$f":"#REF!","v":{"$error":"#REF!"}},{"$f":"#REF!","v":{"$error":"#REF!"}},{"$f":"#REF!","v":{"$error":"#REF!"}},{"$f":"#REF!","v":{"$error":"#REF!"}},{"$f":"#REF!","v":{"$error":"#REF!"}},{"$f":"#REF!","v":{"$error":"#REF!"}},{"$f":"#REF!","v":{"$error":"#REF!"}},{"$f":"#REF!","v":{"$error":"#REF!"}},{"$f":"#REF!","v":{"$error":"#REF!"}}]
[null,null,null,null,null,null,null,null,null,null,null,null,null,null,null,null,null,null,null,null,null,null,null,null,null,null,null,null,null,null,null,null,null,null,null,null,null,null,null,null,null,null,null,null,null,null,null,null,null,null,null,null,null,null,null,null,null,null,null,null,null,null,null,null,null,null,null,null,null,null,null,null,null,null,null,null,null,null,null,null,null,null,null,null,null,null,null,null,null,null,null,null,null,null,null,null,null,null,null,null,null,{"$f":"#REF!","v":{"$error":"#REF!"}},{"$f":"#REF!","v":{"$error":"#REF!"}},{"$f":"#REF!","v":{"$error":"#REF!"}},{"$f":"#REF!","v":{"$error":"#REF!"}},{"$f":"#REF!","v":{"$error":"#REF!"}},{"$f":"#REF!","v":{"$error":"#REF!"}},{"$f":"#REF!","v":{"$error":"#REF!"}},{"$f":"#REF!","v":{"$error":"#REF!"}},{"$f":"#REF!","v":{"$error":"#REF!"}}]
[null,null,null,null,null,null,null,null,null,null,null,null,null,null,null,null,null,null,null,null,null,null,null,null,null,null,null,null,null,null,null,null,null,null,null,null,null,null,null,null,null,null,null,null,null,null,null,null,null,null,null,null,null,null,null,null,null,null,null,null,null,null,null,null,null,null,null,null,null,null,null,null,null,null,null,null,null,null,null,null,null,null,null,null,null,null,null,null,null,null,null,null,null,null,null,null,null,null,null,null,null,{"$f":"#REF!","v":{"$error":"#REF!"}},{"$f":"#REF!","v":{"$error":"#REF!"}},{"$f":"#REF!","v":{"$error":"#REF!"}},{"$f":"#REF!","v":{"$error":"#REF!"}},{"$f":"#REF!","v":{"$error":"#REF!"}},{"$f":"#REF!","v":{"$error":"#REF!"}},{"$f":"#REF!","v":{"$error":"#REF!"}},{"$f":"#REF!","v":{"$error":"#REF!"}},{"$f":"#REF!","v":{"$error":"#REF!"}}]
[null,null,null,null,null,null,null,null,null,null,null,null,null,null,null,null,null,null,null,null,null,null,null,null,null,null,null,null,null,null,null,null,null,null,null,null,null,null,null,null,null,null,null,null,null,null,null,null,null,null,null,null,null,null,null,null,null,null,null,null,null,null,null,null,null,null,null,null,null,null,null,null,null,null,null,null,null,null,null,null,null,null,null,null,null,null,null,null,null,null,null,null,null,null,null,null,null,null,null,null,null,{"$f":"#REF!","v":{"$error":"#REF!"}},{"$f":"#REF!","v":{"$error":"#REF!"}},{"$f":"#REF!","v":{"$error":"#REF!"}},{"$f":"#REF!","v":{"$error":"#REF!"}},{"$f":"#REF!","v":{"$error":"#REF!"}},{"$f":"#REF!","v":{"$error":"#REF!"}},{"$f":"#REF!","v":{"$error":"#REF!"}},{"$f":"#REF!","v":{"$error":"#REF!"}},{"$f":"#REF!","v":{"$error":"#REF!"}}]
[null,null,null,null,null,null,null,null,null,null,null,null,null,null,null,null,null,null,null,null,null,null,null,null,null,null,null,null,null,null,null,null,null,null,null,null,null,null,null,null,null,null,null,null,null,null,null,null,null,null,null,null,null,null,null,null,null,null,null,null,null,null,null,null,null,null,null,null,null,null,null,null,null,null,null,null,null,null,null,null,null,null,null,null,null,null,null,null,null,null,null,null,null,null,null,null,null,null,null,null,null,{"$f":"#REF!","v":{"$error":"#REF!"}},{"$f":"#REF!","v":{"$error":"#REF!"}},{"$f":"#REF!","v":{"$error":"#REF!"}},{"$f":"#REF!","v":{"$error":"#REF!"}},{"$f":"#REF!","v":{"$error":"#REF!"}},{"$f":"#REF!","v":{"$error":"#REF!"}},{"$f":"#REF!","v":{"$error":"#REF!"}},{"$f":"#REF!","v":{"$error":"#REF!"}},{"$f":"#REF!","v":{"$error":"#REF!"}}]
[null,null,null,null,null,null,null,null,null,null,null,null,null,null,null,null,null,null,null,null,null,null,null,null,null,null,null,null,null,null,null,null,null,null,null,null,null,null,null,null,null,null,null,null,null,null,null,null,null,null,null,null,null,null,null,null,null,null,null,null,null,null,null,null,null,null,null,null,null,null,null,null,null,null,null,null,null,null,null,null,null,null,null,null,null,null,null,null,null,null,null,null,null,null,null,null,null,null,null,null,null,{"$f":"#REF!","v":{"$error":"#REF!"}},{"$f":"#REF!","v":{"$error":"#REF!"}},{"$f":"#REF!","v":{"$error":"#REF!"}},{"$f":"#REF!","v":{"$error":"#REF!"}},{"$f":"#REF!","v":{"$error":"#REF!"}},{"$f":"#REF!","v":{"$error":"#REF!"}},{"$f":"#REF!","v":{"$error":"#REF!"}},{"$f":"#REF!","v":{"$error":"#REF!"}},{"$f":"#REF!","v":{"$error":"#REF!"}}]
[null,null,null,null,null,null,null,null,null,null,null,null,null,null,null,null,null,null,null,null,null,null,null,null,null,null,null,null,null,null,null,null,null,null,null,null,null,null,null,null,null,null,null,null,null,null,null,null,null,null,null,null,null,null,null,null,null,null,null,null,null,null,null,null,null,null,null,null,null,null,null,null,null,null,null,null,null,null,null,null,null,null,null,null,null,null,null,null,null,null,null,null,null,null,null,null,null,null,null,null,null,{"$f":"#REF!","v":{"$error":"#REF!"}},{"$f":"#REF!","v":{"$error":"#REF!"}},{"$f":"#REF!","v":{"$error":"#REF!"}},{"$f":"#REF!","v":{"$error":"#REF!"}},{"$f":"#REF!","v":{"$error":"#REF!"}},{"$f":"#REF!","v":{"$error":"#REF!"}},{"$f":"#REF!","v":{"$error":"#REF!"}},{"$f":"#REF!","v":{"$error":"#REF!"}},{"$f":"#REF!","v":{"$error":"#REF!"}}]
[null,null,null,null,null,null,null,null,null,null,null,null,null,null,null,null,null,null,null,null,null,null,null,null,null,null,null,null,null,null,null,null,null,null,null,null,null,null,null,null,null,null,null,null,null,null,null,null,null,null,null,null,null,null,null,null,null,null,null,null,null,null,null,null,null,null,null,null,null,null,null,null,null,null,null,null,null,null,null,null,null,null,null,null,null,null,null,null,null,null,null,null,null,null,null,null,null,null,null,null,null,{"$f":"#REF!","v":{"$error":"#REF!"}},{"$f":"#REF!","v":{"$error":"#REF!"}},{"$f":"#REF!","v":{"$error":"#REF!"}},{"$f":"#REF!","v":{"$error":"#REF!"}},{"$f":"#REF!","v":{"$error":"#REF!"}},{"$f":"#REF!","v":{"$error":"#REF!"}},{"$f":"#REF!","v":{"$error":"#REF!"}},{"$f":"#REF!","v":{"$error":"#REF!"}},{"$f":"#REF!","v":{"$error":"#REF!"}}]
[null,null,null,null,null,null,null,null,null,null,null,null,null,null,null,null,null,null,null,null,null,null,null,null,null,null,null,null,null,null,null,null,null,null,null,null,null,null,null,null,null,null,null,null,null,null,null,null,null,null,null,null,null,null,null,null,null,null,null,null,null,null,null,null,null,null,null,null,null,null,null,null,null,null,null,null,null,null,null,null,null,null,null,null,null,null,null,null,null,null,null,null,null,null,null,null,null,null,null,null,null,{"$f":"#REF!","v":{"$error":"#REF!"}},{"$f":"#REF!","v":{"$error":"#REF!"}},{"$f":"#REF!","v":{"$error":"#REF!"}},{"$f":"#REF!","v":{"$error":"#REF!"}},{"$f":"#REF!","v":{"$error":"#REF!"}},{"$f":"#REF!","v":{"$error":"#REF!"}},{"$f":"#REF!","v":{"$error":"#REF!"}},{"$f":"#REF!","v":{"$error":"#REF!"}},{"$f":"#REF!","v":{"$error":"#REF!"}}]
[null,null,null,null,null,null,null,null,null,null,null,null,null,null,null,null,null,null,null,null,null,null,null,null,null,null,null,null,null,null,null,null,null,null,null,null,null,null,null,null,null,null,null,null,null,null,null,null,null,null,null,null,null,null,null,null,null,null,null,null,null,null,null,null,null,null,null,null,null,null,null,null,null,null,null,null,null,null,null,null,null,null,null,null,null,null,null,null,null,null,null,null,null,null,null,null,null,null,null,null,null,{"$f":"#REF!","v":{"$error":"#REF!"}},{"$f":"#REF!","v":{"$error":"#REF!"}},{"$f":"#REF!","v":{"$error":"#REF!"}},{"$f":"#REF!","v":{"$error":"#REF!"}},{"$f":"#REF!","v":{"$error":"#REF!"}},{"$f":"#REF!","v":{"$error":"#REF!"}},{"$f":"#REF!","v":{"$error":"#REF!"}},{"$f":"#REF!","v":{"$error":"#REF!"}},{"$f":"#REF!","v":{"$error":"#REF!"}}]
[null,null,null,null,null,null,null,null,null,null,null,null,null,null,null,null,null,null,null,null,null,null,null,null,null,null,null,null,null,null,null,null,null,null,null,null,null,null,null,null,null,null,null,null,null,null,null,null,null,null,null,null,null,null,null,null,null,null,null,null,null,null,null,null,null,null,null,null,null,null,null,null,null,null,null,null,null,null,null,null,null,null,null,null,null,null,null,null,null,null,null,null,null,null,null,null,null,null,null,null,null,{"$f":"#REF!","v":{"$error":"#REF!"}},{"$f":"#REF!","v":{"$error":"#REF!"}},{"$f":"#REF!","v":{"$error":"#REF!"}},{"$f":"#REF!","v":{"$error":"#REF!"}},{"$f":"#REF!","v":{"$error":"#REF!"}},{"$f":"#REF!","v":{"$error":"#REF!"}},{"$f":"#REF!","v":{"$error":"#REF!"}},{"$f":"#REF!","v":{"$error":"#REF!"}},{"$f":"#REF!","v":{"$error":"#REF!"}}]
[null,null,null,null,null,null,null,null,null,null,null,null,null,null,null,null,null,null,null,null,null,null,null,null,null,null,null,null,null,null,null,null,null,null,null,null,null,null,null,null,null,null,null,null,null,null,null,null,null,null,null,null,null,null,null,null,null,null,null,null,null,null,null,null,null,null,null,null,null,null,null,null,null,null,null,null,null,null,null,null,null,null,null,null,null,null,null,null,null,null,null,null,null,null,null,null,null,null,null,null,null,{"$f":"#REF!","v":{"$error":"#REF!"}},{"$f":"#REF!","v":{"$error":"#REF!"}},{"$f":"#REF!","v":{"$error":"#REF!"}},{"$f":"#REF!","v":{"$error":"#REF!"}},{"$f":"#REF!","v":{"$error":"#REF!"}},{"$f":"#REF!","v":{"$error":"#REF!"}},{"$f":"#REF!","v":{"$error":"#REF!"}},{"$f":"#REF!","v":{"$error":"#REF!"}},{"$f":"#REF!","v":{"$error":"#REF!"}}]
[null,null,null,null,null,null,null,null,null,null,null,null,null,null,null,null,null,null,null,null,null,null,null,null,null,null,null,null,null,null,null,null,null,null,null,null,null,null,null,null,null,null,null,null,null,null,null,null,null,null,null,null,null,null,null,null,null,null,null,null,null,null,null,null,null,null,null,null,null,null,null,null,null,null,null,null,null,null,null,null,null,null,null,null,null,null,null,null,null,null,null,null,null,null,null,null,null,null,null,null,null,{"$f":"#REF!","v":{"$error":"#REF!"}},{"$f":"#REF!","v":{"$error":"#REF!"}},{"$f":"#REF!","v":{"$error":"#REF!"}},{"$f":"#REF!","v":{"$error":"#REF!"}},{"$f":"#REF!","v":{"$error":"#REF!"}},{"$f":"#REF!","v":{"$error":"#REF!"}},{"$f":"#REF!","v":{"$error":"#REF!"}},{"$f":"#REF!","v":{"$error":"#REF!"}},{"$f":"#REF!","v":{"$error":"#REF!"}}]
[null,null,null,null,null,null,null,null,null,null,null,null,null,null,null,null,null,null,null,null,null,null,null,null,null,null,null,null,null,null,null,null,null,null,null,null,null,null,null,null,null,null,null,null,null,null,null,null,null,null,null,null,null,null,null,null,null,null,null,null,null,null,null,null,null,null,null,null,null,null,null,null,null,null,null,null,null,null,null,null,null,null,null,null,null,null,null,null,null,null,null,null,null,null,null,null,null,null,null,null,null,{"$f":"#REF!","v":{"$error":"#REF!"}},{"$f":"#REF!","v":{"$error":"#REF!"}},{"$f":"#REF!","v":{"$error":"#REF!"}},{"$f":"#REF!","v":{"$error":"#REF!"}},{"$f":"#REF!","v":{"$error":"#REF!"}},{"$f":"#REF!","v":{"$error":"#REF!"}},{"$f":"#REF!","v":{"$error":"#REF!"}},{"$f":"#REF!","v":{"$error":"#REF!"}},{"$f":"#REF!","v":{"$error":"#REF!"}}]
[null,null,null,null,null,null,null,null,null,null,null,null,null,null,null,null,null,null,null,null,null,null,null,null,null,null,null,null,null,null,null,null,null,null,null,null,null,null,null,null,null,null,null,null,null,null,null,null,null,null,null,null,null,null,null,null,null,null,null,null,null,null,null,null,null,null,null,null,null,null,null,null,null,null,null,null,null,null,null,null,null,null,null,null,null,null,null,null,null,null,null,null,null,null,null,null,null,null,null,null,null,{"$f":"#REF!","v":{"$error":"#REF!"}},{"$f":"#REF!","v":{"$error":"#REF!"}},{"$f":"#REF!","v":{"$error":"#REF!"}},{"$f":"#REF!","v":{"$error":"#REF!"}},{"$f":"#REF!","v":{"$error":"#REF!"}},{"$f":"#REF!","v":{"$error":"#REF!"}},{"$f":"#REF!","v":{"$error":"#REF!"}},{"$f":"#REF!","v":{"$error":"#REF!"}},{"$f":"#REF!","v":{"$error":"#REF!"}}]
[null,null,null,null,null,null,null,null,null,null,null,null,null,null,null,null,null,null,null,null,null,null,null,null,null,null,null,null,null,null,null,null,null,null,null,null,null,null,null,null,null,null,null,null,null,null,null,null,null,null,null,null,null,null,null,null,null,null,null,null,null,null,null,null,null,null,null,null,null,null,null,null,null,null,null,null,null,null,null,null,null,null,null,null,null,null,null,null,null,null,null,null,null,null,null,null,null,null,null,null,null,{"$f":"#REF!","v":{"$error":"#REF!"}},{"$f":"#REF!","v":{"$error":"#REF!"}},{"$f":"#REF!","v":{"$error":"#REF!"}},{"$f":"#REF!","v":{"$error":"#REF!"}},{"$f":"#REF!","v":{"$error":"#REF!"}},{"$f":"#REF!","v":{"$error":"#REF!"}},{"$f":"#REF!","v":{"$error":"#REF!"}},{"$f":"#REF!","v":{"$error":"#REF!"}},{"$f":"#REF!","v":{"$error":"#REF!"}}]
[null,null,null,null,null,null,null,null,null,null,null,null,null,null,null,null,null,null,null,null,null,null,null,null,null,null,null,null,null,null,null,null,null,null,null,null,null,null,null,null,null,null,null,null,null,null,null,null,null,null,null,null,null,null,null,null,null,null,null,null,null,null,null,null,null,null,null,null,null,null,null,null,null,null,null,null,null,null,null,null,null,null,null,null,null,null,null,null,null,null,null,null,null,null,null,null,null,null,null,null,null,{"$f":"#REF!","v":{"$error":"#REF!"}},{"$f":"#REF!","v":{"$error":"#REF!"}},{"$f":"#REF!","v":{"$error":"#REF!"}},{"$f":"#REF!","v":{"$error":"#REF!"}},{"$f":"#REF!","v":{"$error":"#REF!"}},{"$f":"#REF!","v":{"$error":"#REF!"}},{"$f":"#REF!","v":{"$error":"#REF!"}},{"$f":"#REF!","v":{"$error":"#REF!"}},{"$f":"#REF!","v":{"$error":"#REF!"}}]
[null,null,null,null,null,null,null,null,null,null,null,null,null,null,null,null,null,null,null,null,null,null,null,null,null,null,null,null,null,null,null,null,null,null,null,null,null,null,null,null,null,null,null,null,null,null,null,null,null,null,null,null,null,null,null,null,null,null,null,null,null,null,null,null,null,null,null,null,null,null,null,null,null,null,null,null,null,null,null,null,null,null,null,null,null,null,null,null,null,null,null,null,null,null,null,null,null,null,null,null,null,{"$f":"#REF!","v":{"$error":"#REF!"}},{"$f":"#REF!","v":{"$error":"#REF!"}},{"$f":"#REF!","v":{"$error":"#REF!"}},{"$f":"#REF!","v":{"$error":"#REF!"}},{"$f":"#REF!","v":{"$error":"#REF!"}},{"$f":"#REF!","v":{"$error":"#REF!"}},{"$f":"#REF!","v":{"$error":"#REF!"}},{"$f":"#REF!","v":{"$error":"#REF!"}},{"$f":"#REF!","v":{"$error":"#REF!"}}]
[null,null,null,null,null,null,null,null,null,null,null,null,null,null,null,null,null,null,null,null,null,null,null,null,null,null,null,null,null,null,null,null,null,null,null,null,null,null,null,null,null,null,null,null,null,null,null,null,null,null,null,null,null,null,null,null,null,null,null,null,null,null,null,null,null,null,null,null,null,null,null,null,null,null,null,null,null,null,null,null,null,null,null,null,null,null,null,null,null,null,null,null,null,null,null,null,null,null,null,null,null,{"$f":"#REF!","v":{"$error":"#REF!"}},{"$f":"#REF!","v":{"$error":"#REF!"}},{"$f":"#REF!","v":{"$error":"#REF!"}},{"$f":"#REF!","v":{"$error":"#REF!"}},{"$f":"#REF!","v":{"$error":"#REF!"}},{"$f":"#REF!","v":{"$error":"#REF!"}},{"$f":"#REF!","v":{"$error":"#REF!"}},{"$f":"#REF!","v":{"$error":"#REF!"}},{"$f":"#REF!","v":{"$error":"#REF!"}}]
[null,null,null,null,null,null,null,null,null,null,null,null,null,null,null,null,null,null,null,null,null,null,null,null,null,null,null,null,null,null,null,null,null,null,null,null,null,null,null,null,null,null,null,null,null,null,null,null,null,null,null,null,null,null,null,null,null,null,null,null,null,null,null,null,null,null,null,null,null,null,null,null,null,null,null,null,null,null,null,null,null,null,null,null,null,null,null,null,null,null,null,null,null,null,null,null,null,null,null,null,null,{"$f":"#REF!","v":{"$error":"#REF!"}},{"$f":"#REF!","v":{"$error":"#REF!"}},{"$f":"#REF!","v":{"$error":"#REF!"}},{"$f":"#REF!","v":{"$error":"#REF!"}},{"$f":"#REF!","v":{"$error":"#REF!"}},{"$f":"#REF!","v":{"$error":"#REF!"}},{"$f":"#REF!","v":{"$error":"#REF!"}},{"$f":"#REF!","v":{"$error":"#REF!"}},{"$f":"#REF!","v":{"$error":"#REF!"}}]
[null,null,null,null,null,null,null,null,null,null,null,null,null,null,null,null,null,null,null,null,null,null,null,null,null,null,null,null,null,null,null,null,null,null,null,null,null,null,null,null,null,null,null,null,null,null,null,null,null,null,null,null,null,null,null,null,null,null,null,null,null,null,null,null,null,null,null,null,null,null,null,null,null,null,null,null,null,null,null,null,null,null,null,null,null,null,null,null,null,null,null,null,null,null,null,null,null,null,null,null,null,{"$f":"#REF!","v":{"$error":"#REF!"}},{"$f":"#REF!","v":{"$error":"#REF!"}},{"$f":"#REF!","v":{"$error":"#REF!"}},{"$f":"#REF!","v":{"$error":"#REF!"}},{"$f":"#REF!","v":{"$error":"#REF!"}},{"$f":"#REF!","v":{"$error":"#REF!"}},{"$f":"#REF!","v":{"$error":"#REF!"}},{"$f":"#REF!","v":{"$error":"#REF!"}},{"$f":"#REF!","v":{"$error":"#REF!"}}]
[null,null,null,null,null,null,null,null,null,null,null,null,null,null,null,null,null,null,null,null,null,null,null,null,null,null,null,null,null,null,null,null,null,null,null,null,null,null,null,null,null,null,null,null,null,null,null,null,null,null,null,null,null,null,null,null,null,null,null,null,null,null,null,null,null,null,null,null,null,null,null,null,null,null,null,null,null,null,null,null,null,null,null,null,null,null,null,null,null,null,null,null,null,null,null,null,null,null,null,null,null,{"$f":"#REF!","v":{"$error":"#REF!"}},{"$f":"#REF!","v":{"$error":"#REF!"}},{"$f":"#REF!","v":{"$error":"#REF!"}},{"$f":"#REF!","v":{"$error":"#REF!"}},{"$f":"#REF!","v":{"$error":"#REF!"}},{"$f":"#REF!","v":{"$error":"#REF!"}},{"$f":"#REF!","v":{"$error":"#REF!"}},{"$f":"#REF!","v":{"$error":"#REF!"}},{"$f":"#REF!","v":{"$error":"#REF!"}}]
[null,null,null,null,null,null,null,null,null,null,null,null,null,null,null,null,null,null,null,null,null,null,null,null,null,null,null,null,null,null,null,null,null,null,null,null,null,null,null,null,null,null,null,null,null,null,null,null,null,null,null,null,null,null,null,null,null,null,null,null,null,null,null,null,null,null,null,null,null,null,null,null,null,null,null,null,null,null,null,null,null,null,null,null,null,null,null,null,null,null,null,null,null,null,null,null,null,null,null,null,null,{"$f":"#REF!","v":{"$error":"#REF!"}},{"$f":"#REF!","v":{"$error":"#REF!"}},{"$f":"#REF!","v":{"$error":"#REF!"}},{"$f":"#REF!","v":{"$error":"#REF!"}},{"$f":"#REF!","v":{"$error":"#REF!"}},{"$f":"#REF!","v":{"$error":"#REF!"}},{"$f":"#REF!","v":{"$error":"#REF!"}},{"$f":"#REF!","v":{"$error":"#REF!"}},{"$f":"#REF!","v":{"$error":"#REF!"}}]
[null,null,null,null,null,null,null,null,null,null,null,null,null,null,null,null,null,null,null,null,null,null,null,null,null,null,null,null,null,null,null,null,null,null,null,null,null,null,null,null,null,null,null,null,null,null,null,null,null,null,null,null,null,null,null,null,null,null,null,null,null,null,null,null,null,null,null,null,null,null,null,null,null,null,null,null,null,null,null,null,null,null,null,null,null,null,null,null,null,null,null,null,null,null,null,null,null,null,null,null,null,{"$f":"#REF!","v":{"$error":"#REF!"}},{"$f":"#REF!","v":{"$error":"#REF!"}},{"$f":"#REF!","v":{"$error":"#REF!"}},{"$f":"#REF!","v":{"$error":"#REF!"}},{"$f":"#REF!","v":{"$error":"#REF!"}},{"$f":"#REF!","v":{"$error":"#REF!"}},{"$f":"#REF!","v":{"$error":"#REF!"}},{"$f":"#REF!","v":{"$error":"#REF!"}},{"$f":"#REF!","v":{"$error":"#REF!"}}]
[null,null,null,null,null,null,null,null,null,null,null,null,null,null,null,null,null,null,null,null,null,null,null,null,null,null,null,null,null,null,null,null,null,null,null,null,null,null,null,null,null,null,null,null,null,null,null,null,null,null,null,null,null,null,null,null,null,null,null,null,null,null,null,null,null,null,null,null,null,null,null,null,null,null,null,null,null,null,null,null,null,null,null,null,null,null,null,null,null,null,null,null,null,null,null,null,null,null,null,null,null,{"$f":"#REF!","v":{"$error":"#REF!"}},{"$f":"#REF!","v":{"$error":"#REF!"}},{"$f":"#REF!","v":{"$error":"#REF!"}},{"$f":"#REF!","v":{"$error":"#REF!"}},{"$f":"#REF!","v":{"$error":"#REF!"}},{"$f":"#REF!","v":{"$error":"#REF!"}},{"$f":"#REF!","v":{"$error":"#REF!"}},{"$f":"#REF!","v":{"$error":"#REF!"}},{"$f":"#REF!","v":{"$error":"#REF!"}}]
[null,null,null,null,null,null,null,null,null,null,null,null,null,null,null,null,null,null,null,null,null,null,null,null,null,null,null,null,null,null,null,null,null,null,null,null,null,null,null,null,null,null,null,null,null,null,null,null,null,null,null,null,null,null,null,null,null,null,null,null,null,null,null,null,null,null,null,null,null,null,null,null,null,null,null,null,null,null,null,null,null,null,null,null,null,null,null,null,null,null,null,null,null,null,null,null,null,null,null,null,null,{"$f":"#REF!","v":{"$error":"#REF!"}},{"$f":"#REF!","v":{"$error":"#REF!"}},{"$f":"#REF!","v":{"$error":"#REF!"}},{"$f":"#REF!","v":{"$error":"#REF!"}},{"$f":"#REF!","v":{"$error":"#REF!"}},{"$f":"#REF!","v":{"$error":"#REF!"}},{"$f":"#REF!","v":{"$error":"#REF!"}},{"$f":"#REF!","v":{"$error":"#REF!"}},{"$f":"#REF!","v":{"$error":"#REF!"}}]
[null,null,null,null,null,null,null,null,null,null,null,null,null,null,null,null,null,null,null,null,null,null,null,null,null,null,null,null,null,null,null,null,null,null,null,null,null,null,null,null,null,null,null,null,null,null,null,null,null,null,null,null,null,null,null,null,null,null,null,null,null,null,null,null,null,null,null,null,null,null,null,null,null,null,null,null,null,null,null,null,null,null,null,null,null,null,null,null,null,null,null,null,null,null,null,null,null,null,null,null,null,{"$f":"#REF!","v":{"$error":"#REF!"}},{"$f":"#REF!","v":{"$error":"#REF!"}},{"$f":"#REF!","v":{"$error":"#REF!"}},{"$f":"#REF!","v":{"$error":"#REF!"}},{"$f":"#REF!","v":{"$error":"#REF!"}},{"$f":"#REF!","v":{"$error":"#REF!"}},{"$f":"#REF!","v":{"$error":"#REF!"}},{"$f":"#REF!","v":{"$error":"#REF!"}},{"$f":"#REF!","v":{"$error":"#REF!"}}]
[null,null,null,null,null,null,null,null,null,null,null,null,null,null,null,null,null,null,null,null,null,null,null,null,null,null,null,null,null,null,null,null,null,null,null,null,null,null,null,null,null,null,null,null,null,null,null,null,null,null,null,null,null,null,null,null,null,null,null,null,null,null,null,null,null,null,null,null,null,null,null,null,null,null,null,null,null,null,null,null,null,null,null,null,null,null,null,null,null,null,null,null,null,null,null,null,null,null,null,null,null,{"$f":"#REF!","v":{"$error":"#REF!"}},{"$f":"#REF!","v":{"$error":"#REF!"}},{"$f":"#REF!","v":{"$error":"#REF!"}},{"$f":"#REF!","v":{"$error":"#REF!"}},{"$f":"#REF!","v":{"$error":"#REF!"}},{"$f":"#REF!","v":{"$error":"#REF!"}},{"$f":"#REF!","v":{"$error":"#REF!"}},{"$f":"#REF!","v":{"$error":"#REF!"}},{"$f":"#REF!","v":{"$error":"#REF!"}}]
[null,null,null,null,null,null,null,null,null,null,null,null,null,null,null,null,null,null,null,null,null,null,null,null,null,null,null,null,null,null,null,null,null,null,null,null,null,null,null,null,null,null,null,null,null,null,null,null,null,null,null,null,null,null,null,null,null,null,null,null,null,null,null,null,null,null,null,null,null,null,null,null,null,null,null,null,null,null,null,null,null,null,null,null,null,null,null,null,null,null,null,null,null,null,null,null,null,null,null,null,null,{"$f":"#REF!","v":{"$error":"#REF!"}},{"$f":"#REF!","v":{"$error":"#REF!"}},{"$f":"#REF!","v":{"$error":"#REF!"}},{"$f":"#REF!","v":{"$error":"#REF!"}},{"$f":"#REF!","v":{"$error":"#REF!"}},{"$f":"#REF!","v":{"$error":"#REF!"}},{"$f":"#REF!","v":{"$error":"#REF!"}},{"$f":"#REF!","v":{"$error":"#REF!"}},{"$f":"#REF!","v":{"$error":"#REF!"}}]
[null,null,null,null,null,null,null,null,null,null,null,null,null,null,null,null,null,null,null,null,null,null,null,null,null,null,null,null,null,null,null,null,null,null,null,null,null,null,null,null,null,null,null,null,null,null,null,null,null,null,null,null,null,null,null,null,null,null,null,null,null,null,null,null,null,null,null,null,null,null,null,null,null,null,null,null,null,null,null,null,null,null,null,null,null,null,null,null,null,null,null,null,null,null,null,null,null,null,null,null,null,{"$f":"#REF!","v":{"$error":"#REF!"}},{"$f":"#REF!","v":{"$error":"#REF!"}},{"$f":"#REF!","v":{"$error":"#REF!"}},{"$f":"#REF!","v":{"$error":"#REF!"}},{"$f":"#REF!","v":{"$error":"#REF!"}},{"$f":"#REF!","v":{"$error":"#REF!"}},{"$f":"#REF!","v":{"$error":"#REF!"}},{"$f":"#REF!","v":{"$error":"#REF!"}},{"$f":"#REF!","v":{"$error":"#REF!"}}]
[null,null,null,null,null,null,null,null,null,null,null,null,null,null,null,null,null,null,null,null,null,null,null,null,null,null,null,null,null,null,null,null,null,null,null,null,null,null,null,null,null,null,null,null,null,null,null,null,null,null,null,null,null,null,null,null,null,null,null,null,null,null,null,null,null,null,null,null,null,null,null,null,null,null,null,null,null,null,null,null,null,null,null,null,null,null,null,null,null,null,null,null,null,null,null,null,null,null,null,null,null,{"$f":"#REF!","v":{"$error":"#REF!"}},{"$f":"#REF!","v":{"$error":"#REF!"}},{"$f":"#REF!","v":{"$error":"#REF!"}},{"$f":"#REF!","v":{"$error":"#REF!"}},{"$f":"#REF!","v":{"$error":"#REF!"}},{"$f":"#REF!","v":{"$error":"#REF!"}},{"$f":"#REF!","v":{"$error":"#REF!"}},{"$f":"#REF!","v":{"$error":"#REF!"}},{"$f":"#REF!","v":{"$error":"#REF!"}}]
[null,null,null,null,null,null,null,null,null,null,null,null,null,null,null,null,null,null,null,null,null,null,null,null,null,null,null,null,null,null,null,null,null,null,null,null,null,null,null,null,null,null,null,null,null,null,null,null,null,null,null,null,null,null,null,null,null,null,null,null,null,null,null,null,null,null,null,null,null,null,null,null,null,null,null,null,null,null,null,null,null,null,null,null,null,null,null,null,null,null,null,null,null,null,null,null,null,null,null,null,null,{"$f":"#REF!","v":{"$error":"#REF!"}},{"$f":"#REF!","v":{"$error":"#REF!"}},{"$f":"#REF!","v":{"$error":"#REF!"}},{"$f":"#REF!","v":{"$error":"#REF!"}},{"$f":"#REF!","v":{"$error":"#REF!"}},{"$f":"#REF!","v":{"$error":"#REF!"}},{"$f":"#REF!","v":{"$error":"#REF!"}},{"$f":"#REF!","v":{"$error":"#REF!"}},{"$f":"#REF!","v":{"$error":"#REF!"}}]
[null,null,null,null,null,null,null,null,null,null,null,null,null,null,null,null,null,null,null,null,null,null,null,null,null,null,null,null,null,null,null,null,null,null,null,null,null,null,null,null,null,null,null,null,null,null,null,null,null,null,null,null,null,null,null,null,null,null,null,null,null,null,null,null,null,null,null,null,null,null,null,null,null,null,null,null,null,null,null,null,null,null,null,null,null,null,null,null,null,null,null,null,null,null,null,null,null,null,null,null,null,{"$f":"#REF!","v":{"$error":"#REF!"}},{"$f":"#REF!","v":{"$error":"#REF!"}},{"$f":"#REF!","v":{"$error":"#REF!"}},{"$f":"#REF!","v":{"$error":"#REF!"}},{"$f":"#REF!","v":{"$error":"#REF!"}},{"$f":"#REF!","v":{"$error":"#REF!"}},{"$f":"#REF!","v":{"$error":"#REF!"}},{"$f":"#REF!","v":{"$error":"#REF!"}},{"$f":"#REF!","v":{"$error":"#REF!"}}]
[null,null,null,null,null,null,null,null,null,null,null,null,null,null,null,null,null,null,null,null,null,null,null,null,null,null,null,null,null,null,null,null,null,null,null,null,null,null,null,null,null,null,null,null,null,null,null,null,null,null,null,null,null,null,null,null,null,null,null,null,null,null,null,null,null,null,null,null,null,null,null,null,null,null,null,null,null,null,null,null,null,null,null,null,null,null,null,null,null,null,null,null,null,null,null,null,null,null,null,null,null,{"$f":"#REF!","v":{"$error":"#REF!"}},{"$f":"#REF!","v":{"$error":"#REF!"}},{"$f":"#REF!","v":{"$error":"#REF!"}},{"$f":"#REF!","v":{"$error":"#REF!"}},{"$f":"#REF!","v":{"$error":"#REF!"}},{"$f":"#REF!","v":{"$error":"#REF!"}},{"$f":"#REF!","v":{"$error":"#REF!"}},{"$f":"#REF!","v":{"$error":"#REF!"}},{"$f":"#REF!","v":{"$error":"#REF!"}}]
[null,null,null,null,null,null,null,null,null,null,null,null,null,null,null,null,null,null,null,null,null,null,null,null,null,null,null,null,null,null,null,null,null,null,null,null,null,null,null,null,null,null,null,null,null,null,null,null,null,null,null,null,null,null,null,null,null,null,null,null,null,null,null,null,null,null,null,null,null,null,null,null,null,null,null,null,null,null,null,null,null,null,null,null,null,null,null,null,null,null,null,null,null,null,null,null,null,null,null,null,null,{"$f":"#REF!","v":{"$error":"#REF!"}},{"$f":"#REF!","v":{"$error":"#REF!"}},{"$f":"#REF!","v":{"$error":"#REF!"}},{"$f":"#REF!","v":{"$error":"#REF!"}},{"$f":"#REF!","v":{"$error":"#REF!"}},{"$f":"#REF!","v":{"$error":"#REF!"}},{"$f":"#REF!","v":{"$error":"#REF!"}},{"$f":"#REF!","v":{"$error":"#REF!"}},{"$f":"#REF!","v":{"$error":"#REF!"}}]
[null,null,null,null,null,null,null,null,null,null,null,null,null,null,null,null,null,null,null,null,null,null,null,null,null,null,null,null,null,null,null,null,null,null,null,null,null,null,null,null,null,null,null,null,null,null,null,null,null,null,null,null,null,null,null,null,null,null,null,null,null,null,null,null,null,null,null,null,null,null,null,null,null,null,null,null,null,null,null,null,null,null,null,null,null,null,null,null,null,null,null,null,null,null,null,null,null,null,null,null,null,{"$f":"#REF!","v":{"$error":"#REF!"}},{"$f":"#REF!","v":{"$error":"#REF!"}},{"$f":"#REF!","v":{"$error":"#REF!"}},{"$f":"#REF!","v":{"$error":"#REF!"}},{"$f":"#REF!","v":{"$error":"#REF!"}},{"$f":"#REF!","v":{"$error":"#REF!"}},{"$f":"#REF!","v":{"$error":"#REF!"}},{"$f":"#REF!","v":{"$error":"#REF!"}},{"$f":"#REF!","v":{"$error":"#REF!"}}]
[null,null,null,null,null,null,null,null,null,null,null,null,null,null,null,null,null,null,null,null,null,null,null,null,null,null,null,null,null,null,null,null,null,null,null,null,null,null,null,null,null,null,null,null,null,null,null,null,null,null,null,null,null,null,null,null,null,null,null,null,null,null,null,null,null,null,null,null,null,null,null,null,null,null,null,null,null,null,null,null,null,null,null,null,null,null,null,null,null,null,null,null,null,null,null,null,null,null,null,null,null,{"$f":"#REF!","v":{"$error":"#REF!"}},{"$f":"#REF!","v":{"$error":"#REF!"}},{"$f":"#REF!","v":{"$error":"#REF!"}},{"$f":"#REF!","v":{"$error":"#REF!"}},{"$f":"#REF!","v":{"$error":"#REF!"}},{"$f":"#REF!","v":{"$error":"#REF!"}},{"$f":"#REF!","v":{"$error":"#REF!"}},{"$f":"#REF!","v":{"$error":"#REF!"}},{"$f":"#REF!","v":{"$error":"#REF!"}}]
[null,null,null,null,null,null,null,null,null,null,null,null,null,null,null,null,null,null,null,null,null,null,null,null,null,null,null,null,null,null,null,null,null,null,null,null,null,null,null,null,null,null,null,null,null,null,null,null,null,null,null,null,null,null,null,null,null,null,null,null,null,null,null,null,null,null,null,null,null,null,null,null,null,null,null,null,null,null,null,null,null,null,null,null,null,null,null,null,null,null,null,null,null,null,null,null,null,null,null,null,null,{"$f":"#REF!","v":{"$error":"#REF!"}},{"$f":"#REF!","v":{"$error":"#REF!"}},{"$f":"#REF!","v":{"$error":"#REF!"}},{"$f":"#REF!","v":{"$error":"#REF!"}},{"$f":"#REF!","v":{"$error":"#REF!"}},{"$f":"#REF!","v":{"$error":"#REF!"}},{"$f":"#REF!","v":{"$error":"#REF!"}},{"$f":"#REF!","v":{"$error":"#REF!"}},{"$f":"#REF!","v":{"$error":"#REF!"}}]
[null,null,null,null,null,null,null,null,null,null,null,null,null,null,null,null,null,null,null,null,null,null,null,null,null,null,null,null,null,null,null,null,null,null,null,null,null,null,null,null,null,null,null,null,null,null,null,null,null,null,null,null,null,null,null,null,null,null,null,null,null,null,null,null,null,null,null,null,null,null,null,null,null,null,null,null,null,null,null,null,null,null,null,null,null,null,null,null,null,null,null,null,null,null,null,null,null,null,null,null,null,{"$f":"#REF!","v":{"$error":"#REF!"}},{"$f":"#REF!","v":{"$error":"#REF!"}},{"$f":"#REF!","v":{"$error":"#REF!"}},{"$f":"#REF!","v":{"$error":"#REF!"}},{"$f":"#REF!","v":{"$error":"#REF!"}},{"$f":"#REF!","v":{"$error":"#REF!"}},{"$f":"#REF!","v":{"$error":"#REF!"}},{"$f":"#REF!","v":{"$error":"#REF!"}},{"$f":"#REF!","v":{"$error":"#REF!"}}]
[null,null,null,null,null,null,null,null,null,null,null,null,null,null,null,null,null,null,null,null,null,null,null,null,null,null,null,null,null,null,null,null,null,null,null,null,null,null,null,null,null,null,null,null,null,null,null,null,null,null,null,null,null,null,null,null,null,null,null,null,null,null,null,null,null,null,null,null,null,null,null,null,null,null,null,null,null,null,null,null,null,null,null,null,null,null,null,null,null,null,null,null,null,null,null,null,null,null,null,null,null,{"$f":"#REF!","v":{"$error":"#REF!"}},{"$f":"#REF!","v":{"$error":"#REF!"}},{"$f":"#REF!","v":{"$error":"#REF!"}},{"$f":"#REF!","v":{"$error":"#REF!"}},{"$f":"#REF!","v":{"$error":"#REF!"}},{"$f":"#REF!","v":{"$error":"#REF!"}},{"$f":"#REF!","v":{"$error":"#REF!"}},{"$f":"#REF!","v":{"$error":"#REF!"}},{"$f":"#REF!","v":{"$error":"#REF!"}}]
[null,null,null,null,null,null,null,null,null,null,null,null,null,null,null,null,null,null,null,null,null,null,null,null,null,null,null,null,null,null,null,null,null,null,null,null,null,null,null,null,null,null,null,null,null,null,null,null,null,null,null,null,null,null,null,null,null,null,null,null,null,null,null,null,null,null,null,null,null,null,null,null,null,null,null,null,null,null,null,null,null,null,null,null,null,null,null,null,null,null,null,null,null,null,null,null,null,null,null,null,null,{"$f":"#REF!","v":{"$error":"#REF!"}},{"$f":"#REF!","v":{"$error":"#REF!"}},{"$f":"#REF!","v":{"$error":"#REF!"}},{"$f":"#REF!","v":{"$error":"#REF!"}},{"$f":"#REF!","v":{"$error":"#REF!"}},{"$f":"#REF!","v":{"$error":"#REF!"}},{"$f":"#REF!","v":{"$error":"#REF!"}},{"$f":"#REF!","v":{"$error":"#REF!"}},{"$f":"#REF!","v":{"$error":"#REF!"}}]
[null,null,null,null,null,null,null,null,null,null,null,null,null,null,null,null,null,null,null,null,null,null,null,null,null,null,null,null,null,null,null,null,null,null,null,null,null,null,null,null,null,null,null,null,null,null,null,null,null,null,null,null,null,null,null,null,null,null,null,null,null,null,null,null,null,null,null,null,null,null,null,null,null,null,null,null,null,null,null,null,null,null,null,null,null,null,null,null,null,null,null,null,null,null,null,null,null,null,null,null,null,{"$f":"#REF!","v":{"$error":"#REF!"}},{"$f":"#REF!","v":{"$error":"#REF!"}},{"$f":"#REF!","v":{"$error":"#REF!"}},{"$f":"#REF!","v":{"$error":"#REF!"}},{"$f":"#REF!","v":{"$error":"#REF!"}},{"$f":"#REF!","v":{"$error":"#REF!"}},{"$f":"#REF!","v":{"$error":"#REF!"}},{"$f":"#REF!","v":{"$error":"#REF!"}},{"$f":"#REF!","v":{"$error":"#REF!"}}]
[null,null,null,null,null,null,null,null,null,null,null,null,null,null,null,null,null,null,null,null,null,null,null,null,null,null,null,null,null,null,null,null,null,null,null,null,null,null,null,null,null,null,null,null,null,null,null,null,null,null,null,null,null,null,null,null,null,null,null,null,null,null,null,null,null,null,null,null,null,null,null,null,null,null,null,null,null,null,null,null,null,null,null,null,null,null,null,null,null,null,null,null,null,null,null,null,null,null,null,null,null,{"$f":"#REF!","v":{"$error":"#REF!"}},{"$f":"#REF!","v":{"$error":"#REF!"}},{"$f":"#REF!","v":{"$error":"#REF!"}},{"$f":"#REF!","v":{"$error":"#REF!"}},{"$f":"#REF!","v":{"$error":"#REF!"}},{"$f":"#REF!","v":{"$error":"#REF!"}},{"$f":"#REF!","v":{"$error":"#REF!"}},{"$f":"#REF!","v":{"$error":"#REF!"}},{"$f":"#REF!","v":{"$error":"#REF!"}}]
[null,null,null,null,null,null,null,null,null,null,null,null,null,null,null,null,null,null,null,null,null,null,null,null,null,null,null,null,null,null,null,null,null,null,null,null,null,null,null,null,null,null,null,null,null,null,null,null,null,null,null,null,null,null,null,null,null,null,null,null,null,null,null,null,null,null,null,null,null,null,null,null,null,null,null,null,null,null,null,null,null,null,null,null,null,null,null,null,null,null,null,null,null,null,null,null,null,null,null,null,null,{"$f":"#REF!","v":{"$error":"#REF!"}},{"$f":"#REF!","v":{"$error":"#REF!"}},{"$f":"#REF!","v":{"$error":"#REF!"}},{"$f":"#REF!","v":{"$error":"#REF!"}},{"$f":"#REF!","v":{"$error":"#REF!"}},{"$f":"#REF!","v":{"$error":"#REF!"}},{"$f":"#REF!","v":{"$error":"#REF!"}},{"$f":"#REF!","v":{"$error":"#REF!"}},{"$f":"#REF!","v":{"$error":"#REF!"}}]

{"sheet":"Ödeme Emri Bel.","index":9,"n_rows":21,"n_cols":4,"rows_kept":21,"cut":false,"hidden":false,"merged":[[28,3,28,5],[25,3,25,5],[26,3,26,5]]}
[null,"S.NO","ÖDEME EMRİ BELGESİNE EKLENECEK BELGELER","ADET"]
[null,1,"Ödeme Emri Belgesi",1]
[null,2,"Harcama Talimatı",1]
[null,3,"Fatura",1]
[null,4,"Yaklaşık Maliyet Hesap Cetveli",1]
[null,5,"Onay Belgesi",1]
[null,6,"Piyasa Fiyat Araştırması Tutanağı",1]
[null,7,"Muayene ve Kabul Belgesi",1]
[null,8,"Vergi Borcu  Yoktur Belgesi (5000.00 TL ve Üzeri tutarlar için)",1]
[null,9,"Taşınır Belgesi (Satın Alma varsa) (TİF)",1]
[null,10,"Varlık İşlem Fişi",1]
[null,11]
[null,12]
[null,13]
[null,14]
[null,15]
[null,16]
[null,17]
[null,18]
[null,19]
[null,20]

{"sheet":"Teklif Mektbu","index":10,"n_rows":46,"n_cols":14,"rows_kept":46,"cut":false,"hidden":false,"merged":[[43,5,43,7],[40,5,40,7],[39,5,39,7],[44,5,44,7],[26,1,26,6],[27,1,27,6],[28,1,28,6],[30,3,30,4],[31,1,31,7],[0,1,0,7],[1,1,1,7],[2,1,2,7],[3,1,3,7],[8,1,8,7],[4,6,4,7],[14,1,14,5],[11,6,11,7],[12,6,12,7],[6,1,6,7],[14,6,14,7],[9,6,9,7],[11,3,11,5],[12,3,12,5],[9,3,9,5]]}
["  ","TEKLİF MEKTUBU"]
[null,{"$f":"('Görevli Kişiler'!E3)","v":"T.C "}]
[null,{"$f":"('Görevli Kişiler'!E4)","v":"ŞAHİNBEY KAYMAKAMLIĞI"},null,null,null,null,null,null,null,null,null,null,null,"aşağıda cinsi, özellikleri ve miktarları yazılı mallar / hizmetler 4734 sayılı Kamu İhale  Kanunu'nun 22/d Maddesi gereğince Doğrudan Temin Usulüyle satın alınacaktır.  İlgilenmeniz halinde KDV hariç teklifinizin bildirilmesini rica ederim / ederiz."]
[null,{"$f":"('Görevli Kişiler'!E5)","v":"DR.CEMİL KARSLIGİL  İLKOKULU"}]
[null,"SAYI  :",{"$f":"'Bilgi Girişi'!G13","v":2},null,null,null,{"$f":"'Bilgi Girişi'!G12","v":"2021-12-07"}]
[]
[null,"TEKLİF MEKTUBU"]
[]
[null,{"$f":"CONCATENATE(\"                İlçemiz  \"&'Görevli Kişiler'!E6&\"  için  \"&N3)","v":"                İlçemiz  TEMİZLİK MALZEMESİ ALIMI  için  aşağıda cinsi, özellikleri ve miktarları yazılı mallar / hizmetler 4734 sayılı Kamu İhale  Kanunu'nun 22/d Maddesi gereğince Doğrudan Temin Usulüyle satın alınacaktır.  İlgilenmeniz halinde KDV hariç teklifinizin bildirilmesini rica ederim / ederiz."}]
[null,null,"Komisyon Başkanı"]
[]
[null,null,{"$f":"('Görevli Kişiler'!D33)","v":"Hakan ÇİTE"},{"$f":"('Görevli Kişiler'!D34)","v":"İnci ÇEVİK"},null,null,{"$f":"('Görevli Kişiler'!D35)","v":"Erol DURNA"}]
[null,null,{"$f":"('Görevli Kişiler'!F33)","v":"Müdür Yardımcısı"},{"$f":"('Görevli Kişiler'!F35)","v":"Öğretmen"},null,null,{"$f":"('Görevli Kişiler'!F35)","v":"Öğretmen"}]
[]
[null," SATIN ALINACAK MALIN",null,null,null,null,"TEKLİF EDİLEN \"KDV\" HARİÇ"]
[null,"S.NO","MALZEMENİN  CİNSİ","ÜRÜN ÖZELLİKLERİ","MİKTARI","BİRİMİ","BİRİM FİYATI (TL)","TOPLAM FİYATI (TL)"]
[null,{"$f":"('Bilgi Girişi'!B27)","v":1},{"$f":"('Bilgi Girişi'!C27)","v":"ELEKTRİK TESİSATI ONARIMI"},{"$f":"('Bilgi Girişi'!F27)","v":0},{"$f":"('Bilgi Girişi'!H27)","v":1},{"$f":"('Bilgi Girişi'!I27)","v":"ADET"}]
[null,{"$f":"('Bilgi Girişi'!B28)","v":2},{"$f":"('Bilgi Girişi'!C28)","v":"SU TESİSATI ONARIMI"},{"$f":"('Bilgi Girişi'!F28)","v":0},{"$f":"('Bilgi Girişi'!H28)","v":1},{"$f":"('Bilgi Girişi'!I28)","v":"ADET"}]
[null,{"$f":"('Bilgi Girişi'!B29)","v":3},{"$f":"('Bilgi Girişi'!C29)","v":"BOYA ONARIMI"},{"$f":"('Bilgi Girişi'!F29)","v":0},{"$f":"('Bilgi Girişi'!H29)","v":5},{"$f":"('Bilgi Girişi'!I29)","v":"ADET"}]
[null,{"$f":"('Bilgi Girişi'!B30)","v":4},{"$f":"('Bilgi Girişi'!C30)","v":"ÇATI ONARIMI"},{"$f":"('Bilgi Girişi'!F30)","v":0},{"$f":"('Bilgi Girişi'!H30)","v":1},{"$f":"('Bilgi Girişi'!I30)","v":"ADET"}]
[null,{"$f":"('Bilgi Girişi'!B31)","v":0},{"$f":"('Bilgi Girişi'!C31)","v":0},{"$f":"('Bilgi Girişi'!F31)","v":0},{"$f":"('Bilgi Girişi'!H31)","v":0},{"$f":"('Bilgi Girişi'!I31)","v":0}]
[null,{"$f":"('Bilgi Girişi'!B32)","v":0},{"$f":"('Bilgi Girişi'!C32)","v":0},{"$f":"('Bilgi Girişi'!F32)","v":0},null,{"$f":"('Bilgi Girişi'!I32)","v":0}]
[null,{"$f":"('Bilgi Girişi'!B33)","v":0},{"$f":"('Bilgi Girişi'!C33)","v":0},{"$f":"('Bilgi Girişi'!F33)","v":0},null,{"$f":"('Bilgi Girişi'!I33)","v":0}]
[null,{"$f":"('Bilgi Girişi'!B34)","v":0},{"$f":"('Bilgi Girişi'!C34)","v":0},{"$f":"('Bilgi Girişi'!F34)","v":0},null,{"$f":"('Bilgi Girişi'!I34)","v":0}]
[null,{"$f":"('Bilgi Girişi'!B35)","v":0},{"$f":"('Bilgi Girişi'!C35)","v":0},{"$f":"('Bilgi Girişi'!F35)","v":0},null,{"$f":"('Bilgi Girişi'!I35)","v":0}]
[null,{"$f":"('Bilgi Girişi'!B36)","v":0},{"$f":"('Bilgi Girişi'!C36)","v":0},{"$f":"('Bilgi Girişi'!F36)","v":0},null,{"$f":"('Bilgi Girişi'!I36)","v":0}]
[null,"                                                                                                    KDV Hariç Teklif Edilen Toplam Fiyat (TL ):"]
[null,"                                                                                                                              KDV ( % …………)"]
[null,"                                                                                                                     K.D.V  DAHİL  TOPLAM FİYAT"]
[]
[null,"Özel / Diğer Şartlar:"]
[null,"1- Ürünler yukarıda belirtilen özelliklerde, TSE Standartlarına uygun ve karar tarihinden 20 gün içerinde teslim edilmek zorundadır."]
[null,"2- Nakliye ve Sigorta yüklenici firma tarafından karşılanır ve ürünün tamamını teslim etmekle mükelleftir."]
[null,"Diğer (Varsa) :"]
[]
[]
[]
[]
[]
[null,null,null,null,null," TEKLİF EDEN"]
[null,null,null,null,null,"  ……….. /…….. / 20….…."]
[]
[]
[null,null,null,null,null,"Adı, Soyadı--Ticaret Ünvanı--"]
[null,null,null,null,null,"İmza--Mühür"]
[" ","NOT :-Bu Belge Piyasa Fiyat  Araştırması Tutanağına  Eklenecektir."]

{"sheet":"Sözleşme","index":11,"n_rows":46,"n_cols":4,"rows_kept":46,"cut":false,"hidden":false,"merged":[[26,2,26,3],[28,2,28,3],[24,2,24,3],[40,1,40,3],[0,1,0,3],[27,2,27,3],[29,2,29,3],[1,1,1,3],[9,2,9,3],[21,2,21,3],[17,2,17,3],[30,2,30,3],[2,2,2,3],[25,2,25,3],[14,2,14,3],[7,2,7,3],[23,2,23,3],[19,2,19,3],[6,2,6,3],[20,2,20,3],[10,2,10,3],[18,2,18,3],[13,2,13,3],[8,2,8,3],[11,2,11,3],[15,2,15,3],[22,2,22,3],[3,2,3,3],[4,2,4,3],[5,2,5,3],[12,2,12,3],[16,2,16,3]]}
[null,"S Ö Z L E Ş M E "]
[null,"4734 SAYILI KAMU İHALE KANUNUN 22/d MADDESİ GEREĞİNCE DOĞRUDAN TEMİN EDİLECEK\n MAL VE HİZMET ALIMINA AİT SÖZLEŞME"]
[null,1,"Temin Edilecek Mal Yada Hizmetin Tanımı :"]
[]
[null,2,"Sözleşmenin Taraflarından İdarenin Adı ve Adresi :"]
[]
[null,3,"Sözleşmenin  Taraflarından Yüklenicinin Ticaret Ünvanı Ve Tebligat Adresi :"]
[]
[null,4,"Sözleşmenin Türü, Bedeli, Ve Süresi :"]
[]
[null,5,"Ödeme Yeri Ve Şekli :"]
[]
[null,6,"Fiyat Farkı :"]
[]
[null,7,"Avans Verilecekse Şartları :"]
[]
[null,8,"Vergi, Resim Ve Harçlar :"]
[]
[null,9,"Ulaşım Ve Sigorta Giderleri :"]
[]
[null,10,"Kesin Teminat Tutarı : (Alınacaksa )"]
[]
[null,11,"Malın / Hizmetin Teslim Edilme Programı :"]
[]
[null,12,"Denetim, Muayene Ve Kabulü :"]
[]
[null,13,"Anlaşmazlıkların Çözüm Yeri :"]
[]
[null,14,"Gecikme Halinde Uygulanacak Cezalar :"]
[]
[null,15,"S Ö Z L E Ş M E       D  İ  Ğ  E  R        Ş  A  R  T  L  A  R"]
[null,1,"TESLİM SÜRESİ"]
[null,2,"TESLİM EDİLECEK PARTİ MİKTARI"]
[null,3,"NAKLİYE VE SİGORTANIN KİME AİT OLDUĞU"]
[null,4,"DİĞER ÖZEL ŞARTLAR"]
[null,5,"UYULMASI GEREKEN STANDARTLAR"]
[null,6,"TEKNİK ŞARTNAME"]
[null,7,"DİĞER HUSUSLAR"]
[null,8]
[null,9]
[null,"Bu sözleşme   …………….Madde  ve  2 (iki) nüsha olarak taraflarca tam olarak okunup anlaşıdıktan sonra ......../....../20......  \nTarihinde imza altına alınmıştır."]
[null,null,"İdare Adına (İhale Yetkilisi )","Yüklenici"]
[]
[null,null,{"$f":"('Görevli Kişiler'!D21)","v":"Mehmet ÖZDEMİR"}]
[null,null,{"$f":"('Görevli Kişiler'!F21)","v":"Okul Müdürü"}]
[null,null,"Adı-Soyadı-Ünvanı-İmza","Adı-Soyadı-Ünvanı-İmza"]

{"sheet":"Eko. Kod Ayrıntılı","index":12,"n_rows":559,"n_cols":10,"rows_kept":559,"cut":false,"hidden":false,"merged":[[1,1,1,5]]}
[]
[null,"        ANALİTİK BÜTÇE SINIFLANDIRMASI DÖRDÜNCÜ DÜZEY GİDER KODLARI",null,null,null,null,"KODU "]
[null,null,null,null,null,null,{"$f":"VLOOKUP(J4,F1:G559,2,0)","v":"03.8"}]
[null,"I","II","III","IV","GİDERİN EKONOMİK SINIFLANDIRMASI","KODU ",null,221,{"$f":"INDEX(F3:F559,I4)","v":"03  8  GAYRİMENKUL MAL BAKIM VE ONARIM GİDERLERİ"}]
[null,3,null,null,null,"03  MAL VE HİZMET ALIM GİDERLERİ","03"]
[]
[null,3,1,null,null,"03 1  ÜRETİME YÖNELİK MAL VE MALZEME ALIMLARI","03.1"]
[]
[null,3,1,1,null,"Hammadde Alımları","03.1.1"]
[null,3,1,1,1,"Hammadde Alımları","03.1.1.01"]
[null,3,1,2,null,"Gıda Ürünleri İçecekler ve Tütün  Alımları","03.1.2"]
[null,3,1,2,1,"Gıda Ürünleri İçecekler ve Tütün  Alımları","03.1.2.01"]
[null,3,1,3,null,"Tekstil ve Tekstil Ürünler Deri ve Deri Ürünleri  Alımları","03.1.3"]
[null,3,1,3,1,"Tekstil ve Tekstil Ürünler Deri ve Deri Ürünleri  Alımları","03.1.3.01"]
[null,3,1,4,null,"Kereste ve Kereste Ürünleri  Alımları","03.1.4"]
[null,3,1,4,1,"Kereste ve Kereste Ürünleri  Alımları","03.1.4.01"]
[null,3,1,5,null,"Kağıt ve Kağıt Ürünleri  Alımları","03.1.5"]
[null,3,1,5,1,"Kağıt ve Kağıt Ürünleri  Alımları","03.1.5.01"]
[null,3,1,6,null,"Kimyevi Ürün  Alımları","03.1.6"]
[null,3,1,6,1,"Kimyevi Ürün  Alımları","03.1.6.01"]
[null,3,1,7,null,"Kauçuk ve Plastik Ürün  Alımları","03.1.7"]
[null,3,1,7,1,"Kauçuk ve Plastik Ürün  Alımları","03.1.7.01"]
[null,3,1,8,null,"Metal Ürünü Alımları","03.1.8"]
[null,3,1,8,1,"Metal Ürünü Alımları","03.1.8.01"]
[null,3,1,9,null,"Diğer Mal ve Malzeme  Alımları","03.1.9"]
[null,3,1,9,1,"Diğer Mal ve Malzeme  Alımları","03.1.9.01"]
[]
[null,3,2,null,null,"03  2  TÜKETİME YÖNELİK MAL VE MALZEME ALIMLARI","03.2"]
[]
[null,3,2,1,null,"Kırtasiye ve Büro Malzemesi  Alımları","03.2.1"]
[null,3,2,1,1,"Kırtasiye Alımları","03.2.1.01"]
[null,3,2,1,2,"Büro  Malzemesi Alımları","03.2.1.02"]
[null,3,2,1,3,"Periyodik Yayın Alımları","03.2.1.03"]
[null,3,2,1,4,"Diğer Yayın Alımları","03.2.1.04"]
[null,3,2,1,5,"Baskı ve Cilt Giderleri","03.2.1.05"]
[null,3,2,1,90,"Diğer Kırtasiye ve Büro Malzemesi Alımları","03.2.1.90"]
[null,3,2,2,null,"Su ve Temizlik Malzemesi Alımları","03.2.2"]
[null,3,2,2,1,"Su Alımları","03.2.2.01"]
[null,3,2,2,2,"Temizlik Malzemesi Alımları","03.2.2.02"]
[null,3,2,3,null,"Enerji Alımları","03.2.3"]
[null,3,2,3,1,"Yakacak  Alımları","03.2.3.01"]
[null,3,2,3,2,"Akaryakıt ve Yağ  Alımları","03.2.3.02"]
[null,3,2,3,3,"Elektrik Alımları","03.2.3.03"]
[null,3,2,3,90,"Diğer Enerji Alımları","03.2.3.90"]
[null,3,2,4,null,"Yiyecek, İçecek ve Yem Alımları","03.2.4"]
[null,3,2,4,1,"Yiyecek Alımları ","03.2.4.01"]
[null,3,2,4,2,"İçecek Alımları","03.2.4.02"]
[null,3,2,4,3,"Yem Alımları","03.2.4.03"]
[null,3,2,4,90,"Diğer Yiyecek, İçecek ve Yem Alımları","03.2.4.90"]
[null,3,2,5,null,"Giyim ve Kuşam Alımları","03.2.5"]
[null,3,2,5,1,"Giyecek Alımları  ","03.2.5.01"]
[null,3,2,5,2,"Spor Malzemeleri Alımları","03.2.5.02"]
[null,3,2,5,3,"Tören Malzemeleri Alımları","03.2.5.03"]
[null,3,2,5,4,"Bando Malzemeleri Alımları","03.2.5.04"]
[null,3,2,5,5,"Kuşam Alımları  ","03.2.5.05"]
[null,3,2,5,90,"Diğer Giyim ve Kuşam Alımları","03.2.5.90"]
[null,3,2,6,null,"Özel Malzeme Alımları","03.2.6"]
[null,3,2,6,1,"Laboratuvar Malzemesi ile Kimyevi ve Temrinlik Malzeme Alımları","03.2.6.01"]
[null,3,2,6,2,"Tıbbi Malzeme ve İlaç Alımları","03.2.6.02"]
[null,3,2,6,3,"Zirai Malzeme ve İlaç Alımları","03.2.6.03"]
[null,3,2,6,4,"Canlı Hayvan Alım, Bakım ve Diğer Giderleri","03.2.6.04"]
[null,3,2,6,90,"Diğer Özel Malzeme Alımları","03.2.6.90"]
[null,3,2,7,null,"Güvenlik ve Savunmaya Yönelik Mal, Malzeme ve Hiz. Alım., Yapımları ve Giderleri","03.2.7"]
[null,3,2,7,1,"Güvenlik ve Savunmaya Yönelik Silah, Araç, Gereç ve Savaş Teçhizatı Alımları","03.2.7.01"]
[null,3,2,7,2,"Güvenlik ve Sav. Yön. Silah, Araç, Gereç ve Savaş Teçhizatı İşletme, Bakım ve İdame Gid.","03.2.7.02"]
[null,3,2,7,3,"Mühimmat Alımları","03.2.7.03"]
[null,3,2,7,4,"Güvenlik ve Savunmaya Yönelik Araştırma-Geliştirme Giderleri","03.2.7.04"]
[null,3,2,7,5,"Güvenlik ve Savunmaya Yönelik Hizmet Alım Giderleri","03.2.7.05"]
[null,3,2,7,6,"Savunma Projeleri ve Acil İhtiyaç Giderleri","03.2.7.06"]
[null,3,2,7,9,"Güvenlik ve Savunmaya Yönelik Diğer Giderler","03.2.7.09"]
[null,3,2,7,11,"Güvenlik ve Savunmaya Yönelik Makine-Teçhizat Alımları","03.2.7.11"]
[null,3,2,7,12,"Güvenlik ve Savunmaya Yönelik Makine-Teçhizat Büyük Onarımları","03.2.7.12"]
[null,3,2,7,21,"Güvenlik ve Savunmaya Yönelik Gayrimenkul Yapım Giderleri","03.2.7.21"]
[null,3,2,7,22,"Güvenlik ve Savunmaya Yönelik Gayrimenkul Büyük Onarım Giderleri","03.2.7.22"]
[null,3,2,7,31,"Nato Altyapısına İlişkin Gayrimenkul Yapım Giderleri","03.2.7.31"]
[null,3,2,7,32,"Nato Altyapısına İlişkin Gayrimenkul Büyük Onarım Giderleri","03.2.7.32"]
[null,3,2,7,90,"Diğer Savunma Mal ve  Malzeme Alımları ve Yapımları","03.2.7.90"]
[null,3,2,8,null,"NATO Giderleri İle Gayrimenkul Alım ve Kamulaştırma Giderleri","03.2.8"]
[null,3,2,8,1,"Gayrimenkul Alım ve Kamulaştırma Giderleri","03.2.8.01"]
[null,3,2,8,2,"NATO Altyapısına İlişkin Gayrimenkul Alım ve Kamulaştırma Giderleri","03.2.8.02"]
[null,3,2,8,3,"NATO Giderleri","03.2.8.03"]
[null,3,2,9,null,"Diğer Tüketim Mal ve Malzemesi Alımları","03.2.9"]
[null,3,2,9,1,"Bahçe Malzemesi Alımları ile Yapım ve Bakım Giderleri","03.2.9.01"]
[null,3,2,9,90,"Diğer Tüketim Mal ve Malzemesi Alımları","03.2.9.90"]
[]
[null,3,3,null,null,"03  3  YOLLUKLAR","03.3"]
[]
[null,3,3,1,null,"Yurtiçi Geçici Görev Yollukları","03.3.1"]
[null,3,3,1,1,"Yurtiçi Geçici Görev Yollukları","03.3.1.01"]
[null,3,3,1,2,"Yurtiçi Tedavi Yollukları","03.3.1.02"]
[null,3,3,2,null,"Yurtiçi Sürekli Görev Yollukları","03.3.2"]
[null,3,3,2,1,"Yurtiçi Sürekli Görev Yollukları","03.3.2.01"]
[null,3,3,3,null,"Yurtdışı Geçici Görev Yollukları","03.3.3"]
[null,3,3,3,1,"Yurtdışı Geçici Görev Yollukları","03.3.3.01"]
[null,3,3,3,2,"Yurtdışı Tedavi Yollukları","03.3.3.02"]
[null,3,3,4,null,"Yurtdışı Sürekli Görev Yollukları","03.3.4"]
[null,3,3,4,1,"Yurtdışı Sürekli Görev Yollukları","03.3.4.01"]
[null,3,3,5,null,"Yolluk Tazminatları","03.3.5"]
[null,3,3,5,1,"Seyyar Görev Tazminatları","03.3.5.01"]
[null,3,3,5,2,"Arazi Tazminatları","03.3.5.02"]
[null,3,3,6,null,"Uluslararası  Profesör Uzman, Memur ve Öğrenci Mübadele Giderleri","03.3.6"]
[null,3,3,6,1,"Profesör Uzman ve Memur Mübadele Giderleri","03.3.6.01"]
[null,3,3,6,2,"Öğrenci Mübadele Giderleri","03.3.6.02"]
[]
[null,3,4,null,null,"03  4  GÖREV GİDERLERİ","03.4"]
[]
[null,3,4,1,null,"Tahliye Giderleri","03.4.1"]
[null,3,4,1,1,"Yurtdışı Tahliye Giderleri","03.4.1.01"]
[null,3,4,1,2,"Afet Bölgesi Tahliye Giderleri","03.4.1.02"]
[null,3,4,1,3,"Mülteci Tahliye Giderleri","03.4.1.03"]
[null,3,4,1,90,"Diğer Tahliye Giderleri","03.4.1.90"]
[null,3,4,2,null,"Yasal Giderler","03.4.2"]
[null,3,4,2,1,"Beyiye Aidatları","03.4.2.01"]
[null,3,4,2,2,"Oranı Kanunla Belirlenmiş Aidat ve İkramiyeler ","03.4.2.02"]
[null,3,4,2,3,"Kusursuz Tazminatlar","03.4.2.03"]
[null,3,4,2,4,"Mahkeme Harç ve Giderleri","03.4.2.04"]
[null,3,4,2,5,"Ödül, İkramiye ve Benzeri Ödemeler ","03.4.2.05"]
[null,3,4,2,90,"Diğer Yasal Giderler","03.4.2.90"]
[null,3,4,3,null,"Ödenecek Vergi, Resim,  Harçlar ve Benzeri Giderler","03.4.3"]
[null,3,4,3,1,"Vergi Ödemeleri ve Benzeri Giderler","03.4.3.01"]
[null,3,4,3,2,"İşletme Ruhsatı Ödemeleri ve Benzeri Giderler","03.4.3.02"]
[null,3,4,3,90,"Diğer Vergi, Resim ve Harçlar ve Benzeri Giderler","03.4.3.90"]
[null,3,4,4,null,"Kültür Varlıkları Alımı ve Korunması Giderleri","03.4.4"]
[null,3,4,4,1,"Arkeolojik Kazı Giderleri","03.4.4.01"]
[null,3,4,4,2,"Restorasyon ve Yenileme Giderleri","03.4.4.02"]
[null,3,4,4,3,"Kültür Varlıkları Alımı","03.4.4.03"]
[null,3,4,4,4,"Sergi Giderleri","03.4.4.04"]
[null,3,4,4,90,"Kültür Varlıklarının Korunmasına İlişkin Diğer Giderler","03.4.4.90"]
[null,3,4,5,null,"Gizli Hizmet Giderleri","03.4.5"]
[null,3,4,5,1,"Gizli Hizmet Giderleri","03.4.5.01"]
[null,3,4,5,2,"Barışı Destekleme ve Koruma Harekat Giderleri","03.4.5.02"]
[null,3,4,9,null,"Diğer Görev Giderleri","03.4.9"]
[null,3,4,9,1,"Karantina Giderleri","03.4.9.01"]
[null,3,4,9,2,"Güvenlik Kuvvetleri Nezaretinde Bulundurma Giderleri","03.4.9.02"]
[null,3,4,9,3,"Yurtdışına Çıkarma ve Yurtiçinde Yer Değiştirme Giderleri","03.4.9.03"]
[null,3,4,9,90,"Diğer Görev Giderleri","03.4.9.90"]
[]
[null,3,5,null,null,"03  5  HİZMET ALIMLARI","03.5"]
[]
[null,3,5,1,null,"Müşavir Firma ve Kişilere Ödemeler","03.5.1"]
[null,3,5,1,1,"Etüt-Proje Bilirkişi Ekspertiz Giderleri","03.5.1.01"]
[null,3,5,1,2,"Araştırma ve Geliştirme Giderleri","03.5.1.02"]
[null,3,5,1,3,"Bilgisayar Hizmeti Alımları","03.5.1.03"]
[null,3,5,1,4,"Müteahhitlik Hizmetleri","03.5.1.04"]
[null,3,5,1,5,"Harita Yapım ve Alım Giderleri","03.5.1.05"]
[null,3,5,1,6,"Enformasyon ve Raporlama Giderleri","03.5.1.06"]
[null,3,5,1,7,"Danışma Yönetim ve İşletim Giderleri","03.5.1.07"]
[null,3,5,1,90,"Diğer Müşavir Firma ve Kişilere Ödemeler","03.5.1.90"]
[null,3,5,2,null,"Haberleşme Giderleri","03.5.2"]
[null,3,5,2,1,"Posta ve Telgraf Giderleri","03.5.2.01"]
[null,3,5,2,2,"Telefon Abonelik ve Kullanım Ücretleri","03.5.2.02"]
[null,3,5,2,3,"Bilgiye Abonelik Giderleri","03.5.2.03"]
[null,3,5,2,4,"Haberleşme Cihazları Ruhsat ve Kullanım Giderleri","03.5.2.04"]
[null,3,5,2,5,"Uydu Haberleşme Giderleri","03.5.2.05"]
[null,3,5,2,6,"Hat Kira Giderleri","03.5.2.06"]
[null,3,5,2,90,"Diğer Haberleşme Giderleri","03.5.2.90"]
[null,3,5,3,null,"Taşıma Giderleri","03.5.3"]
[null,3,5,3,1,"Taşımaya İlişkin Beslenme, Barındırma Giderleri","03.5.3.01"]
[null,3,5,3,2,"Yolcu Taşıma Giderleri","03.5.3.02"]
[null,3,5,3,3,"Yük Taşıma Giderleri","03.5.3.03"]
[null,3,5,3,4,"Geçiş Ücretleri","03.5.3.04"]
[null,3,5,3,90,"Diğer Taşıma Giderleri","03.5.3.90"]
[null,3,5,4,null,"Tarifeye Bağlı Ödemeler","03.5.4"]
[null,3,5,4,1,"İlan Giderleri","03.5.4.01"]
[null,3,5,4,2,"Sigorta Giderleri","03.5.4.02"]
[null,3,5,4,3,"Komisyon Giderleri","03.5.4.03"]
[null,3,5,4,4,"Kovuşturma Giderleri","03.5.4.04"]
[null,3,5,4,90,"Diğer Tarifeye Bağlı Ödemeler","03.5.4.90"]
[null,3,5,5,null,"Kiralar","03.5.5"]
[null,3,5,5,1,"Dayanıklı Mal ve Malzeme Kiralaması Giderleri","03.5.5.01"]
[null,3,5,5,2,"Taşıt Kiralaması Giderleri","03.5.5.02"]
[null,3,5,5,3,"İş Makinası Kiralaması Giderleri","03.5.5.03"]
[null,3,5,5,4,"Canlı Hayvan Kiralaması Giderleri","03.5.5.04"]
[null,3,5,5,5,"Hizmet Binası Kiralama Giderleri","03.5.5.05"]
[null,3,5,5,6,"Lojman Kiralama Giderleri","03.5.5.06"]
[null,3,5,5,7,"Arsa ve Arazi Kiralaması Giderleri","03.5.5.07"]
[null,3,5,5,8,"Yüzer Taşıt Kiralaması Giderleri","03.5.5.08"]
[null,3,5,5,9,"Hava Taşıtı Kiralaması Giderleri","03.5.5.09"]
[null,3,5,5,10,"Bilgisayar ve Bilgisayar Sistemleri ve Yazılımları Kiralaması Giderleri","03.5.5.10"]
[null,3,5,5,11,"Tersane Kiralaması Giderleri","03.5.5.11"]
[null,3,5,5,90,"Diğer Kiralama Giderleri","03.5.5.90"]
[null,3,5,6,null,"Devlet Borçları Genel Giderleri","03.5.6"]
[null,3,5,6,1,"Hazine Bonosu Genel Giderleri","03.5.6.01"]
[null,3,5,6,2,"Tahvil Genel  Giderleri","03.5.6.02"]
[null,3,5,6,3,"Dış Borçlanma Genel Giderleri","03.5.6.03"]
[null,3,5,6,51,"Mahalli İdarelerin İç Borçlanma Genel Giderleri","03.5.6.51"]
[null,3,5,6,52,"Mahalli İdarelerin Dış Borçlanma Genel Giderleri","03.5.6.52"]
[null,3,5,9,null,"Diğer Hizmet Alımları","03.5.9"]
[null,3,5,9,1,"Yurtiçi Staj ve Öğrenim Giderleri","03.5.9.01"]
[null,3,5,9,2,"Yurtdışı Staj ve Öğrenim Giderleri","03.5.9.02"]
[null,3,5,9,3,"Kurslara Katılma ve Eğitim Giderleri","03.5.9.03"]
[null,3,5,9,4,"Öğretim Üyesi Yetiştirme Projesi Giderleri","03.5.9.04"]
[null,3,5,9,10,"Lojman İşletme Maliyetlerine Katılım Giderleri ","03.5.9.10"]
[null,3,5,9,11,"Diğer Binaların İşletme Maliyetlerine Katılım Giderleri ","03.5.9.11"]
[null,3,5,9,90,"Diğer Hizmet Alımları","03.5.9.90"]
[]
[null,3,6,null,null,"03  6  TEMSİL VE TANITMA GİDERLERİ","03.6"]
[]
[null,3,6,1,null,"Temsil Giderleri","03.6.1"]
[null,3,6,1,1,"Temsil, Ağırlama, Tören, Fuar, Organizasyon Giderleri","03.6.1.01"]
[null,3,6,2,null,"Tanıtma Giderleri","03.6.2"]
[null,3,6,2,1,"Tanıtma, Ağırlama, Tören, Fuar, Organizasyon Giderleri","03.6.2.01"]
[]
[null,3,7,null,null,"03  7  MENKUL MAL,GAYRİMADDİ HAK ALIM, BAKIM VE ONARIM GİDERLERİ","03.7"]
[]
[null,3,7,1,null,"Menkul Mal  Alım Giderleri","03.7.1"]
[null,3,7,1,1,"Büro ve İşyeri Mal ve Malzeme Alımları","03.7.1.01"]
[null,3,7,1,2,"Büro ve İşyeri Makine ve Techizat Alımları","03.7.1.02"]
[null,3,7,1,3,"Avadanlık ve Yedek Parça Alımları ","03.7.1.03"]
[null,3,7,1,4,"Yangından Korunma Malzemeleri Alımları","03.7.1.04"]
[null,3,7,1,90,"Diğer Dayanıklı Mal ve Malzeme Alımları","03.7.1.90"]
[null,3,7,2,null,"Gayri Maddi Hak Alımları","03.7.2"]
[null,3,7,2,1,"Bilgisayar Yazılım Alımları ve Yapımları","03.7.2.01"]
[null,3,7,2,2,"Fikri Hak Alımları","03.7.2.02"]
[null,3,7,2,90,"Diğer Gayri Maddi Hak Alımları","03.7.2.90"]
[null,3,7,3,null,"Bakım ve Onarım Giderleri","03.7.3"]
[null,3,7,3,1,"Tefrişat Bakım ve Onarım Giderleri","03.7.3.01"]
[null,3,7,3,2,"Makine Teçhizat Bakım ve Onarım Giderleri","03.7.3.02"]
[null,3,7,3,3,"Taşıt Bakım ve Onarım Giderleri","03.7.3.03"]
[null,3,7,3,4,"İş Makinası Onarım Giderleri","03.7.3.04"]
[null,3,7,3,90,"Diğer Bakım ve Onarım Giderleri","03.7.3.90"]
[]
[null,3,8,null,null,"03  8  GAYRİMENKUL MAL BAKIM VE ONARIM GİDERLERİ","03.8"]
[]
[null,3,8,1,null,"Hizmet Binası  Bakım ve Onarım Giderleri","03.8.1"]
[null,3,8,1,1,"Büro Bakım ve Onarımı Giderleri","03.8.1.01"]
[null,3,8,1,2,"Okul Bakım ve Onarımı Giderleri","03.8.1.02"]
[null,3,8,1,3,"Hastane Bakım ve Onarımı Giderleri","03.8.1.03"]
[null,3,8,1,4,"Atölye ve Tesis Binaları Bakım ve Onarımı Giderleri","03.8.1.04"]
[null,3,8,1,90,"Diğer Hizmet Binası  Bakım ve Onarım Giderleri","03.8.1.90"]
[null,3,8,2,null,"Lojman  Bakım ve Onarımı Giderleri","03.8.2"]
[null,3,8,2,1,"Lojman Bakım ve Onarımı Giderleri","03.8.2.01"]
[null,3,8,3,null,"Sosyal Tesis  Bakım ve Onarımı Giderleri","03.8.3"]
[null,3,8,3,1,"Sosyal Tesis  Bakım ve Onarımı Giderleri","03.8.3.01"]
[null,3,8,4,null,"Gemi  Bakım ve Onarımı Giderleri","03.8.4"]
[null,3,8,4,1,"Gemi  Bakım ve Onarımı Giderleri","03.8.4.01"]
[null,3,8,5,null,"Tersane Bakım ve Onarımı Giderleri","03.8.5"]
[null,3,8,5,1,"Tersane Bakım ve Onarımı Giderleri","03.8.5.01"]
[null,3,8,5,2,"Yüzer Tersane Bakım ve Onarım Giderleri","03.8.5.02"]
[null,3,8,6,null,"Yol  Bakım ve Onarımı Giderleri","03.8.6"]
[null,3,8,6,1,"Yol  Bakım ve Onarımı Giderleri","03.8.6.01"]
[null,3,8,9,null,"Diğer Taşınmaz Yapım, Bakım ve Onarım Giderleri","03.8.9"]
[null,3,8,9,1,"Diğer Taşınmaz Yapım, Bakım ve Onarım Giderleri","03.8.9.01"]
[]
[null,3,9,null,null,"03  9  TEDAVİ VE CENAZE GİDERLERİ","03.9"]
[]
[null,3,9,3,null,"Cenaze Giderleri","03.9.3"]
[null,3,9,3,1,"Cenaze Giderleri","03.9.3.01"]
[null,3,9,3,2,"Mezar ve Şehitlik Yapım ve Bakım Giderleri","03.9.3.02"]
[null,3,9,8,null,"Diğer Tedavi ve Sağlık Malzemesi Giderleri","03.9.8"]
[null,3,9,8,2,"Er ve Erbaş Tedavi ve Sağlık Malzemesi Giderleri","03.9.8.02"]
[null,3,9,8,3,"Tutuklu ve Hükümlülerin Tedavi ve Sağlık Malzemesi Giderleri","03.9.8.03"]
[null,3,9,8,90,"Diğer Tedavi ve Sağlık Malzemesi Giderleri","03.9.8.90"]
[null,3,9,9,null,"Diğer İlaç Giderleri","03.9.9"]
[null,3,9,9,2,"Er ve Erbaş İlaç Giderleri","03.9.9.02"]
[null,3,9,9,3,"Tutuklu ve Hükümlülerin İlaç Giderleri","03.9.9.03"]
[null,3,9,9,90,"Diğer İlaç Giderleri","03.9.9.90"]
[]
[null,6,null,null,null,"06    SERMAYE GİDERLERİ","06"]
[null,6,1,null,null,"06  1  MAMUL MAL ALIMLARI","06.1"]
[]
[null,6,1,1,null,"Büro ve İşyeri Mefruşatı Alımları","06.1.1"]
[null,6,1,1,1,"Büro Mefruşatı Alımları","06.1.1.01"]
[null,6,1,1,2,"İşyeri Mefruşatı Alımları ","06.1.1.02"]
[null,6,1,1,3,"Okul Mefruşatı Alımları","06.1.1.03"]
[null,6,1,1,4,"Hastane Mefruşatı Alımları","06.1.1.04"]
[null,6,1,1,5,"Sosyal Tesis Mefruşatı Alımları","06.1.1.05"]
[null,6,1,1,90,"Diğer Mefruşat Alımları","06.1.1.90"]
[null,6,1,2,null,"Büro ve İşyeri Makine Teçhizat Alımları","06.1.2"]
[null,6,1,2,1,"Büro Makinaları Alımları ","06.1.2.01"]
[null,6,1,2,2,"Bilgisayar Alımları","06.1.2.02"]
[null,6,1,2,3,"Tıbbi Cihaz Alımları","06.1.2.03"]
[null,6,1,2,4,"Laboratuar Cihazı Alımları","06.1.2.04"]
[null,6,1,2,5,"İşyeri Makine Teçhizat Alımları","06.1.2.05"]
[null,6,1,2,90,"Diğer Makine Teçhizat Alımları","06.1.2.90"]
[null,6,1,3,null,"Avadanlık Alımları","06.1.3"]
[null,6,1,3,1,"Tamir Bakım Aleti Alımları","06.1.3.01"]
[null,6,1,3,2,"Atölye Gereçleri Alımları","06.1.3.02"]
[null,6,1,3,3,"Tıbbi Gereçler Alımları","06.1.3.03"]
[null,6,1,3,4,"Laboratuar Gereçleri Alımları","06.1.3.04"]
[null,6,1,3,5,"Zirai Gereç Alımları","06.1.3.05"]
[null,6,1,3,90,"Diğer Avadanlık Alımları","06.1.3.90"]
[null,6,1,4,null,"Taşıt Alımları","06.1.4"]
[null,6,1,4,1,"Kara Taşıtı  Alımları   ","06.1.4.01"]
[null,6,1,4,30,"Demiryolu Taşıtı  Alımları","06.1.4.30"]
[null,6,1,4,40,"Deniz ve Suyolu Taşıtı  Alımları","06.1.4.40"]
[null,6,1,4,50,"Denizaltı Taşıtı  Alımları","06.1.4.50"]
[null,6,1,4,60,"Havayolu Taşıtı  Alımları","06.1.4.60"]
[null,6,1,4,70,"Uzay Taşıtı  Alımları","06.1.4.70"]
[null,6,1,4,90,"Diğer Taşıt Alımları","06.1.4.90"]
[null,6,1,5,null,"İş Makinası Alımları","06.1.5"]
[null,6,1,5,1,"Sabit iş Makinası Alımları","06.1.5.01"]
[null,6,1,5,30,"Hareketli İş Makinası Alımları","06.1.5.30"]
[null,6,1,6,null,"Yayın Alımları ve Yapımları","06.1.6"]
[null,6,1,6,1,"Basılı Yayın Alımları ve Yapımları","06.1.6.01"]
[null,6,1,6,2,"El Yazması Alımları ve Yapımları","06.1.6.02"]
[null,6,1,6,3,"Elektronik Ortamda Yayın Alımları ve Yapımları","06.1.6.03"]
[null,6,1,6,4,"Görüntülü Yayın Alımları ve Yapımları","06.1.6.04"]
[null,6,1,6,90,"Diğer Yayın Alımları ve Yapımları","06.1.6.90"]
[null,6,1,7,null,"Kültür Varlığı Yapımları, Alımları ve Korunması Giderleri","06.1.7"]
[null,6,1,7,1,"Arkeolojik Kazı Giderleri","06.1.7.01"]
[null,6,1,7,2,"Tablo-Heykel Yapım, Alım ve Onarımları","06.1.7.02"]
[null,6,1,7,3,"Eski Eser Alım ve Onarımları","06.1.7.03"]
[null,6,1,7,90,"Diğer Kültür Varlığı Yapım, Alım ve Korunması Giderleri","06.1.7.90"]
[]
[null,6,2,null,null,"06  2  MENKUL SERMAYE ÜRETİM GİDERLERİ","06.2"]
[]
[null,6,2,1,null,"Müşavir Firma ve Kişilere Ödemeler","06.2.1"]
[null,6,2,1,1,"Proje Giderleri","06.2.1.01"]
[null,6,2,1,2,"Müşavirlik Giderleri","06.2.1.02"]
[null,6,2,1,3,"Kontrol Giderleri","06.2.1.03"]
[null,6,2,1,90,"Diğer Giderler","06.2.1.90"]
[null,6,2,2,null,"Hammadde Alımları","06.2.2"]
[null,6,2,2,1,"Hammadde Alımları","06.2.2.01"]
[null,6,2,3,null,"Gıda Ürünleri, İçecekler ve Tütün  Alımları","06.2.3"]
[null,6,2,3,1,"Gıda Ürünleri, İçecekler ve Tütün  Alımları","06.2.3.01"]
[null,6,2,4,null,"Tekstil ve Tekstil Ürünleri, Deri ve Deri Ürünleri  Alımları","06.2.4"]
[null,6,2,4,1,"Tekstil ve Tekstil Ürünleri, Deri ve Deri Ürünleri  Alımları","06.2.4.01"]
[null,6,2,5,null,"Kereste ve Kereste Ürünleri  Alımları","06.2.5"]
[null,6,2,5,1,"Kereste ve Kereste Ürünleri  Alımları","06.2.5.01"]
[null,6,2,6,null,"Kağıt ve Kağıt Ürünleri  Alımları","06.2.6"]
[null,6,2,6,1,"Kağıt ve Kağıt Ürünleri  Alımları","06.2.6.01"]
[null,6,2,7,null,"Kimyevi Madde İle Kauçuk ve Plastik Ürün  Alımları","06.2.7"]
[null,6,2,7,1,"Kimyevi Madde İle Kauçuk ve Plastik Ürün  Alımları","06.2.7.01"]
[null,6,2,8,null,"Metal Ürün  Alımları","06.2.8"]
[null,6,2,8,1,"Metal Ürün  Alımları","06.2.8.01"]
[null,6,2,9,null,"Diğer Alımlar","06.2.9"]
[null,6,2,9,1,"Diğer Alımlar","06.2.9.01"]
[]
[null,6,3,null,null,"06  3  GAYRİ MADDİ HAK ALIMLARI","06.3"]
[]
[null,6,3,1,null,"Bilgisayar Yazılımı Alımları","06.3.1"]
[null,6,3,1,1,"Bilgisayar Yazılımı Alımları","06.3.1.01"]
[null,6,3,2,null,"Harita Plan Proje Alımları","06.3.2"]
[null,6,3,2,1,"Harita Alımları","06.3.2.01"]
[null,6,3,2,2,"Plan Proje Alımları","06.3.2.02"]
[null,6,3,3,null,"Lisans Alımları","06.3.3"]
[null,6,3,3,1,"Lisans Alımları","06.3.3.01"]
[null,6,3,4,null,"Patent Alımları","06.3.4"]
[null,6,3,4,1,"Patent Alımları","06.3.4.01"]
[null,6,3,9,null,"Diğer Fikri Hak Alımları","06.3.9"]
[null,6,3,9,1,"Diğer Fikri Hak Alımları","06.3.9.01"]
[]
[null,6,4,null,null,"06  4  GAYRİMENKUL ALIMLARI VE KAMULAŞTIRMASI","06.4"]
[]
[null,6,4,1,null,"Arazi Alım ve Kamulaştırma Giderleri","06.4.1"]
[null,6,4,1,1,"Zirai Arazi Alım ve Kamulaştırma Giderleri","06.4.1.01"]
[null,6,4,1,2,"Sınai Arazi  Alım ve Kamulaştırma Giderleri","06.4.1.02"]
[null,6,4,1,3,"İskan Arazisi Alım ve Kamulaştırma Giderleri","06.4.1.03"]
[null,6,4,1,4,"Orman Arazisi Alım ve Kamulaştırma Giderleri","06.4.1.04"]
[null,6,4,1,5,"Turizm Arazisi Alım ve Kamulaştırma Giderleri","06.4.1.05"]
[null,6,4,1,6,"Göl ve Baraj için Arazi Alım ve Kamulaştırma Giderleri","06.4.1.06"]
[null,6,4,1,7,"Yol için Arazi Alım ve Kamulaştırma Giderleri","06.4.1.07"]
[null,6,4,1,8,"Güvenlik ve Savunma İçin Arazi Alım ve Kamulaştırma Giderleri","06.4.1.08"]
[null,6,4,1,9,"İçme Suyu Tesisi Arazi Alım ve Kamulaştırma Giderleri","06.4.1.09"]
[null,6,4,1,10,"Kanalizasyon Yapımı İçin Arazi Alım ve Kamulaştırma Giderleri","06.4.1.10"]
[null,6,4,1,90,"Diğer Gayrimenkul Alım ve Kamulaştırma Giderleri","06.4.1.90"]
[null,6,4,2,null,"Arsa Alım ve Kamulaştırması Giderleri","06.4.2"]
[null,6,4,2,1,"Hizmet Binası İçin Arsa Alım ve Kamulaştırma Giderleri","06.4.2.01"]
[null,6,4,2,2,"Lojman İçin Arsa Alım ve Kamulaştırma Giderleri","06.4.2.02"]
[null,6,4,2,3,"Sosyal Tesis İçin Arsa Alım ve Kamulaştırma Giderleri","06.4.2.03"]
[null,6,4,2,4,"Güvenlik ve Savunma İçin Arsa Alım ve Kamulaştırma Giderleri","06.4.2.04"]
[null,6,4,2,5,"Yol Yapımı İçin Arsa Alım ve Kamulaştırma Giderleri","06.4.2.05"]
[null,6,4,2,6,"İçme Suyu Tesisi Arsa Alım ve Kamulaştırma Giderleri","06.4.2.06"]
[null,6,4,2,7,"Kanalizasyon Yapımı İçin Arsa Alım ve Kamulaştırma Giderleri","06.4.2.07"]
[null,6,4,2,90,"Diğer Arsa Alım ve Kamulaştırma Giderleri","06.4.2.90"]
[null,6,4,3,null,"Bina Alım ve Kamulaştırma Giderleri","06.4.3"]
[null,6,4,3,1,"Hizmet Binası İçin Alım ve Kamulaştırma Giderleri","06.4.3.01"]
[null,6,4,3,2,"Lojman İçin Bina Alım ve Kamulaştırma Giderleri","06.4.3.02"]
[null,6,4,3,3,"Sosyal Tesis İçin Bina Alım ve Kamulaştırma Giderleri","06.4.3.03"]
[null,6,4,3,90,"Diğer Bina Alım ve Kamulaştırma Giderleri","06.4.3.90"]
[null,6,4,4,null,"Gemi Alımları","06.4.4"]
[null,6,4,4,1,"Yolcu Gemisi Alımları","06.4.4.01"]
[null,6,4,4,2,"Yük Gemisi Alımları","06.4.4.02"]
[null,6,4,4,3,"Araştırma Gemisi Alımları","06.4.4.03"]
[null,6,4,4,4,"Feribot Alımları","06.4.4.04"]
[null,6,4,4,5,"Tanker Alımları","06.4.4.05"]
[null,6,4,5,null,"Tersane Alımları","06.4.5"]
[null,6,4,5,1,"Tersane Alımları","06.4.5.01"]
[null,6,4,5,2,"Yüzer Tersane Alımları","06.4.5.02"]
[]
[null,6,5,null,null,"06  5  GAYRİMENKUL SERMAYE ÜRETİM GİDERLERİ","06.5"]
[]
[null,6,5,1,null,"Müşavir Firma ve Kişilere Ödemeler","06.5.1"]
[null,6,5,1,1,"Proje Giderleri","06.5.1.01"]
[null,6,5,1,2,"Müşavirlik Giderleri","06.5.1.02"]
[null,6,5,1,3,"Kontrol Giderleri","06.5.1.03"]
[null,6,5,1,90,"Diğer Giderler","06.5.1.90"]
[null,6,5,2,null,"Malzeme Giderleri","06.5.2"]
[null,6,5,2,1,"İnşaat Malzemesi Giderleri","06.5.2.01"]
[null,6,5,2,2,"Elektrik Tesisatı Giderleri","06.5.2.02"]
[null,6,5,2,3,"Sıhhi Tesisat Giderleri","06.5.2.03"]
[null,6,5,2,4,"Özel Tesisat Giderleri","06.5.2.04"]
[null,6,5,2,90,"Diğer Giderler","06.5.2.90"]
[null,6,5,3,null,"Taşıma Giderleri","06.5.3"]
[null,6,5,3,1,"Taşımaya ilişkin Beslenme, Barındırma Giderleri","06.5.3.01"]
[null,6,5,3,2,"Yolcu Taşıma Giderleri","06.5.3.02"]
[null,6,5,3,3,"Yük Taşıma Giderleri","06.5.3.03"]
[null,6,5,3,90,"Diğer Taşıma Giderleri","06.5.3.90"]
[null,6,5,4,null,"Enerji Giderleri","06.5.4"]
[null,6,5,4,1,"Yakacak  Alımları","06.5.4.01"]
[null,6,5,4,2,"Akaryakıt ve Yağ  Alımları","06.5.4.02"]
[null,6,5,4,3,"Elektrik Alımları","06.5.4.03"]
[null,6,5,4,90,"Diğer Enerji Alımları","06.5.4.90"]
[null,6,5,5,null,"Haberleşme Giderleri","06.5.5"]
[null,6,5,5,1,"Posta ve Telgraf Giderleri","06.5.5.01"]
[null,6,5,5,2,"Telefon Abonelik ve Kullanım Ücretleri","06.5.5.02"]
[null,6,5,5,3,"Bilgiye Abonelik Giderleri","06.5.5.03"]
[null,6,5,5,4,"Haberleşme Cihazları Ruhsat ve Kullanım Giderleri","06.5.5.04"]
[null,6,5,5,5,"Uydu Haberleşme Giderleri","06.5.5.05"]
[null,6,5,5,6,"Hat Kira Giderleri","06.5.5.06"]
[null,6,5,5,90,"Diğer Haberleşme Giderleri","06.5.5.90"]
[null,6,5,6,null,"Kira Giderleri","06.5.6"]
[null,6,5,6,1,"Dayanıklı Mal ve Malzeme Kiralaması Giderleri","06.5.6.01"]
[null,6,5,6,2,"Taşıt Kiralaması Giderleri","06.5.6.02"]
[null,6,5,6,3,"İş Makinası Kiralaması Giderleri","06.5.6.03"]
[null,6,5,6,4,"Canlı Hayvan Kiralaması Giderleri","06.5.6.04"]
[null,6,5,6,5,"Bina Kiralaması Giderleri","06.5.6.05"]
[null,6,5,6,6,"Arazi Kiralaması Giderleri","06.5.6.06"]
[null,6,5,6,7,"Yüzer Taşıt Kiralaması Giderleri","06.5.6.07"]
[null,6,5,6,8,"Uçak Kiralaması Giderleri","06.5.6.08"]
[null,6,5,6,9,"Bilgisayar ve Bilgisayar Sistemleri Kiralaması Giderleri","06.5.6.09"]
[null,6,5,6,10,"Yüzer Tersane Kiralaması Giderleri","06.5.6.10"]
[null,6,5,6,90,"Diğer Kiralamalar","06.5.6.90"]
[null,6,5,7,null,"Müteahhitlik Giderleri","06.5.7"]
[null,6,5,7,1,"Hizmet Binası","06.5.7.01"]
[null,6,5,7,2,"Hizmet Tesisleri","06.5.7.02"]
[null,6,5,7,3,"Lojmanlar","06.5.7.03"]
[null,6,5,7,4,"Sosyal Tesisler","06.5.7.04"]
[null,6,5,7,5,"Gemiler","06.5.7.05"]
[null,6,5,7,6,"Yüzer Tersaneler","06.5.7.06"]
[null,6,5,7,7,"Yol Yapım Giderleri","06.5.7.07"]
[null,6,5,7,8,"İçme Suyu Tesisi Yapım Giderleri","06.5.7.08"]
[null,6,5,7,9,"Kanalizasyon Tesisi Yapım Giderleri","06.5.7.09"]
[null,6,5,7,90,"Diğerleri","06.5.7.90"]
[null,6,5,9,null,"Diğer Giderler","06.5.9"]
[null,6,5,9,1,"Diğer Giderler","06.5.9.01"]
[]
[null,6,6,null,null,"06  6  MENKUL MALLARIN BÜYÜK ONARIM GİDERLERİ","06.6"]
[]
[null,6,6,1,null,"Müşavir Firma ve Kişilere Ödemeler","06.6.1"]
[null,6,6,1,1,"Proje Giderleri","06.6.1.01"]
[null,6,6,1,2,"Müşavirlik Giderleri","06.6.1.02"]
[null,6,6,1,3,"Kontrol Giderleri","06.6.1.03"]
[null,6,6,1,90,"Diğer Giderler","06.6.1.90"]
[null,6,6,2,null,"Malzeme Giderleri","06.6.2"]
[null,6,6,2,1,"Malzeme Giderleri","06.6.2.01"]
[null,6,6,3,null,"Taşıma Giderleri","06.6.3"]
[null,6,6,3,1,"Taşımaya ilişkin Beslenme, Barındırma Giderleri","06.6.3.01"]
[null,6,6,3,2,"Yolcu Taşıma Giderleri","06.6.3.02"]
[null,6,6,3,3,"Yük Taşıma Giderleri","06.6.3.03"]
[null,6,6,3,90,"Diğer Taşıma Giderleri","06.6.3.90"]
[null,6,6,4,null,"Enerji Giderleri","06.6.4"]
[null,6,6,4,1,"Yakacak  Alımları","06.6.4.01"]
[null,6,6,4,2,"Akaryakıt ve Yağ  Alımları","06.6.4.02"]
[null,6,6,4,3,"Elektrik Alımları","06.6.4.03"]
[null,6,6,4,90,"Diğer Enerji Alımları","06.6.4.90"]
[null,6,6,5,null,"Haberleşme Giderleri","06.6.5"]
[null,6,6,5,1,"Posta ve Telgraf Giderleri","06.6.5.01"]
[null,6,6,5,2,"Telefon Abonelik ve Kullanım Ücretleri","06.6.5.02"]
[null,6,6,5,3,"Bilgiye Abonelik Giderleri ","06.6.5.03"]
[null,6,6,5,4,"Haberleşme Cihazları Ruhsat ve Kullanım Giderleri","06.6.5.04"]
[null,6,6,5,5,"Uydu Haberleşme Giderleri","06.6.5.05"]
[null,6,6,5,6,"Hat Kira Giderleri","06.6.5.06"]
[null,6,6,5,90,"Diğer Haberleşme Giderleri","06.6.5.90"]
[null,6,6,6,null,"Kiralar","06.6.6"]
[null,6,6,6,1,"Dayanıklı Mal ve Malzeme Kiralaması Giderleri","06.6.6.01"]
[null,6,6,6,2,"Taşıt Kiralaması Giderleri","06.6.6.02"]
[null,6,6,6,3,"İş Makinası Kiralaması Giderleri","06.6.6.03"]
[null,6,6,6,4,"Canlı Hayvan Kiralaması Giderleri","06.6.6.04"]
[null,6,6,6,5,"Bina Kiralaması Giderleri","06.6.6.05"]
[null,6,6,6,6,"Arazi Kiralaması Giderleri","06.6.6.06"]
[null,6,6,6,7,"Yüzer Taşıt Kiralaması Giderleri","06.6.6.07"]
[null,6,6,6,8,"Uçak Kiralaması Giderleri","06.6.6.08"]
[null,6,6,6,9,"Bilgisayar ve Bilgisayar Sistemleri Kiralaması Giderleri","06.6.6.09"]
[null,6,6,6,90,"Diğer Kiralamalar","06.6.6.90"]
[null,6,6,7,null,"Müteahhitlik Hizmetleri","06.6.7"]
[null,6,6,7,1,"Müteahhitlik Hizmetleri","06.6.7.01"]
[null,6,6,9,null,"Diğer Giderler","06.6.9"]
[null,6,6,9,1,"Diğer Giderler","06.6.9.01"]
[]
[null,6,7,null,null,"06  7  GAYRİMENKUL BÜYÜK ONARIM GİDERLERİ","06.7"]
[]
[null,6,7,1,null,"Müşavir Firma ve Kişilere Ödemeler","06.7.1"]
[null,6,7,1,1,"Proje Giderleri","06.7.1.01"]
[null,6,7,1,2,"Müşavirlik Giderleri","06.7.1.02"]
[null,6,7,1,3,"Kontrol Giderleri","06.7.1.03"]
[null,6,7,1,90,"Diğer Giderler","06.7.1.90"]
[null,6,7,2,null,"Malzeme Giderleri","06.7.2"]
[null,6,7,2,1,"İnşaat Malzemesi Giderleri","06.7.2.01"]
[null,6,7,2,2,"Elektrik Tesisatı Giderleri","06.7.2.02"]
[null,6,7,2,3,"Sıhhi Tesisat Giderleri","06.7.2.03"]
[null,6,7,2,4,"Özel Tesisat Giderleri","06.7.2.04"]
[null,6,7,2,90,"Diğer Giderler","06.7.2.90"]
[null,6,7,3,null,"Taşıma Giderleri","06.7.3"]
[null,6,7,3,1,"Taşımaya ilişkin Beslenme, Barındırma Giderleri","06.7.3.01"]
[null,6,7,3,2,"Yolcu Taşıma Giderleri","06.7.3.02"]
[null,6,7,3,3,"Yük Taşıma Giderleri","06.7.3.03"]
[null,6,7,3,90,"Diğer Taşıma Giderleri","06.7.3.90"]
[null,6,7,4,null,"Enerji Giderleri","06.7.4"]
[null,6,7,4,1,"Yakacak  Alımları","06.7.4.01"]
[null,6,7,4,2,"Akaryakıt ve Yağ  Alımları","06.7.4.02"]
[null,6,7,4,3,"Elektrik Alımları","06.7.4.03"]
[null,6,7,4,90,"Diğer Enerji Alımları","06.7.4.90"]
[null,6,7,5,null,"Haberleşme Giderleri","06.7.5"]
[null,6,7,5,1,"Posta ve Telgraf Giderleri","06.7.5.01"]
[null,6,7,5,2,"Telefon Abonelik ve Kullanım Ücretleri","06.7.5.02"]
[null,6,7,5,3,"Bilgiye Abonelik Giderleri   ","06.7.5.03"]
[null,6,7,5,4,"Haberleşme Cihazları Ruhsat ve Kullanım Giderleri","06.7.5.04"]
[null,6,7,5,5,"Uydu Haberleşme Giderleri","06.7.5.05"]
[null,6,7,5,6,"Hat Kira Giderleri","06.7.5.06"]
[null,6,7,5,90,"Diğer Haberleşme Giderleri","06.7.5.90"]
[null,6,7,6,null,"Kiralar","06.7.6"]
[null,6,7,6,1,"Dayanıklı Mal ve Malzeme Kiralaması Giderleri","06.7.6.01"]
[null,6,7,6,2,"Taşıt Kiralaması Giderleri","06.7.6.02"]
[null,6,7,6,3,"İş Makinası Kiralaması Giderleri","06.7.6.03"]
[null,6,7,6,4,"Canlı Hayvan Kiralaması Giderleri","06.7.6.04"]
[null,6,7,6,5,"Bina Kiralaması Giderleri","06.7.6.05"]
[null,6,7,6,6,"Arazi Kiralaması Giderleri","06.7.6.06"]
[null,6,7,6,7,"Yüzer Taşıt Kiralaması Giderleri","06.7.6.07"]
[null,6,7,6,8,"Hava Taşıtı Kiralaması Giderleri","06.7.6.08"]
[null,6,7,6,9,"Bilgisayar, Bilgisayar Sistemleri ve Yazılımları Kiralaması Giderleri","06.7.6.09"]
[null,6,7,6,10,"Tersane Kiralaması Giderleri","06.7.6.10"]
[null,6,7,6,90,"Diğer Kiralamalar","06.7.6.90"]
[null,6,7,7,null,"Müteahhitlik Giderleri","06.7.7"]
[null,6,7,7,1,"Hizmet Binası","06.7.7.01"]
[null,6,7,7,2,"Hizmet Tesisleri","06.7.7.02"]
[null,6,7,7,3,"Lojmanlar","06.7.7.03"]
[null,6,7,7,4,"Sosyal Tesisler","06.7.7.04"]
[null,6,7,7,5,"Gemiler","06.7.7.05"]
[null,6,7,7,6,"Yüzer Tersaneler","06.7.7.06"]
[null,6,7,7,90,"Diğerleri","06.7.7.90"]
[null,6,7,9,null,"Diğer Giderler","06.7.9"]
[null,6,7,9,1,"Diğer Giderler","06.7.9.01"]
[]
[null,6,8,null,null,"06  8  STOK ALIMLARI ","06.8"]
[]
[null,6,8,1,null,"Stratejik ve Acil Durum Malzemesi","06.8.1"]
[null,6,8,1,1,"Stratejik ve Acil Durum Malzemesi","06.8.1.01"]
[null,6,8,2,null,"Tarımsal Ürünler","06.8.2"]
[null,6,8,2,1,"Buğday Alımları","06.8.2.01"]
[null,6,8,2,90,"Diğer","06.8.2.90"]
[null,6,8,3,null,"Sanayi Ürünleri Alımları","06.8.3"]
[null,6,8,3,1,"Tekstil Ürünleri Alımları","06.8.3.01"]
[null,6,8,3,90,"Diğer Ürünler Alımları","06.8.3.90"]
[null,6,8,4,null,"Hammadde Alımları","06.8.4"]
[null,6,8,4,1,"Hammadde Alımları","06.8.4.01"]
[null,6,8,9,null,"Diğer Alımlar","06.8.9"]
[null,6,8,9,1,"Diğer Alımlar","06.8.9.01"]
[null,6,9,null,null,"DİĞER SERMAYE GİDERLERİ","06.9"]
[null,6,9,1,null,"Gizli Hizmet Giderleri","06.9.1"]
[null,6,9,1,1,"Gizli Hizmet Giderleri","06.9.1.01"]
[null,6,9,2,null,"Yolluk Giderleri","06.9.2"]
[null,6,9,2,1,"Yurtiçi Geçici Görev Yollukları","06.9.2.01"]
[null,6,9,2,3,"Yurtdışı Geçici Görev Yollukları","06.9.2.03"]
[null,6,9,2,5,"Yolluk Tazminatları","06.9.2.05"]
[null,6,9,2,6,"Arazi Tazminatları","06.9.2.06"]
[null,6,9,9,null,"09  9  Diğer Sermaye Giderleri","06.9.9"]
[null,6,9,9,1,"Diğer Sermaye Giderleri","06.9.01"]

{"sheet":"Eko. Kod Tüketim","index":13,"n_rows":56,"n_cols":3,"rows_kept":56,"cut":false,"hidden":false,"merged":[]}
[null,"          (03.2) TÜKETİME YÖNELİK MAL VE MALZEME ALIMLARI","KODU"]
[15,{"$f":"INDEX(B3:B56,A2)","v":"Yakacak  Alımları"},{"$f":"VLOOKUP(B2,B3:C56,2,0)","v":"03.2.3.01"}]
[null," (03.2) TÜKETİME YÖNELİK MAL VE MALZEMELER"]
[null," Kırtasiye ve Büro Malzemesi  Alımları","03.2.1"]
[null,"Kırtasiye Alımları","03.2.1.01"]
[null,"Büro  Malzemesi Alımları","03.2.1.02"]
[null,"Periyodik Yayın Alımları  ","03.2.1.03"]
[null,"Diğer Yayın Alımları","03.2.1.04"]
[null,"Baskı ve Cilt Giderleri","03.2.1.05"]
[null,"Diğer Kırtasiye ve Büro Malzemesi Alımları","03.2.1.90"]
[null,"* * *"]
[null,"Su ve Temizlik Malzemesi Alımları","03.2.2"]
[null,"Su Alımları","03.2.2.01"]
[null,"Temizlik Malzemesi Alımları","03.2.2.02"]
[null,"* * *"]
[null,"Enerji Alımları","03.2.3"]
[null,"Yakacak  Alımları","03.2.3.01"]
[null,"Akaryakıt ve Yağ  Alımları","03.2.3.02"]
[null,"Elektrik Alımları","03.2.3.03"]
[null,"Diğer Enerji Alımları","03.2.3.90"]
[null,"* * *"]
[null,"Yiyecek, İçecek ve Yem Alımları","03.2.4"]
[null,"Yiyecek Alımları ","03.2.4.01"]
[null,"İçecek Alımları","03.2.4.02"]
[null,"Diğer Yiyecek, İçecek ve Yem Alımları","03.2.4.90"]
[null,"* * *"]
[null,"Giyim ve Kuşam Alımları","03.2.5"]
[null,"Giyecek Alımları  ","03.2.5.01"]
[null,"Spor Malzemeleri Alımları","03.2.5.02"]
[null,"Tören Malzemeleri Alımları","03.2.5.03"]
[null,"Diğer Giyim ve Kuşam Alımları","03.2.5.90"]
[null,"* * *"]
[null,"Özel Malzeme Alımları","03.2.6"]
[null,"Laboratuvar Malzemesi ile Kimyevi ve Temrinlik Malzeme Alımları","03.2.6.01"]
[null,"Tıbbi Malzeme ve İlaç Alımları","03.2.6.02"]
[null,"Zirai Malzeme ve İlaç Alımları","03.2.6.03"]
[null,"Canlı Hayvan Alım, Bakım ve Diğer Giderleri","03.2.6.04"]
[null,"Diğer Özel Malzeme Alımları","03.2.6.90"]
[null,"* * *"]
[null,"Güvenlik ve Savunmaya Yönelik Mal, Malzeme ve Hizmet Alımları, Yapımları ve Giderleri","03.2.7"]
[null,"Güvenlik ve Savunmaya Yönelik Silah, Araç, Gereç ve Savaş Teçhizatı Alımları","03.2.7.01"]
[null,"Güvenlik ve Savunmaya Yönelik Silah, Araç, Gereç ve Savaş Teçhizatı İşletme, Bakım ve İdame Giderleri","03.2.7.02"]
[null,"Mühimmat Alımları","03.2.7.03"]
[null,"Güvenlik ve Savunmaya Yönelik Araştırma-Geliştirme Giderleri","03.2.7.04"]
[null,"Güvenlik ve Savunmaya Yönelik Hizmet Alım Giderleri","03.2.7.05"]
[null,"Savunma Projeleri ve Acil İhtiyaç Giderleri","03.2.7.06"]
[null,"Güvenlik ve Savunmaya Yönelik Diğer Giderler","03.2.7.09"]
[null,"Diğer Savunma Mal ve  Malzeme Alımları ve Yapımları","03.2.7.90"]
[null,"* * *"]
[null,"NATO Giderleri İle Gayrimenkul Alım ve Kamulaştırma Giderleri","03.2.8"]
[null,"Gayrimenkul Alım ve Kamulaştırma Giderleri","03.2.8.01"]
[null,"NATO Altyapısına İlişkin Gayrimenkul Alım ve Kamulaştırma Giderleri","03.2.8.02"]
[null,"* * *"]
[null,"Diğer Tüketim Mal ve Malzemesi Alımları","03.2.9"]
[null,"Bahçe Malzemesi Alımları ile Yapım ve Bakım Giderleri","03.2.9.01"]
[null,"Diğer Tüketim Mal ve Malzemesi Alımları","03.2.9.90"]

{"sheet":"Eko. Kod Genel","index":14,"n_rows":525,"n_cols":7,"rows_kept":525,"cut":false,"hidden":true,"merged":[]}
[null,"ANALİTİK BÜTÇE SINIFLANDIRMASI\n DÖRDÜNCÜ DÜZEY GİDER KODLARI","EKONOMİK\n KODU",{"$f":"INDEX(_xlnm.Print_Area,G1)","v":"Giyim ve Kuşam Alımları"},{"$f":"VLOOKUP(D1,B2:C525,2,0)","v":"03.2.5"},null,43]
[null,"MAL VE HİZMET ALIM GİDERLERİ","03"]
[null,"ÜRETİME YÖNELİK MAL VE MALZEME ALIMLARI","03.1"]
[null,"Hammadde Alımları","03.1.1"]
[null,"Hammadde Alımları","03.1.1.01"]
[null,"Gıda Ürünleri İçecekler ve Tütün  Alımları","03.1.2"]
[null,"Gıda Ürünleri İçecekler ve Tütün  Alımları","03.1.2.01"]
[null,"Tekstil ve Tekstil Ürünler Deri ve Deri Ürünleri  Alımları","03.1.3"]
[null,"Tekstil ve Tekstil Ürünler Deri ve Deri Ürünleri  Alımları","03.1.3.01"]
[null,"Kereste ve Kereste Ürünleri  Alımları","03.1.4"]
[null,"Kereste ve Kereste Ürünleri  Alımları","03.1.4.01"]
[null,"Kağıt ve Kağıt Ürünleri  Alımları","03.1.5"]
[null,"Kağıt ve Kağıt Ürünleri  Alımları","03.1.5.01"]
[null,"Kimyevi Ürün  Alımları","03.1.6"]
[null,"Kimyevi Ürün  Alımları","03.1.6.01"]
[null,"Kauçuk ve Plastik Ürün  Alımları","03.1.7"]
[null,"Kauçuk ve Plastik Ürün  Alımları","03.1.7.01"]
[null,"Metal Ürünü Alımları","03.1.8"]
[null,"Metal Ürünü Alımları","03.1.8.01"]
[null,"Diğer Mal ve Malzeme  Alımları","03.1.9"]
[null,"Diğer Mal ve Malzeme  Alımları","03.1.9.01"]
[null,"TÜKETİME YÖNELİK MAL VE MALZEME ALIMLARI","03.2"]
[null,"Kırtasiye ve Büro Malzemesi  Alımları","03.2.1"]
[null,"Kırtasiye Alımları","03.2.1.01"]
[null,"Büro  Malzemesi Alımları","03.2.1.02"]
[null,"Periyodik Yayın Alımları","03.2.1.03"]
[null,"Diğer Yayın Alımları","03.2.1.04"]
[null,"Baskı ve Cilt Giderleri","03.2.1.05"]
[null,"Diğer Kırtasiye ve Büro Malzemesi Alımları","03.2.1.90"]
[null,"Su ve Temizlik Malzemesi Alımları","03.2.2"]
[null,"Su Alımları","03.2.2.01"]
[null,"Temizlik Malzemesi Alımları","03.2.2.02"]
[null,"Enerji Alımları","03.2.3"]
[null,"Yakacak  Alımları","03.2.3.01"]
[null,"Akaryakıt ve Yağ  Alımları","03.2.3.02"]
[null,"Elektrik Alımları","03.2.3.03"]
[null,"Diğer Enerji Alımları","03.2.3.90"]
[null,"Yiyecek, İçecek ve Yem Alımları","03.2.4"]
[null,"Yiyecek Alımları ","03.2.4.01"]
[null,"İçecek Alımları","03.2.4.02"]
[null,"Yem Alımları","03.2.4.03"]
[null,"Diğer Yiyecek, İçecek ve Yem Alımları","03.2.4.90"]
[null,"Giyim ve Kuşam Alımları","03.2.5"]
[null,"Giyecek Alımları  ","03.2.5.01"]
[null,"Spor Malzemeleri Alımları","03.2.5.02"]
[null,"Tören Malzemeleri Alımları","03.2.5.03"]
[null,"Bando Malzemeleri Alımları","03.2.5.04"]
[null,"Kuşam Alımları  ","03.2.5.05"]
[null,"Diğer Giyim ve Kuşam Alımları","03.2.5.90"]
[null,"Özel Malzeme Alımları","03.2.6"]
[null,"Laboratuvar Malzemesi ile Kimyevi ve Temrinlik Malzeme Alımları","03.2.6.01"]
[null,"Tıbbi Malzeme ve İlaç Alımları","03.2.6.02"]
[null,"Zirai Malzeme ve İlaç Alımları","03.2.6.03"]
[null,"Canlı Hayvan Alım, Bakım ve Diğer Giderleri","03.2.6.04"]
[null,"Diğer Özel Malzeme Alımları","03.2.6.90"]
[null,"Güvenlik ve Savunmaya Yönelik Mal, Malzeme ve Hiz. Alım., Yapımları ve Giderleri","03.2.7"]
[null,"Güvenlik ve Savunmaya Yönelik Silah, Araç, Gereç ve Savaş Teçhizatı Alımları","03.2.7.01"]
[null,"Güvenlik ve Sav. Yön. Silah, Araç, Gereç ve Savaş Teçhizatı İşletme, Bakım ve İdame Gid.","03.2.7.02"]
[null,"Mühimmat Alımları","03.2.7.03"]
[null,"Güvenlik ve Savunmaya Yönelik Araştırma-Geliştirme Giderleri","03.2.7.04"]
[null,"Güvenlik ve Savunmaya Yönelik Hizmet Alım Giderleri","03.2.7.05"]
[null,"Savunma Projeleri ve Acil İhtiyaç Giderleri","03.2.7.06"]
[null,"Güvenlik ve Savunmaya Yönelik Diğer Giderler","03.2.7.09"]
[null,"Güvenlik ve Savunmaya Yönelik Makine-Teçhizat Alımları","03.2.7.11"]
[null,"Güvenlik ve Savunmaya Yönelik Makine-Teçhizat Büyük Onarımları","03.2.7.12"]
[null,"Güvenlik ve Savunmaya Yönelik Gayrimenkul Yapım Giderleri","03.2.7.21"]
[null,"Güvenlik ve Savunmaya Yönelik Gayrimenkul Büyük Onarım Giderleri","03.2.7.22"]
[null,"Nato Altyapısına İlişkin Gayrimenkul Yapım Giderleri","03.2.7.31"]
[null,"Nato Altyapısına İlişkin Gayrimenkul Büyük Onarım Giderleri","03.2.7.32"]
[null,"Diğer Savunma Mal ve  Malzeme Alımları ve Yapımları","03.2.7.90"]
[null,"NATO Giderleri İle Gayrimenkul Alım ve Kamulaştırma Giderleri","03.2.8"]
[null,"Gayrimenkul Alım ve Kamulaştırma Giderleri","03.2.8.01"]
[null,"NATO Altyapısına İlişkin Gayrimenkul Alım ve Kamulaştırma Giderleri","03.2.8.02"]
[null,"NATO Giderleri","03.2.8.03"]
[null,"Diğer Tüketim Mal ve Malzemesi Alımları","03.2.9"]
[null,"Bahçe Malzemesi Alımları ile Yapım ve Bakım Giderleri","03.2.9.01"]
[null,"Diğer Tüketim Mal ve Malzemesi Alımları","03.2.9.90"]
[null,"YOLLUKLAR","03.3"]
[null,"Yurtiçi Geçici Görev Yollukları","03.3.1"]
[null,"Yurtiçi Geçici Görev Yollukları","03.3.1.01"]
[null,"Yurtiçi Tedavi Yollukları","03.3.1.02"]
[null,"Yurtiçi Sürekli Görev Yollukları","03.3.2"]
[null,"Yurtiçi Sürekli Görev Yollukları","03.3.2.01"]
[null,"Yurtdışı Geçici Görev Yollukları","03.3.3"]
[null,"Yurtdışı Geçici Görev Yollukları","03.3.3.01"]
[null,"Yurtdışı Tedavi Yollukları","03.3.3.02"]
[null,"Yurtdışı Sürekli Görev Yollukları","03.3.4"]
[null,"Yurtdışı Sürekli Görev Yollukları","03.3.4.01"]
[null,"Yolluk Tazminatları","03.3.5"]
[null,"Seyyar Görev Tazminatları","03.3.5.01"]
[null,"Arazi Tazminatları","03.3.5.02"]
[null,"Uluslararası  Profesör Uzman, Memur ve Öğrenci Mübadele Giderleri","03.3.6"]
[null,"Profesör Uzman ve Memur Mübadele Giderleri","03.3.6.01"]
[null,"Öğrenci Mübadele Giderleri","03.3.6.02"]
[null,"GÖREV GİDERLERİ","03.4"]
[null,"Tahliye Giderleri","03.4.1"]
[null,"Yurtdışı Tahliye Giderleri","03.4.1.01"]
[null,"Afet Bölgesi Tahliye Giderleri","03.4.1.02"]
[null,"Mülteci Tahliye Giderleri","03.4.1.03"]
[null,"Diğer Tahliye Giderleri","03.4.1.90"]
[null,"Yasal Giderler","03.4.2"]
[null,"Beyiye Aidatları","03.4.2.01"]
[null,"Oranı Kanunla Belirlenmiş Aidat ve İkramiyeler ","03.4.2.02"]
[null,"Kusursuz Tazminatlar","03.4.2.03"]
[null,"Mahkeme Harç ve Giderleri","03.4.2.04"]
[null,"Ödül, İkramiye ve Benzeri Ödemeler ","03.4.2.05"]
[null,"Diğer Yasal Giderler","03.4.2.90"]
[null,"Ödenecek Vergi, Resim,  Harçlar ve Benzeri Giderler","03.4.3"]
[null,"Vergi Ödemeleri ve Benzeri Giderler","03.4.3.01"]
[null,"İşletme Ruhsatı Ödemeleri ve Benzeri Giderler","03.4.3.02"]
[null,"Diğer Vergi, Resim ve Harçlar ve Benzeri Giderler","03.4.3.90"]
[null,"Kültür Varlıkları Alımı ve Korunması Giderleri","03.4.4"]
[null,"Arkeolojik Kazı Giderleri","03.4.4.01"]
[null,"Restorasyon ve Yenileme Giderleri","03.4.4.02"]
[null,"Kültür Varlıkları Alımı","03.4.4.03"]
[null,"Sergi Giderleri","03.4.4.04"]
[null,"Kültür Varlıklarının Korunmasına İlişkin Diğer Giderler","03.4.4.90"]
[null,"Gizli Hizmet Giderleri","03.4.5"]
[null,"Gizli Hizmet Giderleri","03.4.5.01"]
[null,"Barışı Destekleme ve Koruma Harekat Giderleri","03.4.5.02"]
[null,"Diğer Görev Giderleri","03.4.9"]
[null,"Karantina Giderleri","03.4.9.01"]
[null,"Güvenlik Kuvvetleri Nezaretinde Bulundurma Giderleri","03.4.9.02"]
[null,"Yurtdışına Çıkarma ve Yurtiçinde Yer Değiştirme Giderleri","03.4.9.03"]
[null,"Diğer Görev Giderleri","03.4.9.90"]
[null,"HİZMET ALIMLARI","03.5"]
[null,"Müşavir Firma ve Kişilere Ödemeler","03.5.1"]
[null,"Etüt-Proje Bilirkişi Ekspertiz Giderleri","03.5.1.01"]
[null,"Araştırma ve Geliştirme Giderleri","03.5.1.02"]
[null,"Bilgisayar Hizmeti Alımları","03.5.1.03"]
[null,"Müteahhitlik Hizmetleri","03.5.1.04"]
[null,"Harita Yapım ve Alım Giderleri","03.5.1.05"]
[null,"Enformasyon ve Raporlama Giderleri","03.5.1.06"]
[null,"Danışma Yönetim ve İşletim Giderleri","03.5.1.07"]
[null,"Diğer Müşavir Firma ve Kişilere Ödemeler","03.5.1.90"]
[null,"Haberleşme Giderleri","03.5.2"]
[null,"Posta ve Telgraf Giderleri","03.5.2.01"]
[null,"Telefon Abonelik ve Kullanım Ücretleri","03.5.2.02"]
[null,"Bilgiye Abonelik Giderleri","03.5.2.03"]
[null,"Haberleşme Cihazları Ruhsat ve Kullanım Giderleri","03.5.2.04"]
[null,"Uydu Haberleşme Giderleri","03.5.2.05"]
[null,"Hat Kira Giderleri","03.5.2.06"]
[null,"Diğer Haberleşme Giderleri","03.5.2.90"]
[null,"Taşıma Giderleri","03.5.3"]
[null,"Taşımaya İlişkin Beslenme, Barındırma Giderleri","03.5.3.01"]
[null,"Yolcu Taşıma Giderleri","03.5.3.02"]
[null,"Yük Taşıma Giderleri","03.5.3.03"]
[null,"Geçiş Ücretleri","03.5.3.04"]
[null,"Diğer Taşıma Giderleri","03.5.3.90"]
[null,"Tarifeye Bağlı Ödemeler","03.5.4"]
[null,"İlan Giderleri","03.5.4.01"]
[null,"Sigorta Giderleri","03.5.4.02"]
[null,"Komisyon Giderleri","03.5.4.03"]
[null,"Kovuşturma Giderleri","03.5.4.04"]
[null,"Diğer Tarifeye Bağlı Ödemeler","03.5.4.90"]
[null,"Kiralar","03.5.5"]
[null,"Dayanıklı Mal ve Malzeme Kiralaması Giderleri","03.5.5.01"]
[null,"Taşıt Kiralaması Giderleri","03.5.5.02"]
[null,"İş Makinası Kiralaması Giderleri","03.5.5.03"]
[null,"Canlı Hayvan Kiralaması Giderleri","03.5.5.04"]
[null,"Hizmet Binası Kiralama Giderleri","03.5.5.05"]
[null,"Lojman Kiralama Giderleri","03.5.5.06"]
[null,"Arsa ve Arazi Kiralaması Giderleri","03.5.5.07"]
[null,"Yüzer Taşıt Kiralaması Giderleri","03.5.5.08"]
[null,"Hava Taşıtı Kiralaması Giderleri","03.5.5.09"]
[null,"Bilgisayar ve Bilgisayar Sistemleri ve Yazılımları Kiralaması Giderleri","03.5.5.10"]
[null,"Tersane Kiralaması Giderleri","03.5.5.11"]
[null,"Diğer Kiralama Giderleri","03.5.5.90"]
[null,"Devlet Borçları Genel Giderleri","03.5.6"]
[null,"Hazine Bonosu Genel Giderleri","03.5.6.01"]
[null,"Tahvil Genel  Giderleri","03.5.6.02"]
[null,"Dış Borçlanma Genel Giderleri","03.5.6.03"]
[null,"Mahalli İdarelerin İç Borçlanma Genel Giderleri","03.5.6.51"]
[null,"Mahalli İdarelerin Dış Borçlanma Genel Giderleri","03.5.6.52"]
[null,"Diğer Hizmet Alımları","03.5.9"]
[null,"Yurtiçi Staj ve Öğrenim Giderleri","03.5.9.01"]
[null,"Yurtdışı Staj ve Öğrenim Giderleri","03.5.9.02"]
[null,"Kurslara Katılma ve Eğitim Giderleri","03.5.9.03"]
[null,"Öğretim Üyesi Yetiştirme Projesi Giderleri","03.5.9.04"]
[null,"Lojman İşletme Maliyetlerine Katılım Giderleri ","03.5.9.10"]
[null,"Diğer Binaların İşletme Maliyetlerine Katılım Giderleri ","03.5.9.11"]
[null,"Diğer Hizmet Alımları","03.5.9.90"]
[null,"TEMSİL VE TANITMA GİDERLERİ","03.6"]
[null,"Temsil Giderleri","03.6.1"]
[null,"Temsil, Ağırlama, Tören, Fuar, Organizasyon Giderleri","03.6.1.01"]
[null,"Tanıtma Giderleri","03.6.2"]
[null,"Tanıtma, Ağırlama, Tören, Fuar, Organizasyon Giderleri","03.6.2.01"]
[null,"MENKUL MAL,GAYRİMADDİ HAK ALIM, BAKIM VE ONARIM GİDERLERİ","03.7"]
[null,"Menkul Mal  Alım Giderleri","03.7.1"]
[null,"Büro ve İşyeri Mal ve Malzeme Alımları","03.7.1.01"]
[null,"Büro ve İşyeri Makine ve Techizat Alımları","03.7.1.02"]
[null,"Avadanlık ve Yedek Parça Alımları ","03.7.1.03"]
[null,"Yangından Korunma Malzemeleri Alımları","03.7.1.04"]
[null,"Diğer Dayanıklı Mal ve Malzeme Alımları","03.7.1.90"]
[null,"Gayri Maddi Hak Alımları","03.7.2"]
[null,"Bilgisayar Yazılım Alımları ve Yapımları","03.7.2.01"]
[null,"Fikri Hak Alımları","03.7.2.02"]
[null,"Diğer Gayri Maddi Hak Alımları","03.7.2.90"]
[null,"Bakım ve Onarım Giderleri","03.7.3"]
[null,"Tefrişat Bakım ve Onarım Giderleri","03.7.3.01"]
[null,"Makine Teçhizat Bakım ve Onarım Giderleri","03.7.3.02"]
[null,"Taşıt Bakım ve Onarım Giderleri","03.7.3.03"]
[null,"İş Makinası Onarım Giderleri","03.7.3.04"]
[null,"Diğer Bakım ve Onarım Giderleri","03.7.3.90"]
[null,"GAYRİMENKUL MAL BAKIM VE ONARIM GİDERLERİ","03.8"]
[null,"Hizmet Binası  Bakım ve Onarım Giderleri","03.8.1"]
[null,"Büro Bakım ve Onarımı Giderleri","03.8.1.01"]
[null,"Okul Bakım ve Onarımı Giderleri","03.8.1.02"]
[null,"Hastane Bakım ve Onarımı Giderleri","03.8.1.03"]
[null,"Atölye ve Tesis Binaları Bakım ve Onarımı Giderleri","03.8.1.04"]
[null,"Diğer Hizmet Binası  Bakım ve Onarım Giderleri","03.8.1.90"]
[null,"Lojman  Bakım ve Onarımı Giderleri","03.8.2"]
[null,"Lojman Bakım ve Onarımı Giderleri","03.8.2.01"]
[null,"Sosyal Tesis  Bakım ve Onarımı Giderleri","03.8.3"]
[null,"Sosyal Tesis  Bakım ve Onarımı Giderleri","03.8.3.01"]
[null,"Gemi  Bakım ve Onarımı Giderleri","03.8.4"]
[null,"Gemi  Bakım ve Onarımı Giderleri","03.8.4.01"]
[null,"Tersane Bakım ve Onarımı Giderleri","03.8.5"]
[null,"Tersane Bakım ve Onarımı Giderleri","03.8.5.01"]
[null,"Yüzer Tersane Bakım ve Onarım Giderleri","03.8.5.02"]
[null,"Yol  Bakım ve Onarımı Giderleri","03.8.6"]
[null,"Yol  Bakım ve Onarımı Giderleri","03.8.6.01"]
[null,"Diğer Taşınmaz Yapım, Bakım ve Onarım Giderleri","03.8.9"]
[null,"Diğer Taşınmaz Yapım, Bakım ve Onarım Giderleri","03.8.9.01"]
[null,"TEDAVİ VE CENAZE GİDERLERİ","03.9"]
[null,"Cenaze Giderleri","03.9.3"]
[null,"Cenaze Giderleri","03.9.3.01"]
[null,"Mezar ve Şehitlik Yapım ve Bakım Giderleri","03.9.3.02"]
[null,"Diğer Tedavi ve Sağlık Malzemesi Giderleri","03.9.8"]
[null,"Er ve Erbaş Tedavi ve Sağlık Malzemesi Giderleri","03.9.8.02"]
[null,"Tutuklu ve Hükümlülerin Tedavi ve Sağlık Malzemesi Giderleri","03.9.8.03"]
[null,"Diğer Tedavi ve Sağlık Malzemesi Giderleri","03.9.8.90"]
[null,"Diğer İlaç Giderleri","03.9.9"]
[null,"Er ve Erbaş İlaç Giderleri","03.9.9.02"]
[null,"Tutuklu ve Hükümlülerin İlaç Giderleri","03.9.9.03"]
[null,"Diğer İlaç Giderleri","03.9.9.90"]
[]
[null," **               **               **               **               "]
[]
[null,"SERMAYE GİDERLERİ","06"]
[null,"MAMUL MAL ALIMLARI","06.1"]
[null,"Büro ve İşyeri Mefruşatı Alımları","06.1.1"]
[null,"Büro Mefruşatı Alımları","06.1.1.01"]
[null,"İşyeri Mefruşatı Alımları ","06.1.1.02"]
[null,"Okul Mefruşatı Alımları","06.1.1.03"]
[null,"Hastane Mefruşatı Alımları","06.1.1.04"]
[null,"Sosyal Tesis Mefruşatı Alımları","06.1.1.05"]
[null,"Diğer Mefruşat Alımları","06.1.1.90"]
[null,"Büro ve İşyeri Makine Teçhizat Alımları","06.1.2"]
[null,"Büro Makinaları Alımları ","06.1.2.01"]
[null,"Bilgisayar Alımları","06.1.2.02"]
[null,"Tıbbi Cihaz Alımları","06.1.2.03"]
[null,"Laboratuar Cihazı Alımları","06.1.2.04"]
[null,"İşyeri Makine Teçhizat Alımları","06.1.2.05"]
[null,"Diğer Makine Teçhizat Alımları","06.1.2.90"]
[null,"Avadanlık Alımları","06.1.3"]
[null,"Tamir Bakım Aleti Alımları","06.1.3.01"]
[null,"Atölye Gereçleri Alımları","06.1.3.02"]
[null,"Tıbbi Gereçler Alımları","06.1.3.03"]
[null,"Laboratuar Gereçleri Alımları","06.1.3.04"]
[null,"Zirai Gereç Alımları","06.1.3.05"]
[null,"Diğer Avadanlık Alımları","06.1.3.90"]
[null,"Taşıt Alımları","06.1.4"]
[null,"Kara Taşıtı  Alımları   ","06.1.4.01"]
[null,"Demiryolu Taşıtı  Alımları","06.1.4.30"]
[null,"Deniz ve Suyolu Taşıtı  Alımları","06.1.4.40"]
[null,"Denizaltı Taşıtı  Alımları","06.1.4.50"]
[null,"Havayolu Taşıtı  Alımları","06.1.4.60"]
[null,"Uzay Taşıtı  Alımları","06.1.4.70"]
[null,"Diğer Taşıt Alımları","06.1.4.90"]
[null,"İş Makinası Alımları","06.1.5"]
[null,"Sabit iş Makinası Alımları","06.1.5.01"]
[null,"Hareketli İş Makinası Alımları","06.1.5.30"]
[null,"Yayın Alımları ve Yapımları","06.1.6"]
[null,"Basılı Yayın Alımları ve Yapımları","06.1.6.01"]
[null,"El Yazması Alımları ve Yapımları","06.1.6.02"]
[null,"Elektronik Ortamda Yayın Alımları ve Yapımları","06.1.6.03"]
[null,"Görüntülü Yayın Alımları ve Yapımları","06.1.6.04"]
[null,"Diğer Yayın Alımları ve Yapımları","06.1.6.90"]
[null,"Kültür Varlığı Yapımları, Alımları ve Korunması Giderleri","06.1.7"]
[null,"Arkeolojik Kazı Giderleri","06.1.7.01"]
[null,"Tablo-Heykel Yapım, Alım ve Onarımları","06.1.7.02"]
[null,"Eski Eser Alım ve Onarımları","06.1.7.03"]
[null,"Diğer Kültür Varlığı Yapım, Alım ve Korunması Giderleri","06.1.7.90"]
[null,"MENKUL SERMAYE ÜRETİM GİDERLERİ","06.2"]
[null,"Müşavir Firma ve Kişilere Ödemeler","06.2.1"]
[null,"Proje Giderleri","06.2.1.01"]
[null,"Müşavirlik Giderleri","06.2.1.02"]
[null,"Kontrol Giderleri","06.2.1.03"]
[null,"Diğer Giderler","06.2.1.90"]
[null,"Hammadde Alımları","06.2.2"]
[null,"Hammadde Alımları","06.2.2.01"]
[null,"Gıda Ürünleri, İçecekler ve Tütün  Alımları","06.2.3"]
[null,"Gıda Ürünleri, İçecekler ve Tütün  Alımları","06.2.3.01"]
[null,"Tekstil ve Tekstil Ürünleri, Deri ve Deri Ürünleri  Alımları","06.2.4"]
[null,"Tekstil ve Tekstil Ürünleri, Deri ve Deri Ürünleri  Alımları","06.2.4.01"]
[null,"Kereste ve Kereste Ürünleri  Alımları","06.2.5"]
[null,"Kereste ve Kereste Ürünleri  Alımları","06.2.5.01"]
[null,"Kağıt ve Kağıt Ürünleri  Alımları","06.2.6"]
[null,"Kağıt ve Kağıt Ürünleri  Alımları","06.2.6.01"]
[null,"Kimyevi Madde İle Kauçuk ve Plastik Ürün  Alımları","06.2.7"]
[null,"Kimyevi Madde İle Kauçuk ve Plastik Ürün  Alımları","06.2.7.01"]
[null,"Metal Ürün  Alımları","06.2.8"]
[null,"Metal Ürün  Alımları","06.2.8.01"]
[null,"Diğer Alımlar","06.2.9"]
[null,"Diğer Alımlar","06.2.9.01"]
[null,"GAYRİ MADDİ HAK ALIMLARI","06.3"]
[null,"Bilgisayar Yazılımı Alımları","06.3.1"]
[null,"Bilgisayar Yazılımı Alımları","06.3.1.01"]
[null,"Harita Plan Proje Alımları","06.3.2"]
[null,"Harita Alımları","06.3.2.01"]
[null,"Plan Proje Alımları","06.3.2.02"]
[null,"Lisans Alımları","06.3.3"]
[null,"Lisans Alımları","06.3.3.01"]
[null,"Patent Alımları","06.3.4"]
[null,"Patent Alımları","06.3.4.01"]
[null,"Diğer Fikri Hak Alımları","06.3.9"]
[null,"Diğer Fikri Hak Alımları","06.3.9.01"]
[null,"GAYRİMENKUL ALIMLARI VE KAMULAŞTIRMASI","06.4"]
[null,"Arazi Alım ve Kamulaştırma Giderleri","06.4.1"]
[null,"Zirai Arazi Alım ve Kamulaştırma Giderleri","06.4.1.01"]
[null,"Sınai Arazi  Alım ve Kamulaştırma Giderleri","06.4.1.02"]
[null,"İskan Arazisi Alım ve Kamulaştırma Giderleri","06.4.1.03"]
[null,"Orman Arazisi Alım ve Kamulaştırma Giderleri","06.4.1.04"]
[null,"Turizm Arazisi Alım ve Kamulaştırma Giderleri","06.4.1.05"]
[null,"Göl ve Baraj için Arazi Alım ve Kamulaştırma Giderleri","06.4.1.06"]
[null,"Yol için Arazi Alım ve Kamulaştırma Giderleri","06.4.1.07"]
[null,"Güvenlik ve Savunma İçin Arazi Alım ve Kamulaştırma Giderleri","06.4.1.08"]
[null,"İçme Suyu Tesisi Arazi Alım ve Kamulaştırma Giderleri","06.4.1.09"]
[null,"Kanalizasyon Yapımı İçin Arazi Alım ve Kamulaştırma Giderleri","06.4.1.10"]
[null,"Diğer Gayrimenkul Alım ve Kamulaştırma Giderleri","06.4.1.90"]
[null,"Arsa Alım ve Kamulaştırması Giderleri","06.4.2"]
[null,"Hizmet Binası İçin Arsa Alım ve Kamulaştırma Giderleri","06.4.2.01"]
[null,"Lojman İçin Arsa Alım ve Kamulaştırma Giderleri","06.4.2.02"]
[null,"Sosyal Tesis İçin Arsa Alım ve Kamulaştırma Giderleri","06.4.2.03"]
[null,"Güvenlik ve Savunma İçin Arsa Alım ve Kamulaştırma Giderleri","06.4.2.04"]
[null,"Yol Yapımı İçin Arsa Alım ve Kamulaştırma Giderleri","06.4.2.05"]
[null,"İçme Suyu Tesisi Arsa Alım ve Kamulaştırma Giderleri","06.4.2.06"]
[null,"Kanalizasyon Yapımı İçin Arsa Alım ve Kamulaştırma Giderleri","06.4.2.07"]
[null,"Diğer Arsa Alım ve Kamulaştırma Giderleri","06.4.2.90"]
[null,"Bina Alım ve Kamulaştırma Giderleri","06.4.3"]
[null,"Hizmet Binası İçin Alım ve Kamulaştırma Giderleri","06.4.3.01"]
[null,"Lojman İçin Bina Alım ve Kamulaştırma Giderleri","06.4.3.02"]
[null,"Sosyal Tesis İçin Bina Alım ve Kamulaştırma Giderleri","06.4.3.03"]
[null,"Diğer Bina Alım ve Kamulaştırma Giderleri","06.4.3.90"]
[null,"Gemi Alımları","06.4.4"]
[null,"Yolcu Gemisi Alımları","06.4.4.01"]
[null,"Yük Gemisi Alımları","06.4.4.02"]
[null,"Araştırma Gemisi Alımları","06.4.4.03"]
[null,"Feribot Alımları","06.4.4.04"]
[null,"Tanker Alımları","06.4.4.05"]
[null,"Tersane Alımları","06.4.5"]
[null,"Tersane Alımları","06.4.5.01"]
[null,"Yüzer Tersane Alımları","06.4.5.02"]
[null,"GAYRİMENKUL SERMAYE ÜRETİM GİDERLERİ","06.5"]
[null,"Müşavir Firma ve Kişilere Ödemeler","06.5.1"]
[null,"Proje Giderleri","06.5.1.01"]
[null,"Müşavirlik Giderleri","06.5.1.02"]
[null,"Kontrol Giderleri","06.5.1.03"]
[null,"Diğer Giderler","06.5.1.90"]
[null,"Malzeme Giderleri","06.5.2"]
[null,"İnşaat Malzemesi Giderleri","06.5.2.01"]
[null,"Elektrik Tesisatı Giderleri","06.5.2.02"]
[null,"Sıhhi Tesisat Giderleri","06.5.2.03"]
[null,"Özel Tesisat Giderleri","06.5.2.04"]
[null,"Diğer Giderler","06.5.2.90"]
[null,"Taşıma Giderleri","06.5.3"]
[null,"Taşımaya ilişkin Beslenme, Barındırma Giderleri","06.5.3.01"]
[null,"Yolcu Taşıma Giderleri","06.5.3.02"]
[null,"Yük Taşıma Giderleri","06.5.3.03"]
[null,"Diğer Taşıma Giderleri","06.5.3.90"]
[null,"Enerji Giderleri","06.5.4"]
[null,"Yakacak  Alımları","06.5.4.01"]
[null,"Akaryakıt ve Yağ  Alımları","06.5.4.02"]
[null,"Elektrik Alımları","06.5.4.03"]
[null,"Diğer Enerji Alımları","06.5.4.90"]
[null,"Haberleşme Giderleri","06.5.5"]
[null,"Posta ve Telgraf Giderleri","06.5.5.01"]
[null,"Telefon Abonelik ve Kullanım Ücretleri","06.5.5.02"]
[null,"Bilgiye Abonelik Giderleri","06.5.5.03"]
[null,"Haberleşme Cihazları Ruhsat ve Kullanım Giderleri","06.5.5.04"]
[null,"Uydu Haberleşme Giderleri","06.5.5.05"]
[null,"Hat Kira Giderleri","06.5.5.06"]
[null,"Diğer Haberleşme Giderleri","06.5.5.90"]
[null,"Kira Giderleri","06.5.6"]
[null,"Dayanıklı Mal ve Malzeme Kiralaması Giderleri","06.5.6.01"]
[null,"Taşıt Kiralaması Giderleri","06.5.6.02"]
[null,"İş Makinası Kiralaması Giderleri","06.5.6.03"]
[null,"Canlı Hayvan Kiralaması Giderleri","06.5.6.04"]
[null,"Bina Kiralaması Giderleri","06.5.6.05"]
[null,"Arazi Kiralaması Giderleri","06.5.6.06"]
[null,"Yüzer Taşıt Kiralaması Giderleri","06.5.6.07"]
[null,"Uçak Kiralaması Giderleri","06.5.6.08"]
[null,"Bilgisayar ve Bilgisayar Sistemleri Kiralaması Giderleri","06.5.6.09"]
[null,"Yüzer Tersane Kiralaması Giderleri","06.5.6.10"]
[null,"Diğer Kiralamalar","06.5.6.90"]
[null,"Müteahhitlik Giderleri","06.5.7"]
[null,"Hizmet Binası","06.5.7.01"]
[null,"Hizmet Tesisleri","06.5.7.02"]
[null,"Lojmanlar","06.5.7.03"]
[null,"Sosyal Tesisler","06.5.7.04"]
[null,"Gemiler","06.5.7.05"]
[null,"Yüzer Tersaneler","06.5.7.06"]
[null,"Yol Yapım Giderleri","06.5.7.07"]
[null,"İçme Suyu Tesisi Yapım Giderleri","06.5.7.08"]
[null,"Kanalizasyon Tesisi Yapım Giderleri","06.5.7.09"]
[null,"Diğerleri","06.5.7.90"]
[null,"Diğer Giderler","06.5.9"]
[null,"Diğer Giderler","06.5.9.01"]
[null,"MENKUL MALLARIN BÜYÜK ONARIM GİDERLERİ","06.6"]
[null,"Müşavir Firma ve Kişilere Ödemeler","06.6.1"]
[null,"Proje Giderleri","06.6.1.01"]
[null,"Müşavirlik Giderleri","06.6.1.02"]
[null,"Kontrol Giderleri","06.6.1.03"]
[null,"Diğer Giderler","06.6.1.90"]
[null,"Malzeme Giderleri","06.6.2"]
[null,"Malzeme Giderleri","06.6.2.01"]
[null,"Taşıma Giderleri","06.6.3"]
[null,"Taşımaya ilişkin Beslenme, Barındırma Giderleri","06.6.3.01"]
[null,"Yolcu Taşıma Giderleri","06.6.3.02"]
[null,"Yük Taşıma Giderleri","06.6.3.03"]
[null,"Diğer Taşıma Giderleri","06.6.3.90"]
[null,"Enerji Giderleri","06.6.4"]
[null,"Yakacak  Alımları","06.6.4.01"]
[null,"Akaryakıt ve Yağ  Alımları","06.6.4.02"]
[null,"Elektrik Alımları","06.6.4.03"]
[null,"Diğer Enerji Alımları","06.6.4.90"]
[null,"Haberleşme Giderleri","06.6.5"]
[null,"Posta ve Telgraf Giderleri","06.6.5.01"]
[null,"Telefon Abonelik ve Kullanım Ücretleri","06.6.5.02"]
[null,"Bilgiye Abonelik Giderleri ","06.6.5.03"]
[null,"Haberleşme Cihazları Ruhsat ve Kullanım Giderleri","06.6.5.04"]
[null,"Uydu Haberleşme Giderleri","06.6.5.05"]
[null,"Hat Kira Giderleri","06.6.5.06"]
[null,"Diğer Haberleşme Giderleri","06.6.5.90"]
[null,"Kiralar","06.6.6"]
[null,"Dayanıklı Mal ve Malzeme Kiralaması Giderleri","06.6.6.01"]
[null,"Taşıt Kiralaması Giderleri","06.6.6.02"]
[null,"İş Makinası Kiralaması Giderleri","06.6.6.03"]
[null,"Canlı Hayvan Kiralaması Giderleri","06.6.6.04"]
[null,"Bina Kiralaması Giderleri","06.6.6.05"]
[null,"Arazi Kiralaması Giderleri","06.6.6.06"]
[null,"Yüzer Taşıt Kiralaması Giderleri","06.6.6.07"]
[null,"Uçak Kiralaması Giderleri","06.6.6.08"]
[null,"Bilgisayar ve Bilgisayar Sistemleri Kiralaması Giderleri","06.6.6.09"]
[null,"Diğer Kiralamalar","06.6.6.90"]
[null,"Müteahhitlik Hizmetleri","06.6.7"]
[null,"Müteahhitlik Hizmetleri","06.6.7.01"]
[null,"Diğer Giderler","06.6.9"]
[null,"Diğer Giderler","06.6.9.01"]
[null,"GAYRİMENKUL BÜYÜK ONARIM GİDERLERİ","06.7"]
[null,"Müşavir Firma ve Kişilere Ödemeler","06.7.1"]
[null,"Proje Giderleri","06.7.1.01"]
[null,"Müşavirlik Giderleri","06.7.1.02"]
[null,"Kontrol Giderleri","06.7.1.03"]
[null,"Diğer Giderler","06.7.1.90"]
[null,"Malzeme Giderleri","06.7.2"]
[null,"İnşaat Malzemesi Giderleri","06.7.2.01"]
[null,"Elektrik Tesisatı Giderleri","06.7.2.02"]
[null,"Sıhhi Tesisat Giderleri","06.7.2.03"]
[null,"Özel Tesisat Giderleri","06.7.2.04"]
[null,"Diğer Giderler","06.7.2.90"]
[null,"Taşıma Giderleri","06.7.3"]
[null,"Taşımaya ilişkin Beslenme, Barındırma Giderleri","06.7.3.01"]
[null,"Yolcu Taşıma Giderleri","06.7.3.02"]
[null,"Yük Taşıma Giderleri","06.7.3.03"]
[null,"Diğer Taşıma Giderleri","06.7.3.90"]
[null,"Enerji Giderleri","06.7.4"]
[null,"Yakacak  Alımları","06.7.4.01"]
[null,"Akaryakıt ve Yağ  Alımları","06.7.4.02"]
[null,"Elektrik Alımları","06.7.4.03"]
[null,"Diğer Enerji Alımları","06.7.4.90"]
[null,"Haberleşme Giderleri","06.7.5"]
[null,"Posta ve Telgraf Giderleri","06.7.5.01"]
[null,"Telefon Abonelik ve Kullanım Ücretleri","06.7.5.02"]
[null,"Bilgiye Abonelik Giderleri   ","06.7.5.03"]
[null,"Haberleşme Cihazları Ruhsat ve Kullanım Giderleri","06.7.5.04"]
[null,"Uydu Haberleşme Giderleri","06.7.5.05"]
[null,"Hat Kira Giderleri","06.7.5.06"]
[null,"Diğer Haberleşme Giderleri","06.7.5.90"]
[null,"Kiralar","06.7.6"]
[null,"Dayanıklı Mal ve Malzeme Kiralaması Giderleri","06.7.6.01"]
[null,"Taşıt Kiralaması Giderleri","06.7.6.02"]
[null,"İş Makinası Kiralaması Giderleri","06.7.6.03"]
[null,"Canlı Hayvan Kiralaması Giderleri","06.7.6.04"]
[null,"Bina Kiralaması Giderleri","06.7.6.05"]
[null,"Arazi Kiralaması Giderleri","06.7.6.06"]
[null,"Yüzer Taşıt Kiralaması Giderleri","06.7.6.07"]
[null,"Hava Taşıtı Kiralaması Giderleri","06.7.6.08"]
[null,"Bilgisayar, Bilgisayar Sistemleri ve Yazılımları Kiralaması Giderleri","06.7.6.09"]
[null,"Tersane Kiralaması Giderleri","06.7.6.10"]
[null,"Diğer Kiralamalar","06.7.6.90"]
[null,"Müteahhitlik Giderleri","06.7.7"]
[null,"Hizmet Binası","06.7.7.01"]
[null,"Hizmet Tesisleri","06.7.7.02"]
[null,"Lojmanlar","06.7.7.03"]
[null,"Sosyal Tesisler","06.7.7.04"]
[null,"Gemiler","06.7.7.05"]
[null,"Yüzer Tersaneler","06.7.7.06"]
[null,"Diğerleri","06.7.7.90"]
[null,"Diğer Giderler","06.7.9"]
[null,"Diğer Giderler","06.7.9.01"]
[null,"STOK ALIMLARI ","06.8"]
[null,"Stratejik ve Acil Durum Malzemesi","06.8.1"]
[null,"Stratejik ve Acil Durum Malzemesi","06.8.1.01"]
[null,"Tarımsal Ürünler","06.8.2"]
[null,"Buğday Alımları","06.8.2.01"]
[null,"Diğer","06.8.2.90"]
[null,"Sanayi Ürünleri Alımları","06.8.3"]
[null,"Tekstil Ürünleri Alımları","06.8.3.01"]
[null,"Diğer Ürünler Alımları","06.8.3.90"]
[null,"Hammadde Alımları","06.8.4"]
[null,"Hammadde Alımları","06.8.4.01"]
[null,"Diğer Alımlar","06.8.9"]
[null,"Diğer Alımlar","06.8.9.01"]
[null,"DİĞER SERMAYE GİDERLERİ","06.9"]
[null,"Gizli Hizmet Giderleri","06.9.1"]
[null,"Gizli Hizmet Giderleri","06.9.1.01"]
[null,"Yolluk Giderleri","06.9.2"]
[null,"Yurtiçi Geçici Görev Yollukları","06.9.2.01"]
[null,"Yurtdışı Geçici Görev Yollukları","06.9.2.03"]
[null,"Yolluk Tazminatları","06.9.2.05"]
[null,"Arazi Tazminatları","06.9.2.06"]
[null,"Diğer Sermaye Giderleri","06.9.9"]
[null,"Diğer Sermaye Giderleri","06.9.01"]

{"sheet":"Tük.Yön Mal ve Malzemeler","index":15,"n_rows":106,"n_cols":2,"rows_kept":106,"cut":false,"hidden":false,"merged":[]}
[null,"                  03.2 TÜKETİME YÖNELİK MAL VE MALZEME ALIMLARI "]
[null,"Üretim sürecinde kullanılmadan doğrudan tüketime yönelik olarak kullanılan nihai mal ve hizmetler üçüncü ve dördüncü düzeyde özelliklerine göre sınıflandırmaya tabi tutulmuş olup, buna göre ilgili kodlara gider kaydedileceklerdir."]
[null,"03.2.1   Kırtasiye ve Büro Malzemesi  Alımları "]
[null,"Hizmetin gerektirdiği kırtasiye, basılı kağıt, defter ve benzeri mal ve malzemelerin alım bedelleri ile büro ihtiyaçlarına ilişkin  her çeşit tüketim malzemesi alımları, basılı kağıt ve defter alım ve yapımı ile bunlara ilişkin diğer giderler bu bölümde yer alacaktır."]
[null,"03.2.1.01   Kırtasiye Alımları : Hizmetin gerektirdiği kalem, silgi, zımba teli, toplu iğne, ataç, disket, cd, toner, mürekkep, klasör, dosya, basılı kağıt, defter gibi kırtasiye malzemesi ile benzeri mal ve malzemelerin alım bedelleri."]
[null,"03.2.1.02  Büro Malzemesi Alımları : Doğrudan tüketime yönelik olmayıp kullanım ömürleri bir yıldan fazla olsa bile bedeli bütçe kanunlarıyla tespit edilecek tutarı geçmeyen büro ihtiyaçlarına ilişkin cetvel, makas, kalem açacağı, delgeç, zımba gibi her çeşit el aparatı."]
[null,"03.2.1.03   Periyodik Yayın Alımları : Hizmetin gerektirdiği durumlarda alınacak gazete, resmi gazete, dergi, bülten gibi belirli sürelerde basılan yapılan yayınlar (cd, vcd, dvd gibi sayısal ortamda yapılan baskılar dahil) bu bölüme gider kaydedilecektir."]
[null,"Kamu İhale Kurumuna ödenecek olan kamu ihale bülteni bedelleri burada yer alacaktır. Ancak ihale yayın bedelleri 03.5.4.01 koduna gider kaydedilecektir."]
[null,"03.2.1.04  Diğer Yayın Alımları : Periyodik yayın alımlarının dışında kalan diğer bir ifadeyle belirli sürelerle bağlı kalmaksızın yayınlanan (sayısal ortamda yapılan baskılar dahil) kitap, ansiklopedi, broşür gibi yayın alımları."]
[null,"03.2.1.05   Baskı ve Cilt Giderleri : Basılı olarak alınacak yayınlar dışında kalan ve hizmetin gerektirdiği durumlarda yapılacak (gazete, dergi, bülten, kitap, broşür, afiş, gibi) süreli veya süresiz yayınların basımı (sayısal ortamda yapılan baskılar dahil) ile bunların veya daire ve idarelerce kullanılan her çeşit evrakın ciltlenmesine ilişkin giderler."]
[null,"03.2.1.90   Diğer Kırtasiye ve Büro Malzemesi Alımları : Yukarıda sayılanlar dışında kalan kırtasiye ve büro malzemesi alımları."]
[null,"03.2.2         Su ve Temizlik Malzemesi Alımları "]
[null,"03.2.2.01   Su Alımları : Belediyelerden, diğer kamu kurumlarından veya piyasadan temin edilen, içecek amaçlı olmayıp, kullanmaya yönelik olan su tüketim bedelleri ile ilgili mevzuatına göre abone olunması gerektiği durumlarda ödenecek abone bedelleri bu bölüme gider kaydedilecektir."]
[null,"Ancak, ambalajlanmış veya ambalajlanmamış olarak içme amaçlı alınan su bedelleri ise 03.2.4.02  İçecek Alımları koduna, su sayacı, musluk, batarya vb. malzeme veya teçhizatın alım giderleri bu bölüme değil niteliğine göre ilgili bölümlerine gider kaydedilecektir. "]
[null,"03.2.2.02   Temizlik Malzemesi Alımları : Sabun, deterjan ve temizlikte kullanılan kimyevi maddeler ile bu amaçlarla kullanılmak üzere alınan (diş macunu, diş fırçası, kova, fırça, paspas gibi) her türlü temizlik madde ve malzeme alım bedelleri."]
[null,"03.2.3         Enerji Alımları"]
[null,"03.2.3.01   Yakacak Alımları : Odun, çıra, kömür, kalorifer yakıtı, doğalgaz, tüp gaz gibi ısıtma ve pişirmeyle ilgili her türlü madde, malzeme ve yakıtların tüketim bedelleri ile ilgili mevzuatına göre abone olunması gerektiği durumlarda ödenecek abone bedelleri."]
[null,"03.2.3.02   Akaryakıt ve Yağ Alımları : Özellikle taşıtlar olmak üzere, her çeşit makine-teçhizatın işletmesine yönelik olarak kullanılan akaryakıtlar, madeni yağlar, antifriz, benzeri tüketim malları ve kimyevi madde alımları."]
[null,"03.2.3.03   Elektrik Alımları : Hangi amaçla olursa olsun (aydınlatma, ısıtma, soğutma, havalandırma, çalıştırıcı kuvvet vb.) elektrik tüketim bedelleri ile ilgili mevzuatına göre abone olunması gerektiği durumlarda ödenecek abone bedelleri bu bölüme gider kaydedilecektir."]
[null,"Ancak, elektrik sayacı, ampul, kablo vb. elektrik malzemesi veya teçhizatın alım giderleri bu bölüme değil niteliğine göre ilgili bölümlerine gider kaydedilecektir."]
[null,"03.2.3.90  Diğer Enerji Alımları : Yukarıda sayılanlar dışında kalan, jeotermal enerji, nükleer enerji gibi diğer enerji tüketim bedelleri ile ilgili mevzuatına göre abone olunması gerektiği durumlarda ödenecek abone bedelleri."]
[null,"03.2.4            Yiyecek, İçecek ve Yem Alımları "]
[null,"03.2.4.01          Yiyecek Alımları (Bedelen İaşe Dahil) : "]
[null,"-    Kanunla tespit edilen hakediş maddeleri ile bunların mübadelesine tabi tutulan ikmal maddeleri  bedelleri ile besin ürünleri ve beslenmeyle ilgili her türlü ikmal maddesi giderleri,"]
[null,"-    Yiyecek alım giderleri, (nakliye, depolama, pişirme, dağıtım giderleri ilgili tertibine gider kaydedilecektir.) "]
[null,"-    Hastanelerde (araştırma ve eğitim hastaneleri dahil),  yatılı okullarda,  askeri birliklerde ve Sosyal Hizmetler ve Çocuk Esirgeme Kurumuna bağlı sosyal hizmet kuruluşlarında ve Vakıflar Genel Müdürlüğüne bağlı imaretlerde yemeğe ilişkin yiyecek maddelerinin; "]
[null,"a)      pişirme,"]
[null,"b)      dağıtım ve "]
[null,"c)      servis "]
[null,"gibi ihtiyaçlardan tamamı veya bir kısmı ile birlikte ihale suretiyle teminine ilişkin giderler,"]
[null,"-    Türk Silahlı Kuvvetlerinde, kazandan iaşesi mümkün olmayan er, erbaş, hemşire, ebe, hastabakıcı ile sonunda muayene kaydıyla üç aya kadar (üç ay dahil) dinlenme ve hava değişimi alan er ve erbaşın, askeri öğrencilerin iaşe bedelleri; hava değişimli er ve erbaşın muayeneye sevki gerektiğinde tekrar memleketlerine gönderilmesi halinde geçecek günler için verilecek yiyecek istihkakları; celp ve terhis er ve erbaşının iaşe ve ibate bedelleri (657 sayılı Devlet Memurları Kanununun 212 nci maddesi gereğince çıkarılan yönetmelik hükümleri saklıdır)."]
[null,"03.2.4.02  İçecek Alımları : Ambalajlanmış veya ambalajlanmamış olarak içme amaçlı alınan su bedelleri ile içecek amaçlı tüketilen meyve suyu, ayran, kola, süttozu gibi içecekler ve su temizleme tableti, tuz tableti gibi aynı amaca yönelik yardımcı maddeler bu bölüme gider kaydedilecektir."]
[null,"Ancak, şehir şebekesinden gelen ve hizmet yerlerindeki musluklardan kullanılan sular kısmen içme amaçlı kullanılıyor olsa da genellikle ve ağırlıklı olarak temizlik veya diğer amaçlarla kullanıldığı kabul edilerek temizlik giderlerinin altında yer alan 03.2.2.01 su alımları koduna gider kaydedilecektir."]
[null,"03.2.4.03   Yem Alımları : Hayvanların beslenmesine yönelik olarak alınan mal ve madde bedelleri."]
[null,"03.2.4.90   Diğer Yiyecek, İçecek ve Yem Alımları : Yukarıda sayılan gruplara girmeyen yiyecek, içecek ve yem alımları bu bölüme gider kaydedilecektir."]
[null,"03.2.5        Giyim ve Kuşam Alımları "]
[null,"03.2.5.01   Giyecek Alımları (Kişisel kuşam ve donanım dahil): İlgili mevzuatı gereğince;"]
[null,"-    Kişilerin giyim ve kuşam alımları ile bunların yapımında kullanılan hammadde alımları,"]
[null,"-    Kuruluşların bünyesinde bulunan mehter, bando ve boru takımları ve benzeri teşkillerin özel giyim-kuşamları ile bunlar için gerekli mal ve malzeme alımları,"]
[null,"-    Sağlığı bozucu ve aynı zamanda zehirleyici olduğu doktor raporu  ile belirlenen ve ilgili mevzuatınca sermaye giderleri kapsamı dışındaki işlerden kabul edilen görevlerde bilfiil çalışanlara verilecek giyecek ve koruyucu malzemeler,"]
[null,"için yapılan ödemeler bu bölüme gider kaydedilecektir."]
[null,"03.2.5.02   Spor Malzemeleri Alımları : Spor yaparken kullanılan giyim eşyaları ile (forma, şort, t-shirt, eşofman, ayakkabı gibi) bir sporun yapılmasında gerekli veya yardımcı olan her türlü (top, raket, güreş minderi, skor tabelası, tenis masası, ok, hedef tahtası gibi) mal ve malzeme alımları bu bölüme gider kaydedilecektir."]
[null,"03.2.5.03   Tören Malzemeleri Alımları : Sadece törenlerde kullanılan özel giysiler ile yine törenlerde kullanılan mal ve malzeme alımları."]
[null,"03.2.5.04   Bando Malzemeleri Alımları : Kuruluşların bünyesinde bulunan mehter, bando ve boru takımları ve benzeri teşkillerin kullandıkları müzik alet ve edavatı ile bu müzik aletlerine ait mal ve malzeme alımları."]
[null,"03.2.5.05  Kuşam Alımları (Sadece Hayvan Kuşamları) : İlgili mevzuatı gereğince; hayvanların kuşam alımları ile bu kuşamlarda kullanılan mal ve malzeme alımları."]
[null,"03.2.5.90 Diğer Giyim ve Kuşam Alımları : Yukarıda sayılan gruplara girmeyen giyim ve kuşam alımları ile kişilerin giyim ve kuşamlarına ilişkin mal ve malzeme (düğme, fermuar gibi) alımları bu bölüme gider kaydedilecektir."]
[null,"03.2.6         Özel Malzeme Alımları"]
[null,"03.2.6.01  Laboratuvar Malzemesi ile Kimyevi ve Temrinlik Malzeme Alımları : Laboratuvarlarda kullanılan sarf malzemeleri, deney tüpleri, kimyevi ve temrinlik malzeme alımları."]
[null,"03.2.6.02  Tıbbi Malzeme ve İlaç Alımları : Kamu personeli ve bakmakla yükümlü oldukları kişilerin tedavileri için reçete karşılığında eczanelerden alınan ve 03.9.2.01- Kamu Personeli İlaç Giderleri bölümüne gider kaydedilecek olanlar hariç olmak üzere, kurumların doktorluk, dispanser, revir gibi birimleri ile hastaneler ve diğer sağlık kuruluşlarında veya hizmet yerlerinde (ecza dolapları dahil) kullanılmak üzere toptan veya perakende olarak alınan ilaç, hammadde ve tıbbi malzeme bedelleri ile haşereyle mücadelede kullanılacak ilaç ve kimyevi maddeler bu bölüme gider kaydedilecektir."]
[null,"03.2.6.03  Zirai Malzeme ve İlaç Alımları : Zirai amaçlı olarak kullanılacak olan malzemeler ile zararlılara karşı zirai mücadelede kullanılacak ilaç ve malzeme alımları."]
[null,"03.2.6.04    Canlı Hayvan Alım, Bakım ve Diğer Giderleri :"]
[null,"- Hayvanlara ilişkin yiyecek ve yem alımları dışında kalan ve her cins ve her çeşit hayvan alım, koruma, bakım, kurtarma ve dağıtımı ile bunlara ilişkin ilaç ve tedavi gibi diğer giderler,"]
[null,"- Özel ve tüzel kişilere ait hayvanların her çeşit tazmin ve taviz bedelleri; hizmette kullanılan hayvanların özel ve tüzel kişilere karşı işleyecekleri zararlar karşılığı verilecek tazminatlar, hayvanları yok etme, gömme giderleri ile bunlara ilişkin diğer giderler."]
[null,"03.2.6.90   Diğer Özel Malzeme Alımları : Yukarıda sayılan gruplara girmeyen ve hizmetin özelliği nedeniyle ekonomik sınıflandırmanın diğer bölümlerinden alınamayan (bayrak, flama, sancak, çadır, soğuk iklim malzemeleri ile kamu personeli olsun veya olmasın kişi veya kurumlara verilen plaket şilt, kupa altın gibi para dışındaki ödüller ile teşekkür belgeleri gibi) özel malzeme alımları"]
[null,"03.2.7   Güvenlik ve Savunmaya Yönelik Mal, Malzeme ve Hizmet Alımları, Yapımları ve Giderleri : "]
[null,"Güvenlik ve savunmaya yönelik mal, malzeme ve hizmet alımları ile aynı amaçlı yapım ve bakım giderleri parasal limite bakılmaksızın bu bölümde toplanmıştır. Bu amaçlara yönelik olarak inşa edilen ve yatırım programına dahil olmayan her türlü gayrimenkulün ister ihale edilmek suretiyle isterse mal ve malzeme alımı ve kurumun imkanlarından da yararlanmak suretiyle yapımına veya büyük onarımlarına ilişkin giderler de bu bölüme kaydedilecektir. "]
[null,"Bu bölümdeki giderler doğrudan bu amaçlara yönelmiş olmalıdır. Bunun dışında kalanların, ilgisine göre mal ve hizmet alımları veya sermayenin ilgili bölümlerine dahil edilmesi gerekmektedir."]
[null,"03.2.7.01  Güvenlik ve Savunmaya Yönelik Silah, Araç, Gereç ve Savaş Teçhizatı Alımları : "]
[null,"-    Güvenlik ve savunmaya yönelik silahlar, savaş araç ve gereçleri, savaş, haberleşme ve bilgi işlem teçhizatı alımları ile bu nitelikteki savaş stokları alım, yapım giderleri,"]
[null,"-    Silahlı Kuvvetlerin topyekün savaş gücünün gereken düzeye çıkartılmasını ve devamını sağlamak maksadıyla gerekli her türlü harp ve destek tesislerini (elektronik radar, muhabere, radyolink sistemleri dahil) kurma, genişletme ve bunlara ilişkin her türlü taşınır ve taşınmaz (silah, gemi, uçak, helikopter, tank, zırhlı personel taşıyıcıları, taktik araç gibi) harp silah, araç ve gereçleri ile bu maksadı destekleyecek malların alım, yapım giderleri,"]
[null,"-    Tahkimatla ilgili engelleme, barınaklar, tahkimat tesisleri ve cephaneliklerin yapımları ile bunlara ait paratoner vb. malzeme alım giderleri, "]
[null,"-    Seyir, hidrografi, oşinografi, cihaz, malzeme ve teçhizatı alım ve yapım giderleri,"]
[null,"- Silahlı Kuvvetlerin eğitim alanlarının oluşturulması (bina inşaatı işleri hariç), eğitim yardımcı malzemeleri ile her türlü silahlarla, yapacakları atışlarda kullanılacak levha ve hedeflerin alım giderleri ve yapımı ile ilgili diğer giderler,"]
[null,"bu bölüme gider kaydedilecektir."]
[null,"03.2.7.02   Güvenlik ve Savunmaya Yönelik Silah, Araç, Gereç ve Savaş Teçhizatı İşletme, Bakım ve İdame Giderleri : "]
[null,"-    Güvenlik ve savunmaya yönelik her türlü silah, araç, gereç, ve savaş teçhizatı (gemi, uçak, helikopter, tank, zırhlı personel taşıyıcıları) ile bu maksadı destekleyecek malların, tadil ve her çeşit tamir ve bakım ve yedek parça giderleri ile bunların işletmesine ait giderler,"]
[null,"-    Uçaklarla ilgili malzeme yapımı, uçak motor revizyonu, uçakların fabrika seviyesi bakımları, seyir, hidrografi, oşinografi, cihaz, malzeme ve teçhizatın, tanzim, tersim, teksir ve tabı ile korunmalarının gerektirdiği giderler,"]
[null,"-    Silahlı Kuvvetlerin eğitim yardımcı malzemeleri ile her türlü silahlarla, yapacakları atışlarda kullanılacak levha ve hedeflerin, bakım, onarım malzemesi ve atış alanlarının onarımı ilgili giderler,"]
[null,"bu bölüme gider kaydedilecektir."]
[null,"03.2.7.03  Mühimmat Alımları : Güvenlik ve savunmaya yönelik her türlü silah, araç, gereç, ve savaş teçhizatında kullanılan mühimmat alımları bu bölüme gider kaydedilecektir."]
[null,"03.2.7.04   Güvenlik ve Savunmaya Yönelik Araştırma-Geliştirme Giderleri : Güvenlik ve savunmaya yönelik olup, yatırım programında yer almayacak olan ve doğrudan kurum tarafından yapılan araştırma-geliştirme faaliyetlerinde bu iş ve hizmetlerde çalışsa dahi kurum personeli olanlara ödenen maaş ve benzeri ödemeler dışında kalan ve doğrudan ve münhasıran projeye ilişkin olarak yapılması gereken giderler ile sözkonusu faaliyetlerin üçüncü şahıslara ihale edilmek suretiyle gördürülmesi halinde müteahhide ödenen hakediş bedelleri bu bölüme gider kaydedilecektir."]
[null,"03.2.7.05  Güvenlik ve Savunmaya Yönelik Hizmet Alım Giderleri : Güvenlik ve savunmaya yönelik her türlü silah, teçhizat, malzeme, araç, gereç, mühimmat, bakım-onarım, alt yapı ve inşaatla ilgili muhtelif mühendislik hizmetleri, çizim, bilgisayar yazılımı gibi hizmet alımlarının gerektirdiği giderler bu bölüme gider kaydedilecektir."]
[null,"03.2.7.06  Savunma Projeleri ve Acil İhtiyaç Giderleri : Türk Silahlı Kuvvetlerinin Savunma Sanayii Müsteşarlığı kanalıyla veya Devlet/Firma kredileriyle tedarik ettiği mali boyutu yüksek projeler ile acil ihtiyaçların gerektirdiği ödemeler bu bölüme gider kaydedilecektir."]
[null,"03.2.7.09  Güvenlik ve Savunmaya Yönelik Diğer Giderler : Manevra ve tatbikat ve bunlarla ilgili eğitim giderleri, uluslar arası anlaşmalar ve Bakanlar Kurulu kararı gereğince yurt dışında bulunan Türk Silahlı Kuvvetleri birliklerinin her türlü mal ve hizmet alımlarına ait giderler, NAMSA Silah/ Sistem Programları İdari Katkı ve ayrıca faturalandırılamayan taşıma-depolama dahil diğer masraflara ait giderler ile diğer bölümlere dahil edilemeyen güvenlik ve savunma hizmetlerinin gerçekleştirilmesine ilişkin diğer giderler bu bölüme gider kaydedilecektir."]
[null,"03.2.7.11  Güvenlik ve Savunmaya Yönelik Makine-Teçhizat Alımları : Güvenlik ve savunmaya yönelik olarak kullanılacak olan (jeneratör, iş makinesi, taktik araçlar, telli ve telsiz haberleşme sistem ve cihazları, kripto cihazı, uydu yer terminali, radar, termal kamera, mayın temizleme cihazları, gece görüş yeteneği teçhizatı, sağlık cihazları, bilgisayar sistemi, bilgisayar ve yazıcıları alımları gibi) makine-teçhizat alım giderleri ile öğretim ve araştırma kurumlarıyla hastane, laboratuvar, matbaa, atölye, gibi iş ve hizmet yerlerinin ve ulaştırma, haberleşme ile ilgili kuruluşların teknik bakımdan teçhizi için gerekli makine, alet, cihaz ve bunlar gibi sabit tesis giderleri bu bölüme gider kaydedilecektir."]
[null,"03.2.7.12  Güvenlik ve Savunmaya Yönelik Makine-Teçhizat Büyük Onarımları : Güvenlik ve savunmaya yönelik olarak kullanılacak olan ve 03.2.7.11 ekonomik kodunda yer alan makine-teçhizat onarımları ile bu işler için kullanılacak yedek parçalar, bunların modifikasyon ve yenileştirmeleri ile faal durumda bulundurulmaları için yapılacak yıllık/yıllara sari bakım-onarım sözleşmeleri kapsamında yapılacak giderler ile bu bölüme gider kaydedilecektir."]
[null,"03.2.7.21   Güvenlik ve Savunmaya Yönelik Gayrimenkul Yapım Giderleri : Güvenlik ve savunmaya yönelik olarak inşa edilecek;"]
[null,"-    Birlik binası, erin iaşe ve ibatesinin sağlanmasına yönelik tesisler, (koğuş, jandarma karakolu, nizamiye, çevre duvarı vb.),"]
[null,"-    Harekat alarm iskan tesisleri, lojistik destek tesisleri, eğitim ve tatbikat tesisleri,"]
[null,"-    Altyapı tesisleri,"]
[null,"-    Her türlü silah, araç-gereç ve teçhizat ile mal ve malzemenin konulabileceği mahaller (cephanelik, yiyecek deposu, giyecek deposu vb.),"]
[null,"-    Bu ekonomik kodda sayılanların mütemmim cüzleri vb."]
[null,"yatırım programına dahil olmayacak gayrimenkullerin ister üçüncü şahıslara ihale edilmek, isterse mal ve malzeme alımı ve kurumun imkanlarından da faydalanmak suretiyle yapımı durumundaki tüm giderler bu bölüme gider kaydedilecektir."]
[null,"03.2.7.22  Güvenlik ve Savunmaya Yönelik Gayrimenkul Büyük Onarım Giderleri : Güvenlik ve savunmaya yönelik olarak inşa edilmiş olan ve 03.2.7.21 ekonomik kodunda yer alan ve yatırım programına dahil olmayan gayrimenkullerin ister üçüncü şahıslara ihale edilmek, isterse mal ve malzeme alımı ve kurumun imkanlarından da faydalanmak suretiyle büyük onarımlarının yapılması durumunda bu ödemeler bu bölüme gider kaydedilecektir."]
[null,"03.2.7.31   NATO Altyapısına İlişkin Gayrimenkul Yapım Giderleri : NATO altyapısına yönelik olarak inşa edilen ve yatırım programına dahil olmayan her türlü gayrimenkulün ister üçüncü şahıslara ihale edilmek, isterse mal ve malzeme alımı ve kurumun imkanlarından da faydalanmak suretiyle inşaası durumunda bu ödemeler bu bölüme gider kaydedilecektir."]
[null,"03.2.7.32   NATO Altyapısına İlişkin Gayrimenkul Büyük Onarım Giderleri : NATO altyapısına yönelik olarak inşa edilen, 03.2.7.31 ekonomik kodunda yer alan ve yatırım programına dahil olmayan her türlü gayrimenkulün ister üçüncü şahıslara ihale edilmek, isterse mal ve malzeme alımı ve kurumun imkanlarından da faydalanmak suretiyle büyük onarımlarının yapılması durumunda bu ödemeler bu bölüme gider kaydedilecektir."]
[null,"03.2.7.90   Diğer Savunma Mal ve  Malzeme Alımları ve Yapımları : Savunma ve güvenlik amaçlı olup, yatırım programına dahil olmadığı gibi yukarıdaki bölümlere de dahil olmayan mal ve malzeme alımları ile yapım giderleri (Silahlı Kuvvetler ve Emniyet Genel Müdürlüğü dışında kalanların kurumsal güvenliğe yönelik kullanacakları silah, mermi, kelepçe, cop, vb. mal ve malzeme alımları ile bunların bakım-onarımları dahil) bu bölüme kaydedilecektir."]
[null,"03.2.8   NATO Giderleri İle Gayrimenkul Alım ve Kamulaştırma Giderleri :"]
[null,"NATO anlaşması çerçevesinde yürütülen faaliyetlerin sonucu oluşan giderler ile savunma ve güvenlik amaçlı olan ve Devlet Planlama Teşkilatı vizesine dahil olmayan gayrimenkul alım ve kamulaştırmasına ilişkin giderler bu bölüme gider kaydedilecek olup, IV. düzeyde aşağıdaki detaylar yer alacaktır."]
[null,"03.2.8.01  Gayrimenkul Alım ve Kamulaştırma Giderleri : Güvenlik ve savunmaya yönelik amaçlı olan ve Devlet Planlama Teşkilatı vizesine dahil olmayacak, arsa, arazi gibi gayrimenkulün alım ve kamulaştırmasına ilişkin aşağıda belirtilen giderler 06.4 ekonomik kodunda değil bu bölümde sınıflandırılacaktır."]
[null,"-    Arazi, arsa, bina, fabrika, gemi, tersane ve benzeri taşınmaz malların kamulaştırılması veya satın alınması için yapılacak ödemeler,"]
[null,"-    Üzerinde Medeni Kanun ile diğer hükümlere göre ayni haklar tesisi için ödenecek bedeller,"]
[null,"-    Kamulaştırma, satın alma, ayni hak tesisi işlemlerine ilişkin giderler ile geçici işgalin gerektirdiği giderler,"]
[null,"- Teferruğ ve vergi borçlarının tasfiyesi ve mahsubu amacıyla borçlu her çeşit tüzel kişilerden taraflarca mutabık kalınacak bedeli üzerinden Hazineye intikal edecek taşınmaz mal bedelleri ve ayni hakların tesisi ve bunlara ilişkin giderler,"]
[null,"-  Hazinenin paydaş olduğu veya çeşitli kanunlar uyarınca Hazinece idare edilmekte olan taşınmaz mallarla ilgili paydaşlığın giderilmesi işlem ve satışlarında kullanılmak üzere yapılacak giderler."]
[null,"03.2.8.02  NATO Altyapısına İlişkin Gayrimenkul Alım ve Kamulaştırma Giderleri : NATO altyapısına yönelik olan ve Devlet Planlama Teşkilatı vizesine dahil olmayan arsa, arazi gibi gayrimenkulün alım ve kamulaştırmasına ilişkin olarak yapılması gereken ve detayları 03.2.8.01 bölümünde belirtilen türden giderler 06.4 ekonomik kodunda değil bu bölümde sınıflandırılacaktır."]
[null,"03.2.8.03   NATO Giderleri : "]
[null,"-    NATO teşkilatları nezdindeki askeri temsilcilik, müşavirlik, ataşelik ve kıdemli subaylık gibi Türk teşkilatı tarafından NATO’nun icabı olarak yapılan her çeşit mal ve hizmet alımları ile temsil giderleri,"]
[null,"-    Amerikan Yardım Kurulu (ODS) karargah personeli ile bu personelden yurdun çeşitli bölgelerinde görevlendirilenler için bina kira bedeli, aydınlatma, ısıtma, döşeme, demirbaş ve diğer giderleri ile resmi telefon konuşma bedelleri ve diğer ulaştırma giderleri,"]
[null,"-     10.3.1954 tarih ve 6375 sayılı Kanunla onaylanan sözleşmeye göre ödenmesi gereken tazminatlar,"]
[null,"-  NATO makamlarının istemi üzerine ifa edilen geçici görev yollukları,"]
[null,"-    NATO askeri personelinin tatbikatlar dahil Türkiye’yi ziyaretlerinde makam sahibinin takdiri esas olmak suretiyle temsil hizmetinin gerektirdiği her çeşit giderler,"]
[null,"-    Türkiye’deki NATO teşkillerinde görevli komutanlar ile Kurmaybaşkanlarının kişisel ikametine mahsus möbleli olarak kiralanan binanın kira bedeli."]
[null,"03.2.9         Diğer Tüketim Mal ve Malzemesi Alımları "]
[null,"03.2.9.01   Bahçe Malzemesi Alımları ile Yapım ve Bakım Giderleri : Bahçe yapım ve bakımı ile ilgili olarak kullanılan kürek, makas, tırmık, ilaçlama pompası, fide, fidan, tohum, gübre gibi mal ve malzeme alımları ile bahçe yapım ve bakımı için ihale suretiyle üçüncü şahıslara yapılan ödemeler."]
[null,"03.2.9.90  Diğer Tüketim Mal ve Malzemesi Alımları : Yukarıda sayılan gruplara girmeyen tüketim mal ve malzemesi (ampul, kablo, fiş, duy, priz, kapı kolu, teleks bobini, teleks şeridi, ambalaj malzemesi, lehim, lehim pastası vb.) alımları."]

{"sheet":"Taşınır kod.özet","index":16,"n_rows":231,"n_cols":9,"rows_kept":231,"cut":false,"hidden":false,"merged":[[0,1,0,6],[1,8,1,9]]}
[null," TAŞINIR KOD LİSTESİ ( 2. DÜZEY )\n17/04/2014 TARİHİ İTİBARIYLA GÜNCEL "]
[null,"Hesap Kodu","1. \nDüzey Kodu","2. \nDüzey Kodu","3.\nDüzey Kodu","4. \nDüzey Kodu","GENEL BÜTÇE ÖZET HESAP PLANI",null,"TAŞINIR KOD LİSTESİ ( 4. DÜZEY )"]
[null,150,null,null,null,null,"İLK MADDE VE MALZEME  HESABI",null,{"$f":"IF(ISTEXT(G4),CONCATENATE(B3,\" \",C3,\" \",D3,\" \",E3,\" \",F3,\" = \",G3),\"\")","v":"150     = İLK MADDE VE MALZEME  HESABI"}]
[null,150,1,null,null,null,"Kırtasiye Malzemeleri ",null,"150 1    = Kırtasiye Malzemeleri "]
[null,150,1,1,null,null,"Yazı Araçları",null,"150 1 1   = Yazı Araçları"]
[null,150,1,2,null,null,"Yazım, Çizim ve Ölçüm Araç ve Malzemeleri",null,"150 1 2   = Yazım, Çizim ve Ölçüm Araç ve Malzemeleri"]
[null,150,1,3,null,null,"Kağıt Ürünler",null,"150 1 3   = Kağıt Ürünler"]
[null,150,1,4,null,null,"Yazıcı, Faksimile Cihazı ve Fotokopi Malzemeleri",null,"150 1 4   = Yazıcı, Faksimile Cihazı ve Fotokopi Malzemeleri"]
[null,150,1,5,null,null,"Kağıt Tutturucular, Tutkallar ve Bantlar",null,"150 1 5   = Kağıt Tutturucular, Tutkallar ve Bantlar"]
[null,150,1,6,null,null,"Yazı Düzelticiler",null,"150 1 6   = Yazı Düzelticiler"]
[null,150,1,7,null,null,"Küçük Kırtasiye Gereç ve Malzemeleri"]
[null,150,1,8,null,null,"Bilişim Malzemeleri"]
[null,150,2,null,null,null,"Beslenme, Gıda Amaçlı ve Mutfakta Kullanılan Tüketim Malzemeleri "]
[null,150,2,1,null,null,"Tek Kullanımlık Mutfak Eşyaları"]
[null,150,2,2,null,null,"Servis ve Saklama Kapları"]
[null,150,2,3,null,null,"Sofra Takımı ve Çatal Bıçak Takımı"]
[null,150,2,4,null,null,"İçecek Servis Takımları"]
[null,150,2,5,null,null,"Mutfak Araç ve Gereçleri"]
[null,150,3,null,null,null,"Tıbbi ve Laboratuar Sarf Malzemeleri "]
[null,150,3,1,null,null,"İlaçlar ve Farmakolojik Ürünler"]
[null,150,3,2,null,null,"Biyokimyasallar ve Gaz Maddeleri İçeren Kimyasallar"]
[null,150,3,3,null,null,"Medikal Malzemeler"]
[null,150,3,4,null,null,"Laboratuar Malzemeleri"]
[null,150,4,null,null,null,"Yakıtlar, Yakıt Katkıları ve Katkı Yağlar "]
[null,150,4,1,null,null,"Katı Yakıtlar"]
[null,150,4,2,null,null,"Sıvı Yakıtlar"]
[null,150,4,3,null,null,"Gaz Yakıtlar"]
[null,150,4,4,null,null,"Yağlar ve Katkı Yağlar"]
[null,150,4,5,null,null,"Kimyevi Maddeler"]
[null,150,5,null,null,null,"Temizleme Ekipmanları "]
[null,150,5,1,null,null,"Temizlik Malzemeleri"]
[null,150,5,2,null,null,"Temizlik Araç ve Gereçleri"]
[null,150,5,3,null,null,"Temizleme ve Dezenfeksiyon Solisyonları"]
[null,150,6,null,null,null,"Giyecek, Mefruşat ve Tuhafiye Malzemeleri "]
[null,150,6,1,null,null,"Giyecekler"]
[null,150,6,2,null,null,"Mefruşat Ürünleri"]
[null,150,6,3,null,null,"Tuhafiye Malzemeleri"]
[null,150,7,null,null,null,"Yiyecek "]
[null,150,7,1,null,null,"Bakliyat"]
[null,150,7,2,null,null,"Yemeklik Yağlar"]
[null,150,7,3,null,null,"Sebze, Meyve, Yemiş ve Çekirdekler"]
[null,150,7,4,null,null,"Un ve Unlu Gıdalar"]
[null,150,7,5,null,null,"Baharat ve Çeşniler ile Çikolata ve Tatlandırıcılar"]
[null,150,7,6,null,null,"Günlük Tüketilmesi Gereken Ürünler"]
[null,150,7,7,null,null,"Etler ve Et Ürünleri"]
[null,150,7,8,null,null,"Deniz Ürünleri"]
[null,150,8,null,null,null,"İçecek "]
[null,150,8,1,null,null,"Alkolsüz İçecekler"]
[null,150,8,2,null,null,"Alkollü İçecekler"]
[null,150,9,null,null,null,"Canlı Hayvanlar "]
[null,150,9,1,null,null,"Çiftlik Hayvanları"]
[null,150,9,2,null,null,"Hizmet Amaçlı Hayvanlar"]
[null,150,9,3,null,null,"Gösteri Amaçlı Hayvanlar"]
[null,150,9,4,null,null,"Deney Amaçlı Hayvanlar"]
[null,150,9,5,null,null,"Koruma Altına Alınan Hayvanlar"]
[null,150,10,null,null,null,"Zirai Maddeler "]
[null,150,10,1,null,null,"Tohum, Fideler, Filizler,Fidanlar ve Çiçek Tohumları"]
[null,150,10,2,null,null,"Gübre, Bitki Gıdaları ve Bitki İlaçları"]
[null,150,10,3,null,null,"Haşerelere Karşı Mücadele Ürünleri"]
[null,150,10,4,null,null,"Hayvan Yetiştiriciliğinde Kullanılan Maddeler"]
[null,150,10,5,null,null,"Çiçekler"]
[null,150,11,null,null,null,"Yem "]
[null,150,11,1,null,null,"Çiftlik Hayvan Yemleri"]
[null,150,11,2,null,null,"Kuş ve Kümes Hayvan Yemleri"]
[null,150,11,3,null,null,"Balık Yemleri"]
[null,150,11,4,null,null,"Köpek ve Kedi Yemleri"]
[null,150,11,5,null,null,"Kemirgen Hayvan Yemleri"]
[null,150,11,6,null,null,"Sürüngen Yemleri"]
[null,150,11,99,null,null,"Diğer Hayvan Yemleri"]
[null,150,12,null,null,null,"Bakım Onarım ve Üretim Malzemeleri "]
[null,150,12,1,null,null,"Küçük El Aletleri ve Gereçleri"]
[null,150,12,2,null,null,"Tutturucular"]
[null,150,12,3,null,null,"Kaplayıcılar"]
[null,150,12,4,null,null,"Elektrik-Elektronik ve Aydınlatma Malzemeleri"]
[null,150,12,5,null,null,"Ağaç Ürünleri"]
[null,150,12,6,null,null,"Metal Ürünler"]
[null,150,12,7,null,null,"Cam Ürünler"]
[null,150,12,8,null,null,"Plastik Ürünler"]
[null,150,12,9,null,null,"Karayolları ve Trafik Malzemeleri"]
[null,150,12,10,null,null,"Kaynak Malzemeleri"]
[null,150,13,null,null,null,"Yedek Parçalar "]
[null,150,13,1,null,null,"Makineler ve Aletler Grubu Yedek Parçaları"]
[null,150,13,2,null,null,"Cihazlar ve Aletler Grubu Yedek Parçaları"]
[null,150,13,3,null,null,"Taşıtlar Grubu Yedek Parçaları"]
[null,150,13,4,null,null,"Büro Makineleri Grubu Yedek Parçaları"]
[null,150,13,5,null,null,"Su ve Sıhhi Tesisatı Yedek Parçaları"]
[null,150,13,99,null,null,"Diğer Yedek Parçalar"]
[null,150,14,null,null,null,"Nakil Vasıtaları Lastikleri "]
[null,150,14,1,null,null,"Otomobil Lastikleri"]
[null,150,14,2,null,null,"Minibüs, Kamyonet Lastikleri"]
[null,150,14,3,null,null,"Kamyon, Otobüs Lastikleri"]
[null,150,14,4,null,null,"Traktör ve İş Makinesi Lastikleri"]
[null,150,14,5,null,null,"Bisiklet Lastikleri"]
[null,150,15,null,null,null,"Değişim, Bağış ve Satış Amaçlı Yayınlar "]
[null,150,15,1,null,null,"Basılı Yayınlar"]
[null,150,16,null,null,null,"Spor Malzemeleri Grubu"]
[null,150,16,1,null,null,"Doğa Sporlarında Kullanılan Spor Malzemeleri"]
[null,150,16,2,null,null,"Salon Sporlarında Kullanılan Spor Malzemeleri"]
[null,150,16,3,null,null,"Saha Sporlarında Kullanılan Spor Malzemeleri"]
[null,150,16,99,null,null,"Diğer Spor Malzemeleri"]
[null,150,17,null,null,null,"Basınçlı Ekipmanlar"]
[null,150,17,1,null,null,"Pompalar"]
[null,150,99,null,null,null,"Diğer Tüketim Amaçlı Malzemeler"]
[null,150,99,1,null,null,"Hediye Amaçlı Alınan Taşınırlar"]
[null,150,99,2,null,null,"Ödül Amaçlı Alınan Taşınırlar"]
[null,150,99,3,null,null,"Güvenlik, Korunma ve Gösteri Amaçlı Tüketim Malzemeleri"]
[null,150,99,4,null,null,"Eğitim ve Öğretim Amaçlı Kullanılan Madde ve Malzemeler"]
[null,150,99,5,null,null,"Sahne Dekor, Kostüm ve Aksesuarları"]
[null,150,99,6,null,null,"Meteoroloji Bilimi Tüketim Malzemeleri"]
[null,150,99,7,null,null,"Sosyal Yardım Amaçlı Taşınırlar"]
[null,150,99,8,null,null,"Halka Açık Alanlarda Kullanılmak Üzere Edinilen Taşınırlar"]
[null,150,99,98,null,null,"Üretimde Kullanılacak İlk Madde ve Malzemeler"]
[null,253,null,null,null,null,"TESİS, MAKİNE VE CİHAZLAR HESABI"]
[null,253,1,null,null,null,"Tesisler"]
[null,253,2,null,null,null,"Makineler ve Aletler "]
[null,253,2,1,null,null,"Tarım ve Ormancılık Makineleri ve Aletleri"]
[null,253,2,2,null,null,"İnşaat Makineleri ve Aletleri"]
[null,253,2,3,null,null,"Atölye Makineleri ve Aletleri"]
[null,253,2,4,null,null,"İş Makineleri ve Aletleri"]
[null,253,2,5,null,null,"Güç Elektroniği ve Basınçlı Makineler ile Aletleri"]
[null,253,2,6,null,null,"Posta Makineleri"]
[null,253,2,7,null,null,"Paketleme Makineleri"]
[null,253,2,8,null,null,"Etiketleme ve Numaralandırma Makineleri"]
[null,253,2,9,null,null,"Ayırma, Sınıflandırma Makineleri"]
[null,253,2,10,null,null,"Matbaacılıkta Kullanılan Makine ve Aletler"]
[null,253,3,null,null,null,"Cihazlar ve Aletler "]
[null,253,3,1,null,null,"Yıkama, Temizleme ve Ütüleme Cihaz ve Araçları"]
[null,253,3,2,null,null,"Beslenme, Gıda ve Mutfak Cihaz ve Aletleri"]
[null,253,3,3,null,null,"Kurtarma Amaçlı Cihaz ve Aletler"]
[null,253,3,4,null,null,"Ölçüm, Tartı, Çizim Cihazları ve Aletleri"]
[null,253,3,5,null,null,"Tıbbi ve Biyolojik Amaçlı Kullanılan Cihazlar ve Aletler"]
[null,253,3,6,null,null,"Araştırma ve Üretim Amaçlı Cihazlar ve Aletleri"]
[null,253,3,7,null,null,"Müzik Aletleri ve Aksesuarları"]
[null,253,3,8,null,null,"Spor Amaçlı Kullanılan Cihaz ve Aletler"]
[null,254,null,null,null,null,"TAŞITLAR HESABI"]
[null,254,1,null,null,null,"Karayolu Taşıtları "]
[null,254,1,1,null,null,"Otomobiller"]
[null,254,1,2,null,null,"Yolcu Taşıma Araçları"]
[null,254,1,3,null,null,"Yük Taşıma Araçları"]
[null,254,1,4,null,null,"Arazi Taşıtları"]
[null,254,1,5,null,null,"Özel Amaçlı Taşıtlar"]
[null,254,1,6,null,null,"Mopet ve Motosikletler"]
[null,254,1,7,null,null,"Motorsuz Kara Araçları"]
[null,254,2,null,null,null,"Su ve Deniz Taşıtları "]
[null,254,2,1,null,null,"Gemiler"]
[null,254,2,2,null,null,"Tankerler"]
[null,254,2,3,null,null,"Deniz Altılar"]
[null,254,2,4,null,null,"Römorkörler ve İtici Gemiler"]
[null,254,2,5,null,null,"Yüzer Yapılar"]
[null,254,2,6,null,null,"Tekneler"]
[null,254,2,7,null,null,"Botlar"]
[null,254,2,8,null,null,"Yelkenliler"]
[null,254,2,9,null,null,"Kanolar ve Kayıklar"]
[null,254,2,10,null,null,"Yatlar ve Kotralar"]
[null,254,2,11,null,null,"Sandallar ve Sallar"]
[null,254,3,null,null,null,"Hava Taşıtları "]
[null,254,3,1,null,null,"Motorlu Hava Taşıtları"]
[null,254,3,2,null,null,"Motorsuz Hava Taşıtları"]
[null,254,3,3,null,null,"Uzay Araçları"]
[null,254,4,null,null,null,"Demiryolu ve Tramvay Taşıtları "]
[null,254,4,1,null,null,"Lokomotifler ve Elektrikli Troleybüsler"]
[null,254,4,2,null,null,"Demiryolu ve Tramvay Araçları"]
[null,255,null,null,null,null,"DEMİRBAŞLAR HESABI"]
[null,255,1,null,null,null,"Döşeme ve Mefruşat "]
[null,255,1,1,null,null,"Döşeme Demirbaşları"]
[null,255,1,2,null,null,"Temsil ve Tören Demirbaşları"]
[null,255,1,3,null,null,"Koruyucu Giysi ve Malzemeler"]
[null,255,1,4,null,null,"Seyahat, Muhafaza ve Taşıma Amaçlı Demirbaş Niteliğindeki Taşınırlar"]
[null,255,1,5,null,null,"Hastanede Kullanılan Demirbaş Niteliğindeki Taşınırlar"]
[null,255,2,null,null,null,"Büro Makineleri "]
[null,255,2,1,null,null,"Bilgisayarlar ve Sunucular"]
[null,255,2,2,null,null,"Bilgisayar Çevre Birimleri  "]
[null,255,2,3,null,null,"Teksir ve Çoğaltma Makineleri"]
[null,255,2,4,null,null,"Haberleşme Cihazları"]
[null,255,2,5,null,null,"Ses, Görüntü ve Sunum Cihazları"]
[null,255,2,6,null,null,"Aydınlatma Cihazları"]
[null,255,2,99,null,null,"Diğer Büro Makineleri ve Aletleri "]
[null,255,3,null,null,null,"Mobilyalar "]
[null,255,3,1,null,null,"Büro Mobilyaları"]
[null,255,3,2,null,null,"Misafirhane, Konaklama ve Barınma Amaçlı Mobilyalar"]
[null,255,3,3,null,null,"Kafeterya ve Yemekhane Mobilyaları"]
[null,255,3,4,null,null,"Bebek ve Çocuk Mobilyası ve Aksesuarları"]
[null,255,3,5,null,null,"Seminer ve Sunum Amaçlı Ürünler"]
[null,255,4,null,null,null,"Beslenme, Gıda ve Mutfak Demirbaşları "]
[null,255,4,1,null,null,"Yemek Hazırlama Ekipmanları"]
[null,255,5,null,null,null,"Canlı Demirbaşlar "]
[null,255,5,1,null,null,"Çiftlik Hayvanları"]
[null,255,5,2,null,null,"Hizmet Amaçlı Hayvanlar"]
[null,255,5,3,null,null,"Gösteri Amaçlı Hayvanlar"]
[null,255,5,4,null,null,"Koruma Altına Alınan Hayvanlar"]
[null,255,6,null,null,null,"Tarihi veya Sanat Değeri Olan Demirbaşlar "]
[null,255,6,1,null,null,"Etnografik Eserler"]
[null,255,6,2,null,null,"Arkeolojik Eserler"]
[null,255,6,3,null,null,"Geleneksel Türk Süslemeleri"]
[null,255,6,4,null,null,"Güzel Sanat Eserleri"]
[null,255,6,5,null,null,"Kitap, Belge, El Yazmaları ve Nadir Eserler"]
[null,255,6,6,null,null,"Para, Pul, Sikke ve Madalyonlar"]
[null,255,6,7,null,null,"Tabletler"]
[null,255,6,8,null,null,"Mühür ve Mühür Baskıları"]
[null,255,6,9,null,null,"Arşiv Vesikaları"]
[null,255,6,10,null,null,"Fosiller"]
[null,255,7,null,null,null,"Kütüphane Demirbaşları "]
[null,255,7,1,null,null,"Kütüphane Mobilyaları"]
[null,255,7,2,null,null,"Basılı Yayınlar"]
[null,255,7,3,null,null,"Görsel ve İşitsel Kaynaklar"]
[null,255,7,4,null,null,"Bilgi Saklama Üniteleri"]
[null,255,8,null,null,null,"Eğitim Demirbaşları "]
[null,255,8,1,null,null,"Eğitim Mobilyaları ve Donanımları"]
[null,255,8,2,null,null,"Öğrenmeyi Kolaylaştırıcı Ekipmanlar"]
[null,255,8,3,null,null,"Derslik Süslemeleri"]
[null,255,8,4,null,null,"Okul Bahçesi ve Oyun Demirbaşları"]
[null,255,9,null,null,null,"Spor Amaçlı Kullanılan Demirbaşlar "]
[null,255,9,1,null,null,"Doğa Sporlarında Kullanılan Demirbaşlar"]
[null,255,9,2,null,null,"Salon Sporlarında Kullanılan Demirbaşlar"]
[null,255,9,3,null,null,"Saha Sporlarında Kullanılan Demirbaşlar"]
[null,255,9,99,null,null,"Diğer Spor Amaçlı Kullanılan Demirbaşlar"]
[null,255,10,null,null,null,"Güvenlik, Kontrol ve Tedbir Amaçlı Demirbaşlar "]
[null,255,10,1,null,null,"Güvenlik ve Korunma Amaçlı Araçlar"]
[null,255,10,2,null,null,"Kontrol ve Güvenlik Sistemleri"]
[null,255,10,3,null,null,"Yangın Söndürme ve Tedbir Cihaz ve Araçları"]
[null,255,11,null,null,null,"Demirbaş Niteliğindeki Süs Eşyaları"]
[null,255,11,1,null,null,"Vitrinde Sergilenen Süs Eşyaları"]
[null,255,11,2,null,null,"Duvarda Sergilenen Süs Eşyaları"]
[null,255,11,3,null,null,"Masa ve Sehpalarda Sergilenen Süs Eşyaları"]
[null,255,12,null,null,null,"Kullanımda Olan Demirbaş Niteliğinde Eşyalar"]
[null,255,12,1,null,null,"Yemek, Servis ve Çatal-Bıçak Takımları"]
[null,255,12,2,null,null,"Büro Malzemeleri"]
[null,255,99,null,null,null,"Diğer Demirbaşlar"]
[null,255,99,1,null,null,"Seyyar Kulübe, Kabin, Büfe ve Kafesler"]
[null,255,99,2,null,null,"Seyyar Tanklar ve Tüpler"]
[null,255,99,3,null,null,"Sergileme ve Tanıtım Amaçlı Taşınırlar"]

{"sheet":"Taşınır kod.ayrıntılı","index":17,"n_rows":3263,"n_cols":10,"rows_kept":3263,"cut":false,"hidden":false,"merged":[[1,9,1,10],[1339,7,1340,7],[0,1,0,7],[449,0,471,0],[1339,1,1340,1],[1339,2,1340,2],[1339,3,1340,3],[1339,4,1340,4],[1339,5,1340,5],[1339,6,1340,6]]}
[null," TAŞINIR KOD LİSTESİ ( 4. DÜZEY )\n17/04/2014 TARİHİ İTİBARIYLA GÜNCEL "]
[null,"Hesap Kodu","1. \nDüzey Kodu","2. \nDüzey Kodu","3.\nDüzey Kodu","4. \nDüzey Kodu","5. Düzey Kodu","DİKKAT: KOD LİSTESİ İNCELENİRKEN AÇIKLAMALARI DİKKATE ALINIZ. KODLAMALARINIZI,  BAKANLIKÇA AÇILAN DETAYDAN SONRAKİ DÜZEYLERDE İLGİLİ ALANLARIN ALTINDA ÖNCELİKLE KENDİ İÇERİSİNDE ALT GRUPLARA DAHA SONRADA BU GRUPLAR ALTINDA TAŞINIR KODLARINA YER VERMEK SURETİYLE YAPINIZ.",null,"TAŞINIR KOD LİSTESİ ( 4. DÜZEY )"]
[null,"150                                             A- TÜKETİM MALZEMELERİ "]
[null,150,null,null,null,null,null,"İlk Madde ve Malzemeler ",null,{"$f":"IF(ISTEXT(H5),CONCATENATE(B4,\" \",C4,\" \",D4,\" \",E4,\" \",F4,\" = \",H4),\"\")","v":"150     = İlk Madde ve Malzemeler "}]
[null,150,"01",null,null,null,null,"Kırtasiye Malzemeleri Grubu",null,"150 01    = Kırtasiye Malzemeleri Grubu"]
[null,150,"01","01",null,null,null,"Yazı Araçları  ",null,"150 01 01   = Yazı Araçları  "]
[null,150,"01","01","01",null,null,"Roller Kalemler ",null,"150 01 01 01  = Roller Kalemler "]
[null,150,"01","01","02",null,null,"Kalem Takımları",null,"150 01 01 02  = Kalem Takımları"]
[null,150,"01","01","03",null,null,"Mürekkepli (Dolma) Kalemler",null,"150 01 01 03  = Mürekkepli (Dolma) Kalemler"]
[null,150,"01","01","04",null,null,"Tükenmez Kalemler ",null,"150 01 01 04  = Tükenmez Kalemler "]
[null,150,"01","01","05",null,null,"Mekanizmalı (Mekanik) Kalemler",null,"150 01 01 05  = Mekanizmalı (Mekanik) Kalemler"]
[null,150,"01","01","06",null,null,"Kurşun Kalemler",null,"150 01 01 06  = Kurşun Kalemler"]
[null,150,"01","01","07",null,null,"İşaretleme Kalemleri ve Fosforlu Kalemler",null,"150 01 01 07  = İşaretleme Kalemleri ve Fosforlu Kalemler"]
[null,150,"01","01","08",null,null,"Boya Kalemleri",null,"150 01 01 08  = Boya Kalemleri"]
[null,150,"01","01","08","01",null,"Su Bazlı Boya Kalemleri",null,"150 01 01 08 01 = Su Bazlı Boya Kalemleri"]
[null,150,"01","01","08","02",null,"Çözücü Bazlı Boya Kalemleri",null,"150 01 01 08 02 = Çözücü Bazlı Boya Kalemleri"]
[null,150,"01","01","08","03",null,"Yıkanınca Çıkan Boya Kalemleri",null,"150 01 01 08 03 = Yıkanınca Çıkan Boya Kalemleri"]
[null,150,"01","01","08","04",null,"Güzel Yazı İçin Boya Kalemleri",null,"150 01 01 08 04 = Güzel Yazı İçin Boya Kalemleri"]
[null,150,"01","01","08","05",null,"Kumaşa Yazabilen Boya Kalemleri",null,"150 01 01 08 05 = Kumaşa Yazabilen Boya Kalemleri"]
[null,150,"01","01","08","06",null,"Metale Yazabilen Boya Kalemleri",null,"150 01 01 08 06 = Metale Yazabilen Boya Kalemleri"]
[null,150,"01","01","08","07",null,"Balmumu Bazlı Mum Boyalar",null,"150 01 01 08 07 = Balmumu Bazlı Mum Boyalar"]
[null,150,"01","01","08","08",null,"Soya Yağı Bazlı Mum Boyalar",null,"150 01 01 08 08 = Soya Yağı Bazlı Mum Boyalar"]
[null,150,"01","01","08","09",null,"Özellikli Mum Boyalar",null,"150 01 01 08 09 = Özellikli Mum Boyalar"]
[null,150,"01","01","08","10",null,"Suluboya Mum Boyalar",null,"150 01 01 08 10 = Suluboya Mum Boyalar"]
[null,150,"01","01","08","11",null,"Kuru Pastel Boyalar",null,"150 01 01 08 11 = Kuru Pastel Boyalar"]
[null,150,"01","01","08","12",null,"Tebeşir Pastel Boyalar",null,"150 01 01 08 12 = Tebeşir Pastel Boyalar"]
[null,150,"01","01","08","13",null,"Yağlı Pastel Boyalar",null,"150 01 01 08 13 = Yağlı Pastel Boyalar"]
[null,150,"01","01","08","99",null,"Diğer Boya Kalemleri",null,"150 01 01 08 99 = Diğer Boya Kalemleri"]
[null,150,"01","01","09",null,null,"Çizim Kalemleri",null,"150 01 01 09  = Çizim Kalemleri"]
[null,150,"01","01","09","01",null,"Sıkıştırılmış Karakalemler",null,"150 01 01 09 01 = Sıkıştırılmış Karakalemler"]
[null,150,"01","01","09","02",null,"Doldurulmuş Karakalemler",null,"150 01 01 09 02 = Doldurulmuş Karakalemler"]
[null,150,"01","01","09","03",null,"Grafit Kalemler",null,"150 01 01 09 03 = Grafit Kalemler"]
[null,150,"01","01","09","04",null,"Balmumu Bazlı Renkli Çizim Kalemleri",null,"150 01 01 09 04 = Balmumu Bazlı Renkli Çizim Kalemleri"]
[null,150,"01","01","09","99",null,"Diğer Çizim Kalemleri",null,"150 01 01 09 99 = Diğer Çizim Kalemleri"]
[null,150,"01","01",10,null,null,"Teknik Çizim Kalemleri",null,"150 01 01 10  = Teknik Çizim Kalemleri"]
[null,150,"01","01",11,null,null,"Asetat Kalemleri",null,"150 01 01 11  = Asetat Kalemleri"]
[null,150,"01","01",12,null,null,"Kopyatif Kalemler",null,"150 01 01 12  = Kopyatif Kalemler"]
[null,150,"01","01",13,null,null,"CD Kalemleri",null,"150 01 01 13  = CD Kalemleri"]
[null,150,"01","01",14,null,null,"Koli Kalemleri",null,"150 01 01 14  = Koli Kalemleri"]
[null,150,"01","01",15,null,null,"Para Kontrol Kalemleri",null,"150 01 01 15  = Para Kontrol Kalemleri"]
[null,150,"01","01",16,null,null,"Yazı Tahtası Kalemleri",null,"150 01 01 16  = Yazı Tahtası Kalemleri"]
[null,150,"01","01",17,null,null,"Yazı Tebeşirleri",null,"150 01 01 17  = Yazı Tebeşirleri"]
[null,150,"01","01",18,null,null,"İşaretleme Kalemleri İç Yedekleri",null,"150 01 01 18  = İşaretleme Kalemleri İç Yedekleri"]
[null,150,"01","01",19,null,null,"Kurşun Kalem ve Tükenmez Kalem İç Yedekleri",null,"150 01 01 19  = Kurşun Kalem ve Tükenmez Kalem İç Yedekleri"]
[null,150,"01","01","20",null,null,"Baskı ve Çizim Mürekkepleri",null,"150 01 01 20  = Baskı ve Çizim Mürekkepleri"]
[null,150,"01","01","20","01",null,"Dolmakalem Mürekkepleri",null,"150 01 01 20 01 = Dolmakalem Mürekkepleri"]
[null,150,"01","01","20","02",null,"Istampa Mürekkepleri",null,"150 01 01 20 02 = Istampa Mürekkepleri"]
[null,150,"01","01","20","03",null,"Su Bazlı Poster Mürekkepleri",null,"150 01 01 20 03 = Su Bazlı Poster Mürekkepleri"]
[null,150,"01","01","20","04",null,"Su Bazlı Akrilik Mürekkepleri",null,"150 01 01 20 04 = Su Bazlı Akrilik Mürekkepleri"]
[null,150,"01","01","20","05",null,"Yağ Bazlı İpek Kağıt Mürekkepleri",null,"150 01 01 20 05 = Yağ Bazlı İpek Kağıt Mürekkepleri"]
[null,150,"01","01","20","06",null,"Su Bazlı Dokuma Mürekkepleri",null,"150 01 01 20 06 = Su Bazlı Dokuma Mürekkepleri"]
[null,150,"01","01","20","07",null,"Yağ Bazlı Dokuma Mürekkepleri",null,"150 01 01 20 07 = Yağ Bazlı Dokuma Mürekkepleri"]
[null,150,"01","01","20","08",null,"Süblime Baskı Mürekkepleri",null,"150 01 01 20 08 = Süblime Baskı Mürekkepleri"]
[null,150,"01","01","20","09",null,"Yağ Bazlı Oyma veya Taş Baskı Mürekkepleri",null,"150 01 01 20 09 = Yağ Bazlı Oyma veya Taş Baskı Mürekkepleri"]
[null,150,"01","01","20","10",null,"Yağ Bazlı Tek Baskı Mürekkepleri",null,"150 01 01 20 10 = Yağ Bazlı Tek Baskı Mürekkepleri"]
[null,150,"01","01","20","11",null,"Su Bazlı Tek Baskı Mürekkepleri",null,"150 01 01 20 11 = Su Bazlı Tek Baskı Mürekkepleri"]
[null,150,"01","01","20","12",null,"Su Bazlı Çizim Mürekkepleri",null,"150 01 01 20 12 = Su Bazlı Çizim Mürekkepleri"]
[null,150,"01","01","20","13",null,"Çözücü Bazlı Çizim Mürekkepleri",null,"150 01 01 20 13 = Çözücü Bazlı Çizim Mürekkepleri"]
[null,150,"01","01","20","14",null,"Güzel Yazı Çizim Mürekkepleri",null,"150 01 01 20 14 = Güzel Yazı Çizim Mürekkepleri"]
[null,150,"01","01","20","15",null,"İpek Kağıt Mürekkepleri",null,"150 01 01 20 15 = İpek Kağıt Mürekkepleri"]
[null,150,"01","01","20","16",null,"Taş Baskı Vernikleri",null,"150 01 01 20 16 = Taş Baskı Vernikleri"]
[null,150,"01","01","20","17",null,"Divit ve Aksesuarları",null,"150 01 01 20 17 = Divit ve Aksesuarları"]
[null,150,"01","01","20","99",null,"Diğer Baskı ve Çizim Mürekkepleri",null,"150 01 01 20 99 = Diğer Baskı ve Çizim Mürekkepleri"]
[null,150,"01","01","99",null,null,"Diğer Yazı Araçları",null,"150 01 01 99  = Diğer Yazı Araçları"]
[null,150,"01","02",null,null,null,"Yazım, Çizim ve Ölçüm Araç ve Malzemeleri ",null,"150 01 02   = Yazım, Çizim ve Ölçüm Araç ve Malzemeleri "]
[null,150,"01","02","01",null,null,"Yazı Şablonları",null,"150 01 02 01  = Yazı Şablonları"]
[null,150,"01","02","02",null,null,"Güzel Yazı Setleri",null,"150 01 02 02  = Güzel Yazı Setleri"]
[null,150,"01","02","03",null,null,"Pergel Takımları",null,{"$f":"IF(ISTEXT(H69),CONCATENATE(B68,\" \",C68,\" \",D68,\" \",E68,\" \",F68,\" = \",H68),\"\")","v":"150 01 02 03  = Pergel Takımları"}]
[null,150,"01","02","04",null,null,"Gönye Takımları",null,"150 01 02 04  = Gönye Takımları"]
[null,150,"01","02","05",null,null,"Çizim Saptayıcıları",null,"150 01 02 05  = Çizim Saptayıcıları"]
[null,150,"01","02","06",null,null,"Çizim Örtüleri",null,"150 01 02 06  = Çizim Örtüleri"]
[null,150,"01","02","07",null,null,"Teknik Çizim Setleri",null,"150 01 02 07  = Teknik Çizim Setleri"]
[null,150,"01","02","08",null,null,"Kalem Tutacakları",null,"150 01 02 08  = Kalem Tutacakları"]
[null,150,"01","02","09",null,null,"Cetveller",null,"150 01 02 09  = Cetveller"]
[null,150,"01","02","10",null,null,"Şerit Metreler",null,"150 01 02 10  = Şerit Metreler"]
[null,150,"01","02","99",null,null,"Diğer Yazım, Çizim ve Ölçüm Araç ve Malzemeleri",null,"150 01 02 99  = Diğer Yazım, Çizim ve Ölçüm Araç ve Malzemeleri"]
[null,150,"01","03",null,null,null,"Kağıt Ürünler",null,"150 01 03   = Kağıt Ürünler"]
[null,150,"01","03","01",null,null,"Baskı ve Yazı Kağıtları",null,"150 01 03 01  = Baskı ve Yazı Kağıtları"]
[null,150,"01","03","01","01",null,"Ham ve Hamur Kağıtlar",null,"150 01 03 01 01 = Ham ve Hamur Kağıtlar"]
[null,150,"01","03","01","02",null,"Baskı Kağıtları",null,"150 01 03 01 02 = Baskı Kağıtları"]
[null,150,"01","03","01","03",null,"Yazı  Kağıtları",null,"150 01 03 01 03 = Yazı  Kağıtları"]
[null,150,"01","03","01","04",null,"Basılı  Kağıtlar",null,"150 01 03 01 04 = Basılı  Kağıtlar"]
[null,150,"01","03","01","05",null,"Baskısız Bilgisayar Formları",null,"150 01 03 01 05 = Baskısız Bilgisayar Formları"]
[null,150,"01","03","01","06",null,"Daktilo  Kağıtları",null,"150 01 03 01 06 = Daktilo  Kağıtları"]
[null,150,"01","03","01","07",null,"Faks  Kağıtları",null,"150 01 03 01 07 = Faks  Kağıtları"]
[null,150,"01","03","01","08",null,"Karbon  Kağıtları",null,"150 01 03 01 08 = Karbon  Kağıtları"]
[null,150,"01","03","01","09",null,"Mumlu  Kağıtları",null,"150 01 03 01 09 = Mumlu  Kağıtları"]
[null,150,"01","03","01","10",null,"Çizim  Kağıtları",null,"150 01 03 01 10 = Çizim  Kağıtları"]
[null,150,"01","03","01","11",null,"Yapışkanlı (Postit) Not  Kağıtları",null,"150 01 03 01 11 = Yapışkanlı (Postit) Not  Kağıtları"]
[null,150,"01","03","01","12",null,"Etiketler",null,"150 01 03 01 12 = Etiketler"]
[null,150,"01","03","01","13",null,"Yazarkasa - Hesap Makinesi Bobinleri",null,"150 01 03 01 13 = Yazarkasa - Hesap Makinesi Bobinleri"]
[null,150,"01","03","01","14",null,"Teleks Bobinleri",null,"150 01 03 01 14 = Teleks Bobinleri"]
[null,150,"01","03","01","15",null,"İndeks Kartları",null,"150 01 03 01 15 = İndeks Kartları"]
[null,150,"01","03","01","16",null,"Karton ve Ambalaj Kağıtları",null,"150 01 03 01 16 = Karton ve Ambalaj Kağıtları"]
[null,150,"01","03","01","17",null,"Kuşe Kağıtlar",null,"150 01 03 01 17 = Kuşe Kağıtlar"]
[null,150,"01","03","01","18",null,"Gazete ve Ofset Kağıtları",null,"150 01 03 01 18 = Gazete ve Ofset Kağıtları"]
[null,150,"01","03","01","99",null,"Diğer Baskı ve Yazı Kağıtları",null,"150 01 03 01 99 = Diğer Baskı ve Yazı Kağıtları"]
[null,150,"01","03","02",null,null,"Dosya ve Klasörler",null,"150 01 03 02  = Dosya ve Klasörler"]
[null,150,"01","03","02","01",null,"Karton Dosya Gömleği",null,"150 01 03 02 01 = Karton Dosya Gömleği"]
[null,150,"01","03","02","02",null,"Tam Kapaklı Karton Telli Dosyalar",null,"150 01 03 02 02 = Tam Kapaklı Karton Telli Dosyalar"]
[null,150,"01","03","02","03",null,"Yarım Kapaklı Karton Telli Dosyalar",null,"150 01 03 02 03 = Yarım Kapaklı Karton Telli Dosyalar"]
[null,150,"01","03","02","04",null,"Askılı Dosyalar (Dosya Havuzu için)",null,"150 01 03 02 04 = Askılı Dosyalar (Dosya Havuzu için)"]
[null,150,"01","03","02","05",null,"Mekanizmalı Klasörler",null,"150 01 03 02 05 = Mekanizmalı Klasörler"]
[null,150,"01","03","02","06",null,"Bağlı Klasörler",null,"150 01 03 02 06 = Bağlı Klasörler"]
[null,150,"01","03","02","07",null,"Dosya Havuzları",null,"150 01 03 02 07 = Dosya Havuzları"]
[null,150,"01","03","02","08",null,"Körüklü Dosyalar",null,"150 01 03 02 08 = Körüklü Dosyalar"]
[null,150,"01","03","02","09",null,"Arşiv Kutuları",null,"150 01 03 02 09 = Arşiv Kutuları"]
[null,150,"01","03","02","10",null,"İmza Kartonları",null,"150 01 03 02 10 = İmza Kartonları"]
[null,150,"01","03","02","11",null,"Plastik Dosya Gömlekleri",null,"150 01 03 02 11 = Plastik Dosya Gömlekleri"]
[null,150,"01","03","02","12",null,"Plastik Poşet Dosyalar",null,"150 01 03 02 12 = Plastik Poşet Dosyalar"]
[null,150,"01","03","02","13",null,"Plastik Telli Dosyalar ",null,"150 01 03 02 13 = Plastik Telli Dosyalar "]
[null,150,"01","03","02","14",null,"Sunum Dosyaları",null,"150 01 03 02 14 = Sunum Dosyaları"]
[null,150,"01","03","02","16",null,"Sekreter Notlukları",null,"150 01 03 02 16 = Sekreter Notlukları"]
[null,150,"01","03","02","17",null,"Dosya Sunum Üniteleri",null,"150 01 03 02 17 = Dosya Sunum Üniteleri"]
[null,150,"01","03","02","18",null,"Plastik Cilt Kapakları",null,"150 01 03 02 18 = Plastik Cilt Kapakları"]
[null,150,"01","03","02","19",null,"Muhtelif Dosyalar",null,"150 01 03 02 19 = Muhtelif Dosyalar"]
[null,150,"01","03","03",null,null,"Zarflar",null,"150 01 03 03  = Zarflar"]
[null,150,"01","03","03","01",null,"Normal Zarflar",null,"150 01 03 03 01 = Normal Zarflar"]
[null,150,"01","03","03","02",null,"Kese (Torba) Zarflar",null,"150 01 03 03 02 = Kese (Torba) Zarflar"]
[null,150,"01","03","03","03",null,"Vergi İade Zarfları",null,"150 01 03 03 03 = Vergi İade Zarfları"]
[null,150,"01","03","03","04",null,"Tebligat Zarfları",null,"150 01 03 03 04 = Tebligat Zarfları"]
[null,150,"01","03","03","99",null,"Diğer Zarflar",null,"150 01 03 03 99 = Diğer Zarflar"]
[null,150,"01","03","99",null,null,"Diğer Kağıt Ürünler",null,"150 01 03 99  = Diğer Kağıt Ürünler"]
[null,150,"01","04",null,null,null,"Yazıcı, Faksimile Cihazı, Fotokopi ve Baskı Makinesi Malzemeleri",null,"150 01 04   = Yazıcı, Faksimile Cihazı, Fotokopi ve Baskı Makinesi Malzemeleri"]
[null,150,"01","04","01",null,null,"Tonerler",null,"150 01 04 01  = Tonerler"]
[null,150,"01","04","02",null,null,"Kartuşlar",null,"150 01 04 02  = Kartuşlar"]
[null,150,"01","04","03",null,null,"Rulolar ve Masterler/ Baskı Kalıpları",null,"150 01 04 03  = Rulolar ve Masterler/ Baskı Kalıpları"]
[null,150,"01","04","04",null,null,"Şeritler",null,"150 01 04 04  = Şeritler"]
[null,150,"01","04","05",null,null,"Filmler",null,"150 01 04 05  = Filmler"]
[null,150,"01","04","06",null,null,"Developer",null,"150 01 04 06  = Developer"]
[null,150,"01","04","07",null,null,"Mürekkep Kutuları",null,"150 01 04 07  = Mürekkep Kutuları"]
[null,150,"01","04","08",null,null,"Mürekkep Çubukları",null,{"$f":"IF(ISTEXT(H133),CONCATENATE(B132,\" \",C132,\" \",D132,\" \",E132,\" \",F132,\" = \",H132),\"\")","v":"150 01 04 08  = Mürekkep Çubukları"}]
[null,150,"01","04","09",null,null,"Yazıcı, Faksimile Cihazı ve Fotokopi Temizleme Malzemeleri",null,"150 01 04 09  = Yazıcı, Faksimile Cihazı ve Fotokopi Temizleme Malzemeleri"]
[null,150,"01","04","10",null,null,"Yazıcı, Faksimile veya Fotokopi Cihazı Rulo Kılavuzlar",null,"150 01 04 10  = Yazıcı, Faksimile veya Fotokopi Cihazı Rulo Kılavuzlar"]
[null,150,"01","04","99",null,null,"Yazıcı, Faksimile Cihazı, Fotokopi ve Baskı Makinesi Diğer Malzemeleri",null,"150 01 04 99  = Yazıcı, Faksimile Cihazı, Fotokopi ve Baskı Makinesi Diğer Malzemeleri"]
[null,150,"01","05",null,null,null,"Kağıt Tutturucuları, Tutkallar ve Bantlar",null,"150 01 05   = Kağıt Tutturucuları, Tutkallar ve Bantlar"]
[null,150,"01","05","01",null,null,"Tutturucular",null,"150 01 05 01  = Tutturucular"]
[null,150,"01","05","01","01",null,"Ataçlar",null,"150 01 05 01 01 = Ataçlar"]
[null,150,"01","05","01","02",null,"İğneler",null,"150 01 05 01 02 = İğneler"]
[null,150,"01","05","01","03",null,"Zımba Telleri",null,"150 01 05 01 03 = Zımba Telleri"]
[null,150,"01","05","01","04",null,"Raptiyeler",null,"150 01 05 01 04 = Raptiyeler"]
[null,150,"01","05","01","05",null,"Cilt tutturma Vidaları ",null,"150 01 05 01 05 = Cilt tutturma Vidaları "]
[null,150,"01","05","01","06",null,"Cilt Sırtlıkları",null,"150 01 05 01 06 = Cilt Sırtlıkları"]
[null,150,"01","05","01","07",null,"Cilt Bezleri",null,"150 01 05 01 07 = Cilt Bezleri"]
[null,150,"01","05","01","08",null,"Duvar veya Pano Klipsleri",null,"150 01 05 01 08 = Duvar veya Pano Klipsleri"]
[null,150,"01","05","01","09",null,"Tutturma Halkaları",null,"150 01 05 01 09 = Tutturma Halkaları"]
[null,150,"01","05","01",10,null,"Etiket Çengelleri",null,"150 01 05 01 10 = Etiket Çengelleri"]
[null,150,"01","05","01","11",null,"İpler ve Ambalaj Malzemeleri",null,"150 01 05 01 11 = İpler ve Ambalaj Malzemeleri"]
[null,150,"01","05","01","99",null,"Diğer Tutturucular",null,"150 01 05 01 99 = Diğer Tutturucular"]
[null,150,"01","05","02",null,null,"Tutkallar",null,"150 01 05 02  = Tutkallar"]
[null,150,"01","05","02","01",null,"Zamklar",null,"150 01 05 02 01 = Zamklar"]
[null,150,"01","05","02","02",null,"Sentetik Yapıştırıcılar",null,"150 01 05 02 02 = Sentetik Yapıştırıcılar"]
[null,150,"01","05","02","99",null,"Diğer Tutkallar",null,"150 01 05 02 99 = Diğer Tutkallar"]
[null,150,"01","05","03",null,null,"Lastik  Bantlar",null,"150 01 05 03  = Lastik  Bantlar"]
[null,150,"01","05","03","01",null,"Selefon Bantlar",null,"150 01 05 03 01 = Selefon Bantlar"]
[null,150,"01","05","03","02",null,"Çift Yönlü Bantlar",null,"150 01 05 03 02 = Çift Yönlü Bantlar"]
[null,150,"01","05","03","03",null,"Maskeleme Bantları",null,"150 01 05 03 03 = Maskeleme Bantları"]
[null,150,"01","05","03","04",null,"Montaj Bantları",null,"150 01 05 03 04 = Montaj Bantları"]
[null,150,"01","05","03","05",null,"Koli Bantları",null,"150 01 05 03 05 = Koli Bantları"]
[null,150,"01","05","03","99",null,"Diğer Lastik Bantlar",null,"150 01 05 03 99 = Diğer Lastik Bantlar"]
[null,150,"01","05","99",null,null,"Diğer Kağıt Tutturucuları, Tutkallar ve Bantlar",null,"150 01 05 99  = Diğer Kağıt Tutturucuları, Tutkallar ve Bantlar"]
[null,150,"01","06",null,null,null,"Yazı Düzelticiler",null,"150 01 06   = Yazı Düzelticiler"]
[null,150,"01","06","01",null,null,"Düzeltici Bantlar",null,"150 01 06 01  = Düzeltici Bantlar"]
[null,150,"01","06","02",null,null,"Sıvı Düzelticiler",null,"150 01 06 02  = Sıvı Düzelticiler"]
[null,150,"01","06","03",null,null,"Kalem Silgileri",null,"150 01 06 03  = Kalem Silgileri"]
[null,150,"01","06","04",null,null,"Yumuşak Silgiler",null,"150 01 06 04  = Yumuşak Silgiler"]
[null,150,"01","06","05",null,null,"Vinil Silgiler",null,"150 01 06 05  = Vinil Silgiler"]
[null,150,"01","06","06",null,null,"Plastik Silgiler",null,"150 01 06 06  = Plastik Silgiler"]
[null,150,"01","06","07",null,null,"Mürekkep Silgileri",null,"150 01 06 07  = Mürekkep Silgileri"]
[null,150,"01","06","08",null,null,"Elektronik Siliciler",null,"150 01 06 08  = Elektronik Siliciler"]
[null,150,"01","06","09",null,null,"Mum Boyası Silicileri",null,"150 01 06 09  = Mum Boyası Silicileri"]
[null,150,"01","06","99",null,null,"Diğer Yazı Düzelticiler",null,"150 01 06 99  = Diğer Yazı Düzelticiler"]
[null,150,"01","07",null,null,null,"Küçük Kırtasiye Gereç ve Malzemeleri",null,"150 01 07   = Küçük Kırtasiye Gereç ve Malzemeleri"]
[null,150,"01","07","01",null,null,"Istampalar ",null,"150 01 07 01  = Istampalar "]
[null,150,"01","07","02",null,null,"Zımbalar",null,"150 01 07 02  = Zımbalar"]
[null,150,"01","07","03",null,null,"Delgeçler",null,"150 01 07 03  = Delgeçler"]
[null,150,"01","07","04",null,null,"Tel Sökücüleri",null,"150 01 07 04  = Tel Sökücüleri"]
[null,150,"01","07","05",null,null,"Çağrı Zilleri",null,"150 01 07 05  = Çağrı Zilleri"]
[null,150,"01","07","06",null,null,"Makaslar",null,"150 01 07 06  = Makaslar"]
[null,150,"01","07","07",null,null,"Maket Bıçakları, Yedek Uçları ve Falçatalar",null,"150 01 07 07  = Maket Bıçakları, Yedek Uçları ve Falçatalar"]
[null,150,"01","07","08",null,null,"Makas Bileyiciler",null,"150 01 07 08  = Makas Bileyiciler"]
[null,150,"01","07","09",null,null,"Kalem Açma Makineleri",null,"150 01 07 09  = Kalem Açma Makineleri"]
[null,150,"01","07","10",null,null,"Sümen ve Aksesuarları",null,"150 01 07 10  = Sümen ve Aksesuarları"]
[null,150,"01","07","11",null,null,"Zarf Zamkı Islatıcıları",null,"150 01 07 11  = Zarf Zamkı Islatıcıları"]
[null,150,"01","07","12",null,null,"Zarf Açacakları",null,"150 01 07 12  = Zarf Açacakları"]
[null,150,"01","07","13",null,null,"Tutkal Fırçaları",null,"150 01 07 13  = Tutkal Fırçaları"]
[null,150,"01","07","14",null,null,"Yapıştırıcı Sökücüler",null,"150 01 07 14  = Yapıştırıcı Sökücüler"]
[null,150,"01","07","15",null,null,"Ayraçlar",null,"150 01 07 15  = Ayraçlar"]
[null,150,"01","07","16",null,null,"Ataçlık veya Ataç Koyma Kutuları",null,"150 01 07 16  = Ataçlık veya Ataç Koyma Kutuları"]
[null,150,"01","07","17",null,null,"Mühür Mumları",null,"150 01 07 17  = Mühür Mumları"]
[null,150,"01","07","18",null,null,"Mühür İpleri",null,"150 01 07 18  = Mühür İpleri"]
[null,150,"01","07","19",null,null,"Bantlama Makineleri ",null,"150 01 07 19  = Bantlama Makineleri "]
[null,150,"01","07","20",null,null,"Süngerlikler",null,"150 01 07 20  = Süngerlikler"]
[null,150,"01","07","21",null,null,"Takvimler ve Takvim Altlıkları",null,"150 01 07 21  = Takvimler ve Takvim Altlıkları"]
[null,150,"01","07","22",null,null,"Defterler, Ajandalar ve Fihristler",null,"150 01 07 22  = Defterler, Ajandalar ve Fihristler"]
[null,150,"01","07","23",null,null,"Toplantı Çizelgeleri",null,{"$f":"IF(ISTEXT(H197),CONCATENATE(B196,\" \",C196,\" \",D196,\" \",E196,\" \",F196,\" = \",H196),\"\")","v":"150 01 07 23  = Toplantı Çizelgeleri"}]
[null,150,"01","07","24",null,null,"Öneri Kutuları",null,"150 01 07 24  = Öneri Kutuları"]
[null,150,"01","07","25",null,null,"Duvar Çizelgeleri",null,"150 01 07 25  = Duvar Çizelgeleri"]
[null,150,"01","07","26",null,null,"Posta Pulları",null,"150 01 07 26  = Posta Pulları"]
[null,150,"01","07","27",null,null,"Prespapyeler",null,"150 01 07 27  = Prespapyeler"]
[null,150,"01","07","28",null,null,"Kaşeler ve Kaşe Askıları",null,"150 01 07 28  = Kaşeler ve Kaşe Askıları"]
[null,150,"01","07","29",null,null,"Numaratörler",null,"150 01 07 29  = Numaratörler"]
[null,150,"01","07","99",null,null,"Diğer Küçük Kırtasiye Gereç ve Malzemeleri",null,"150 01 07 99  = Diğer Küçük Kırtasiye Gereç ve Malzemeleri"]
[null,150,"01","08",null,null,null,"Bilişim Malzemeleri",null,"150 01 08   = Bilişim Malzemeleri"]
[null,150,"01","08","01",null,null,"Çıkarılabilir Saklama Ortamı",null,"150 01 08 01  = Çıkarılabilir Saklama Ortamı"]
[null,150,"01","08","01","01",null,"CD'ler",null,"150 01 08 01 01 = CD'ler"]
[null,150,"01","08","01","02",null,"Kasetler",null,"150 01 08 01 02 = Kasetler"]
[null,150,"01","08","01","03",null,"DVD'ler",null,"150 01 08 01 03 = DVD'ler"]
[null,150,"01","08","01","04",null,"Disketler",null,"150 01 08 01 04 = Disketler"]
[null,150,"01","08","01","05",null,"Flaş Diskler",null,"150 01 08 01 05 = Flaş Diskler"]
[null,150,"01","08","01","06",null,"Manyeto-optik (MO) Diskler",null,"150 01 08 01 06 = Manyeto-optik (MO) Diskler"]
[null,150,"01","08","01","07",null,"Yüksek Kapasiteli Çıkarılabilir Boş Ortam Diskleri",null,"150 01 08 01 07 = Yüksek Kapasiteli Çıkarılabilir Boş Ortam Diskleri"]
[null,150,"01","08","01","08",null,"Boş Yüksek Yoğunluklu Optik (UDO) Diskler",null,"150 01 08 01 08 = Boş Yüksek Yoğunluklu Optik (UDO) Diskler"]
[null,150,"01","08","01","99",null,"Diğer Çıkarılabilir Saklama Ortamı",null,"150 01 08 01 99 = Diğer Çıkarılabilir Saklama Ortamı"]
[null,150,"01","08","02",null,null,"Çıkarılabilir Saklama Ortamı Aksesuarları",null,"150 01 08 02  = Çıkarılabilir Saklama Ortamı Aksesuarları"]
[null,150,"01","08","02","01",null,"CD Çantaları",null,"150 01 08 02 01 = CD Çantaları"]
[null,150,"01","08","02","02",null,"Disket Kutuları",null,"150 01 08 02 02 = Disket Kutuları"]
[null,150,"01","08","02","03",null,"Çoklu Ortam Depolama Cihazı Muhafazaları ",null,"150 01 08 02 03 = Çoklu Ortam Depolama Cihazı Muhafazaları "]
[null,150,"01","08","02","04",null,"VHS (Vertical Helix Scan) Videotape Depolayıcı veya Aksesuarları",null,"150 01 08 02 04 = VHS (Vertical Helix Scan) Videotape Depolayıcı veya Aksesuarları"]
[null,150,"01","08","02","99",null,"Diğer Çıkarılabilir Saklama Ortamı Aksesuarları",null,"150 01 08 02 99 = Diğer Çıkarılabilir Saklama Ortamı Aksesuarları"]
[null,150,"01","08","99",null,null,"Diğer Bilişim Malzemeleri",null,"150 01 08 99  = Diğer Bilişim Malzemeleri"]
[null,150,"02",null,null,null,null,"Beslenme/Gıda Amaçlı ve  Mutfakta Kullanılan Tüketim Malzemeleri Grubu ",null,"150 02    = Beslenme/Gıda Amaçlı ve  Mutfakta Kullanılan Tüketim Malzemeleri Grubu "]
[null,150,"02","01",null,null,null,"Tek Kullanımlık Mutfak Eşyaları",null,"150 02 01   = Tek Kullanımlık Mutfak Eşyaları"]
[null,150,"02","01","01",null,null,"Tek Kullanımlık Pişirme Kapları",null,"150 02 01 01  = Tek Kullanımlık Pişirme Kapları"]
[null,150,"02","01","02",null,null,"Tek Kullanımlık Tabaklar",null,"150 02 01 02  = Tek Kullanımlık Tabaklar"]
[null,150,"02","01","03",null,null,"Tek Kullanımlık Çatallar",null,"150 02 01 03  = Tek Kullanımlık Çatallar"]
[null,150,"02","01","04",null,null,"Tek Kullanımlık Bıçaklar",null,"150 02 01 04  = Tek Kullanımlık Bıçaklar"]
[null,150,"02","01","05",null,null,"Tek Kullanımlık Kaşıklar",null,"150 02 01 05  = Tek Kullanımlık Kaşıklar"]
[null,150,"02","01","06",null,null,"Tek Kullanımlık Bardaklar",null,"150 02 01 06  = Tek Kullanımlık Bardaklar"]
[null,150,"02","01","07",null,null,"Tek Kullanımlık Kaplar ",null,"150 02 01 07  = Tek Kullanımlık Kaplar "]
[null,150,"02","01","08",null,null,"Tek Kullanımlık Kapaklar",null,"150 02 01 08  = Tek Kullanımlık Kapaklar"]
[null,150,"02","01","09",null,null,"Tek Kullanımlık Karıştırıcılar",null,"150 02 01 09  = Tek Kullanımlık Karıştırıcılar"]
[null,150,"02","01","10",null,null,"Pipetler",null,"150 02 01 10  = Pipetler"]
[null,150,"02","01","11",null,null,"Aliminyum Folyolar",null,"150 02 01 11  = Aliminyum Folyolar"]
[null,150,"02","01","12",null,null,"Streç Filmler",null,"150 02 01 12  = Streç Filmler"]
[null,150,"02","01","13",null,null,"Buzdolabı Poşetleri",null,"150 02 01 13  = Buzdolabı Poşetleri"]
[null,150,"02","01","14",null,null,"Fincan ve Tepsi Altlıkları",null,"150 02 01 14  = Fincan ve Tepsi Altlıkları"]
[null,150,"02","01","99",null,null," Tek Kullanımlık Diğer Mutfak Eşyaları",null,"150 02 01 99  =  Tek Kullanımlık Diğer Mutfak Eşyaları"]
[null,150,"02","02",null,null,null,"Servis ve Saklama Kapları",null,"150 02 02   = Servis ve Saklama Kapları"]
[null,150,"02","02","01",null,null,"Yemek Saklama Kapları",null,"150 02 02 01  = Yemek Saklama Kapları"]
[null,150,"02","02","02",null,null,"Sos Kapları",null,"150 02 02 02  = Sos Kapları"]
[null,150,"02","02","03",null,null,"Servis Kaseleri",null,"150 02 02 03  = Servis Kaseleri"]
[null,150,"02","02","04",null,null,"Çaydanlıklar ",null,"150 02 02 04  = Çaydanlıklar "]
[null,150,"02","02","05",null,null,"Cezveler",null,"150 02 02 05  = Cezveler"]
[null,150,"02","02","06",null,null,"Termoslar",null,"150 02 02 06  = Termoslar"]
[null,150,"02","02","07",null,null,"Buz Kalıpları",null,"150 02 02 07  = Buz Kalıpları"]
[null,150,"02","02","08",null,null,"Ekmek Kutuları",null,"150 02 02 08  = Ekmek Kutuları"]
[null,150,"02","02","09",null,null,"Sefer Tasları",null,"150 02 02 09  = Sefer Tasları"]
[null,150,"02","02","99",null,null,"Diğer Servis ve Saklama Kapları",null,"150 02 02 99  = Diğer Servis ve Saklama Kapları"]
[null,150,"02","03",null,null,null,"Sofra Takımı ve Çatal Bıçak Takımı",null,"150 02 03   = Sofra Takımı ve Çatal Bıçak Takımı"]
[null,150,"02","03","01",null,null,"Yemek Tabağı Takımları",null,"150 02 03 01  = Yemek Tabağı Takımları"]
[null,150,"02","03","02",null,null,"Yemek Tabakları",null,"150 02 03 02  = Yemek Tabakları"]
[null,150,"02","03","03",null,null,"Çorba ve Salata Kaseleri",null,"150 02 03 03  = Çorba ve Salata Kaseleri"]
[null,150,"02","03","04",null,null,"Servis Tabakları ",null,"150 02 03 04  = Servis Tabakları "]
[null,150,"02","03","05",null,null,"Çatal Kaşık Setleri",null,"150 02 03 05  = Çatal Kaşık Setleri"]
[null,150,"02","03","06",null,null,"Çatallar",null,"150 02 03 06  = Çatallar"]
[null,150,"02","03","07",null,null,"Kaşıklar",null,"150 02 03 07  = Kaşıklar"]
[null,150,"02","03","08",null,null,"Bıçaklar",null,"150 02 03 08  = Bıçaklar"]
[null,150,"02","03","09",null,null,"Kaşıklıklar",null,"150 02 03 09  = Kaşıklıklar"]
[null,150,"02","03","99",null,null,"Diğer Sofra Takımı ve Çatal Bıçak Takımı ve Ekipmanları",null,{"$f":"IF(ISTEXT(H261),CONCATENATE(B260,\" \",C260,\" \",D260,\" \",E260,\" \",F260,\" = \",H260),\"\")","v":"150 02 03 99  = Diğer Sofra Takımı ve Çatal Bıçak Takımı ve Ekipmanları"}]
[null,150,"02","04",null,null,null,"İçecek Servis Takımları",null,"150 02 04   = İçecek Servis Takımları"]
[null,150,"02","04","01",null,null,"Fincanlar",null,"150 02 04 01  = Fincanlar"]
[null,150,"02","04","02",null,null,"Bardaklar",null,"150 02 04 02  = Bardaklar"]
[null,150,"02","04","03",null,null,"Kupalar",null,"150 02 04 03  = Kupalar"]
[null,150,"02","04","04",null,null,"Kadehler",null,"150 02 04 04  = Kadehler"]
[null,150,"02","04","05",null,null,"Sürahiler",null,"150 02 04 05  = Sürahiler"]
[null,150,"02","04","06",null,null,"Biberonlar ve Aksesuarları",null,"150 02 04 06  = Biberonlar ve Aksesuarları"]
[null,150,"02","04","99",null,null,"Diğer İçecek Servis Takımları",null,"150 02 04 99  = Diğer İçecek Servis Takımları"]
[null,150,"02","05",null,null,null,"Mutfak Araç ve Gereçleri",null,"150 02 05   = Mutfak Araç ve Gereçleri"]
[null,150,"02","05","01",null,null,"Öğütücü ve Ezici Aletler",null,"150 02 05 01  = Öğütücü ve Ezici Aletler"]
[null,150,"02","05","01","01",null,"Rendeler",null,"150 02 05 01 01 = Rendeler"]
[null,150,"02","05","01","02",null,"Püre Ezme Aletleri",null,"150 02 05 01 02 = Püre Ezme Aletleri"]
[null,150,"02","05","01","03",null,"Sarımsak Eziciler",null,"150 02 05 01 03 = Sarımsak Eziciler"]
[null,150,"02","05","01","04",null,"Havanlar",null,"150 02 05 01 04 = Havanlar"]
[null,150,"02","05","01","05",null,"Et Kütükleri",null,"150 02 05 01 05 = Et Kütükleri"]
[null,150,"02","05","01","06",null,"Et Dövecekleri",null,"150 02 05 01 06 = Et Dövecekleri"]
[null,150,"02","05","01","07",null,"Manuel Et Yumuşatma Aletleri",null,"150 02 05 01 07 = Manuel Et Yumuşatma Aletleri"]
[null,150,"02","05","01","08",null,"Manuel Meyve ve Sebze Sıkacakları",null,"150 02 05 01 08 = Manuel Meyve ve Sebze Sıkacakları"]
[null,150,"02","05","01","99",null,"Diğer Öğütücü ve Ezici Aletler",null,"150 02 05 01 99 = Diğer Öğütücü ve Ezici Aletler"]
[null,150,"02","05","02",null,null,"Kesici Aletler ve Yardımcı Araçlar",null,"150 02 05 02  = Kesici Aletler ve Yardımcı Araçlar"]
[null,150,"02","05","02","01",null,"Bıçaklar",null,"150 02 05 02 01 = Bıçaklar"]
[null,150,"02","05","02","02",null,"Dilimleyiciler",null,"150 02 05 02 02 = Dilimleyiciler"]
[null,150,"02","05","02","03",null,"Sebze ve Meyve Soyma Aletleri",null,"150 02 05 02 03 = Sebze ve Meyve Soyma Aletleri"]
[null,150,"02","05","02","04",null,"Sebze Oyma Aletleri",null,"150 02 05 02 04 = Sebze Oyma Aletleri"]
[null,150,"02","05","02","05",null,"Bıçak Bileyiciler",null,"150 02 05 02 05 = Bıçak Bileyiciler"]
[null,150,"02","05","02","06",null,"Doğrama Tahtaları",null,"150 02 05 02 06 = Doğrama Tahtaları"]
[null,150,"02","05","02","99",null,"Diğer Kesici Aletler ve Yardımcı Araçlar",null,"150 02 05 02 99 = Diğer Kesici Aletler ve Yardımcı Araçlar"]
[null,150,"02","05","03",null,null,"Tatlandırıcı Kapları ve Baharatlıklar",null,"150 02 05 03  = Tatlandırıcı Kapları ve Baharatlıklar"]
[null,150,"02","05","03","01",null,"Tuzluklar",null,"150 02 05 03 01 = Tuzluklar"]
[null,150,"02","05","03","02",null,"Şekerlikler",null,"150 02 05 03 02 = Şekerlikler"]
[null,150,"02","05","03","03",null,"Baharatlıklar",null,"150 02 05 03 03 = Baharatlıklar"]
[null,150,"02","05","03","99",null,"Diğer Tatlandırıcı Kapları",null,"150 02 05 03 99 = Diğer Tatlandırıcı Kapları"]
[null,150,"02","05","04",null,null,"Servis Aletleri",null,"150 02 05 04  = Servis Aletleri"]
[null,150,"02","05","04","01",null,"Kepçeler ",null,"150 02 05 04 01 = Kepçeler "]
[null,150,"02","05","04","02",null,"Spatulalar",null,"150 02 05 04 02 = Spatulalar"]
[null,150,"02","05","04","03",null,"Maşalar",null,"150 02 05 04 03 = Maşalar"]
[null,150,"02","05","04","04",null,"Kaşıklar",null,"150 02 05 04 04 = Kaşıklar"]
[null,150,"02","05","04","05",null,"Çatallar",null,"150 02 05 04 05 = Çatallar"]
[null,150,"02","05","04","99",null,"Diğer Servis Aletleri",null,"150 02 05 04 99 = Diğer Servis Aletleri"]
[null,150,"02","05","05",null,null,"Süzme Aletleri",null,"150 02 05 05  = Süzme Aletleri"]
[null,150,"02","05","05","01",null,"Kevgirler",null,"150 02 05 05 01 = Kevgirler"]
[null,150,"02","05","05","02",null,"Süzgeçler",null,"150 02 05 05 02 = Süzgeçler"]
[null,150,"02","05","05","03",null,"Kalburlar",null,"150 02 05 05 03 = Kalburlar"]
[null,150,"02","05","05","04",null,"Huniler",null,"150 02 05 05 04 = Huniler"]
[null,150,"02","05","05","99",null,"Diğer Süzme Aletleri",null,"150 02 05 05 99 = Diğer Süzme Aletleri"]
[null,150,"02","05","06",null,null,"Açacaklar",null,"150 02 05 06  = Açacaklar"]
[null,150,"02","05","06","01",null,"Şişe Açacakları",null,"150 02 05 06 01 = Şişe Açacakları"]
[null,150,"02","05","06","02",null,"Konserve Açacakları",null,"150 02 05 06 02 = Konserve Açacakları"]
[null,150,"02","05","06","03",null,"Tirbüşonlar",null,"150 02 05 06 03 = Tirbüşonlar"]
[null,150,"02","05","06","99",null,"Diğer Açacaklar",null,"150 02 05 06 99 = Diğer Açacaklar"]
[null,150,"02","05","07",null,null,"Unlu Mamül Hazırlama Araçları",null,"150 02 05 07  = Unlu Mamül Hazırlama Araçları"]
[null,150,"02","05","07","01",null,"Hamur Kalıpları",null,"150 02 05 07 01 = Hamur Kalıpları"]
[null,150,"02","05","07","02",null,"Oklava ve Merdaneler",null,"150 02 05 07 02 = Oklava ve Merdaneler"]
[null,150,"02","05","07","03",null,"Pasta Süsleme Araçları",null,"150 02 05 07 03 = Pasta Süsleme Araçları"]
[null,150,"02","05","07","04",null,"Hamur Karıştırıcıları",null,"150 02 05 07 04 = Hamur Karıştırıcıları"]
[null,150,"02","05","07","05",null,"Fırçalar",null,"150 02 05 07 05 = Fırçalar"]
[null,150,"02","05","07","06",null,"Ahşap Fırın Küreği",null,"150 02 05 07 06 = Ahşap Fırın Küreği"]
[null,150,"02","05","07","07",null,"Ölçme Kapları",null,"150 02 05 07 07 = Ölçme Kapları"]
[null,150,"02","05","07","08",null,"Çırpma Telleri (Mikser vb için)",null,"150 02 05 07 08 = Çırpma Telleri (Mikser vb için)"]
[null,150,"02","05","07","99",null,"Diğer Unlu Mamül Hazırlama Araçları",null,"150 02 05 07 99 = Diğer Unlu Mamül Hazırlama Araçları"]
[null,150,"02","05","99",null,null,"Diğer Mutfak Araç ve Gereçleri",null,"150 02 05 99  = Diğer Mutfak Araç ve Gereçleri"]
[null,150,"03",null,null,null,null,"Tıbbi ve Laboratuvar Sarf Malzemeleri Grubu",null,"150 03    = Tıbbi ve Laboratuvar Sarf Malzemeleri Grubu"]
[null,150,"03","01",null,null,null,"İlaçlar ve Farmakolojik Ürünler",null,"150 03 01   = İlaçlar ve Farmakolojik Ürünler"]
[null,150,"03","01","01",null,null,"Anti Enfeksiyon İlaçları",null,{"$f":"IF(ISTEXT(H325),CONCATENATE(B324,\" \",C324,\" \",D324,\" \",E324,\" \",F324,\" = \",H324),\"\")","v":"150 03 01 01  = Anti Enfeksiyon İlaçları"}]
[null,150,"03","01","01","01",null,"Antibiyotikler",null,"150 03 01 01 01 = Antibiyotikler"]
[null,150,"03","01","01","02",null,"Amibisidler ve Trikomonasidler ve Antiprotozolalar",null,"150 03 01 01 02 = Amibisidler ve Trikomonasidler ve Antiprotozolalar"]
[null,150,"03","01","01","03",null,"Antihelmintikler ve Diğer Antiparaziterler",null,"150 03 01 01 03 = Antihelmintikler ve Diğer Antiparaziterler"]
[null,150,"03","01","01","04",null,"Antifungal İlaçlar",null,"150 03 01 01 04 = Antifungal İlaçlar"]
[null,150,"03","01","01","05",null,"Antimalaryal İlaçlar",null,"150 03 01 01 05 = Antimalaryal İlaçlar"]
[null,150,"03","01","01","06",null,"Antitüberküloz İlaçlar",null,"150 03 01 01 06 = Antitüberküloz İlaçlar"]
[null,150,"03","01","01","07",null,"Leprostatikler",null,"150 03 01 01 07 = Leprostatikler"]
[null,150,"03","01","01","08",null,"Üriner Antienfektifler ve Analjezikler",null,"150 03 01 01 08 = Üriner Antienfektifler ve Analjezikler"]
[null,150,"03","01","01","09",null,"Antiviral İlaçlar",null,"150 03 01 01 09 = Antiviral İlaçlar"]
[null,150,"03","01","01","10",null,"Oftalmik",null,"150 03 01 01 10 = Oftalmik"]
[null,150,"03","01","01","11",null,"Veterinerlik Antihelmintik",null,"150 03 01 01 11 = Veterinerlik Antihelmintik"]
[null,150,"03","01","01","12",null,"Veterinerlik Antibiyotikler",null,"150 03 01 01 12 = Veterinerlik Antibiyotikler"]
[null,150,"03","01","01",13,null,"Antiseptikler",null,"150 03 01 01 13 = Antiseptikler"]
[null,150,"03","01","01","99",null,"Diğer Anti Enfeksiyon İlaçları",null,"150 03 01 01 99 = Diğer Anti Enfeksiyon İlaçları"]
[null,150,"03","01","02",null,null,"Antineoplastik Ajanlar",null,"150 03 01 02  = Antineoplastik Ajanlar"]
[null,150,"03","01","02","01",null,"Alkile Edici Ajanlar",null,"150 03 01 02 01 = Alkile Edici Ajanlar"]
[null,150,"03","01","02","02",null,"Antimetabolitler",null,"150 03 01 02 02 = Antimetabolitler"]
[null,150,"03","01","02","03",null,"Antineoplastik Antibiyotikler",null,"150 03 01 02 03 = Antineoplastik Antibiyotikler"]
[null,150,"03","01","02","04",null,"Hormonlar ve Antihormonlar",null,"150 03 01 02 04 = Hormonlar ve Antihormonlar"]
[null,150,"03","01","02","05",null,"Doğal Antineoplastik Ürünler",null,"150 03 01 02 05 = Doğal Antineoplastik Ürünler"]
[null,150,"03","01","02","99",null,"Diğer Antineoplastik Ajanlar",null,"150 03 01 02 99 = Diğer Antineoplastik Ajanlar"]
[null,150,"03","01","03",null,null,"Kalp ve Damar Hastalıkları İçin İlaçlar",null,"150 03 01 03  = Kalp ve Damar Hastalıkları İçin İlaçlar"]
[null,150,"03","01","03","01",null,"Antiarrythmic İlaçlar",null,"150 03 01 03 01 = Antiarrythmic İlaçlar"]
[null,150,"03","01","03","02",null,"Antianginal İlaçlar",null,"150 03 01 03 02 = Antianginal İlaçlar"]
[null,150,"03","01","03","03",null,"AntiHypertensive İlaçlar",null,"150 03 01 03 03 = AntiHypertensive İlaçlar"]
[null,150,"03","01","03","04",null,"Vasodilator",null,"150 03 01 03 04 = Vasodilator"]
[null,150,"03","01","03","05",null,"Antihypotensive İlaçlar",null,"150 03 01 03 05 = Antihypotensive İlaçlar"]
[null,150,"03","01","03","06",null,"Cardioplegic Ajanlar",null,"150 03 01 03 06 = Cardioplegic Ajanlar"]
[null,150,"03","01","03","99",null,"Kalp ve Damar Hastalıkları İçin Diğer İlaçlar",null,"150 03 01 03 99 = Kalp ve Damar Hastalıkları İçin Diğer İlaçlar"]
[null,150,"03","01","04",null,null,"Kan İlaçları",null,"150 03 01 04  = Kan İlaçları"]
[null,150,"03","01","04","01",null,"Antiaritmikler",null,"150 03 01 04 01 = Antiaritmikler"]
[null,150,"03","01","04","02",null,"Antianjinal İlaçlar",null,"150 03 01 04 02 = Antianjinal İlaçlar"]
[null,150,"03","01","04","03",null,"Antihipertansif İlaçlar",null,"150 03 01 04 03 = Antihipertansif İlaçlar"]
[null,150,"03","01","04","04",null,"Trombolitik İlaçlar ve Trombosit Agregasyon İnhibitörleri",null,"150 03 01 04 04 = Trombolitik İlaçlar ve Trombosit Agregasyon İnhibitörleri"]
[null,150,"03","01","04","05",null,"Koagulanlar ve Sistemik Hemostatik Ajanlar",null,"150 03 01 04 05 = Koagulanlar ve Sistemik Hemostatik Ajanlar"]
[null,150,"03","01","04","06",null,"Kan ve Plazma Yerine Kullanılan İlaçlar ve Plazma Genişleticiler ",null,"150 03 01 04 06 = Kan ve Plazma Yerine Kullanılan İlaçlar ve Plazma Genişleticiler "]
[null,150,"03","01","04","07",null,"Hemorolojik Ajanlar",null,"150 03 01 04 07 = Hemorolojik Ajanlar"]
[null,150,"03","01","04","08",null,"Antihiperlipidemik ve Hiperkolesterolemik Ajanlar",null,"150 03 01 04 08 = Antihiperlipidemik ve Hiperkolesterolemik Ajanlar"]
[null,150,"03","01","04","99",null,"Diğer Kan İlaçları",null,"150 03 01 04 99 = Diğer Kan İlaçları"]
[null,150,"03","01","05",null,null,"Merkezi Sinir Sistemi İlaçları",null,"150 03 01 05  = Merkezi Sinir Sistemi İlaçları"]
[null,150,"03","01","05","01",null,"Antikonvulsanlar",null,"150 03 01 05 01 = Antikonvulsanlar"]
[null,150,"03","01","05","02",null,"Antidepresanlar",null,"150 03 01 05 02 = Antidepresanlar"]
[null,150,"03","01","05","03",null,"Antipsikotik Ajanlar",null,"150 03 01 05 03 = Antipsikotik Ajanlar"]
[null,150,"03","01","05","04",null,"Hipnotikler",null,"150 03 01 05 04 = Hipnotikler"]
[null,150,"03","01","05","05",null,"Tranklizanlar ve Antimanik ve Antianksiyete İlaçları",null,"150 03 01 05 05 = Tranklizanlar ve Antimanik ve Antianksiyete İlaçları"]
[null,150,"03","01","05","06",null,"Narkotık Olmayan Analjezikler ve Antipiretikler",null,"150 03 01 05 06 = Narkotık Olmayan Analjezikler ve Antipiretikler"]
[null,150,"03","01","05","07",null,"Nonsteroıdal Antı Inflamatuvar İlaçlar Nsaıdler",null,"150 03 01 05 07 = Nonsteroıdal Antı Inflamatuvar İlaçlar Nsaıdler"]
[null,150,"03","01","05","08",null,"Narcotık Analjezikler",null,"150 03 01 05 08 = Narcotık Analjezikler"]
[null,150,"03","01","05","09",null,"Narkotık Antagonıstler",null,"150 03 01 05 09 = Narkotık Antagonıstler"]
[null,150,"03","01","05","10",null,"Vasküler ve Migren Tipi Başağrılarında Kullanılan İlaçlar",null,"150 03 01 05 10 = Vasküler ve Migren Tipi Başağrılarında Kullanılan İlaçlar"]
[null,150,"03","01","05","11",null,"Antiparkinson İlaçlar",null,"150 03 01 05 11 = Antiparkinson İlaçlar"]
[null,150,"03","01","05",12,null,"Stimülanlar ve Anoreksiyanlar (İştah Kesiciler)",null,"150 03 01 05 12 = Stimülanlar ve Anoreksiyanlar (İştah Kesiciler)"]
[null,150,"03","01","05",13,null,"Veterinerlikte Kullanılan Nonsteroid Antienflamatuvar İlaçlar Vnsaidler",null,"150 03 01 05 13 = Veterinerlikte Kullanılan Nonsteroid Antienflamatuvar İlaçlar Vnsaidler"]
[null,150,"03","01","05",14,null,"Anti Amiyotrofık Lateral Skleroz ALS İlaçları",null,"150 03 01 05 14 = Anti Amiyotrofık Lateral Skleroz ALS İlaçları"]
[null,150,"03","01","05",15,null,"Anestetik İlaçlar ve Anesteziye Yardımcı İlaçlar ve Antiepileptikler",null,"150 03 01 05 15 = Anestetik İlaçlar ve Anesteziye Yardımcı İlaçlar ve Antiepileptikler"]
[null,150,"03","01","05","99",null,"Diğer Merkezi Sinir Sistemi İlaçları",null,"150 03 01 05 99 = Diğer Merkezi Sinir Sistemi İlaçları"]
[null,150,"03","01","06",null,null,"Otonom Sinir Sistemi İlaçları",null,"150 03 01 06  = Otonom Sinir Sistemi İlaçları"]
[null,150,"03","01","06","01",null,"Kolınerjık İlaçlar ve Kolınesteraz Inhıbıtorleri",null,"150 03 01 06 01 = Kolınerjık İlaçlar ve Kolınesteraz Inhıbıtorleri"]
[null,150,"03","01","06","02",null,"Kolınerjik Bloke Edici Ajanlar",null,"150 03 01 06 02 = Kolınerjik Bloke Edici Ajanlar"]
[null,150,"03","01","06","03",null,"Sempatomımetık veya Adrenerjik İlaçlar",null,"150 03 01 06 03 = Sempatomımetık veya Adrenerjik İlaçlar"]
[null,150,"03","01","06","04",null,"Adrenerjik Bloke Edici Ajanlar",null,"150 03 01 06 04 = Adrenerjik Bloke Edici Ajanlar"]
[null,150,"03","01","06","05",null,"Merkezi Etkili İskelet Kası Gevşeticileri ",null,"150 03 01 06 05 = Merkezi Etkili İskelet Kası Gevşeticileri "]
[null,150,"03","01","06","06",null,"Nöromusküler Bloke Edici Ajanlar",null,"150 03 01 06 06 = Nöromusküler Bloke Edici Ajanlar"]
[null,150,"03","01","06","99",null,"Diğer Otonom Sinir Sistemi İlaçları",null,{"$f":"IF(ISTEXT(H389),CONCATENATE(B388,\" \",C388,\" \",D388,\" \",E388,\" \",F388,\" = \",H388),\"\")","v":"150 03 01 06 99 = Diğer Otonom Sinir Sistemi İlaçları"}]
[null,150,"03","01","07",null,null,"Solunum Yollarına Etki Eden İlaçlar",null,"150 03 01 07  = Solunum Yollarına Etki Eden İlaçlar"]
[null,150,"03","01","07","01",null,"Antiastmatik İlaçlar",null,"150 03 01 07 01 = Antiastmatik İlaçlar"]
[null,150,"03","01","07","02",null,"Antihistaminikler veya H1 Blokerleri",null,"150 03 01 07 02 = Antihistaminikler veya H1 Blokerleri"]
[null,150,"03","01","07","03",null,"Solunum Yolu Hastalıklarında Kullanılan İlaçlar",null,"150 03 01 07 03 = Solunum Yolu Hastalıklarında Kullanılan İlaçlar"]
[null,150,"03","01","07","04",null,"Öksürük ve Soğuk Algınlığı ve Antialerji Ürünleri",null,"150 03 01 07 04 = Öksürük ve Soğuk Algınlığı ve Antialerji Ürünleri"]
[null,150,"03","01","07","05",null,"Nazal Dekonjestantlar",null,"150 03 01 07 05 = Nazal Dekonjestantlar"]
[null,150,"03","01","07","99",null,"Solunum Yollarına Etki Eden Diğer İlaçlar",null,"150 03 01 07 99 = Solunum Yollarına Etki Eden Diğer İlaçlar"]
[null,150,"03","01","08",null,null,"Mide ve Bağırsağa Etki Eden İlaçlar",null,"150 03 01 08  = Mide ve Bağırsağa Etki Eden İlaçlar"]
[null,150,"03","01","08","01",null,"Antasitler ve Gaz İlaçları",null,"150 03 01 08 01 = Antasitler ve Gaz İlaçları"]
[null,150,"03","01","08","02",null,"Laksatifler",null,"150 03 01 08 02 = Laksatifler"]
[null,150,"03","01","08","03",null,"Antidiyare İlaçları",null,"150 03 01 08 03 = Antidiyare İlaçları"]
[null,150,"03","01","08","04",null,"Bulantı ve Kusmaya Karşı Kullanılan ve Antivertigo İlaçları ",null,"150 03 01 08 04 = Bulantı ve Kusmaya Karşı Kullanılan ve Antivertigo İlaçları "]
[null,150,"03","01","08","05",null,"Antiulser ve İlişkili Gastrointestinal İlaçlar",null,"150 03 01 08 05 = Antiulser ve İlişkili Gastrointestinal İlaçlar"]
[null,150,"03","01","08","06",null,"Safra Kesesi Hastalıklarında Kullanılan İlaçlar",null,"150 03 01 08 06 = Safra Kesesi Hastalıklarında Kullanılan İlaçlar"]
[null,150,"03","01","08","07",null,"Antispazmolitikler",null,"150 03 01 08 07 = Antispazmolitikler"]
[null,150,"03","01","08","99",null,"Mide ve Bağırsağa Etki Eden Diğer İlaçlar",null,"150 03 01 08 99 = Mide ve Bağırsağa Etki Eden Diğer İlaçlar"]
[null,150,"03","01","09",null,null,"Hormonlar ve Hormon Antagonistleri",null,"150 03 01 09  = Hormonlar ve Hormon Antagonistleri"]
[null,150,"03","01","09","01",null,"Antidiyabetik Ajanlar ve Hiperglisemik Ajanlar",null,"150 03 01 09 01 = Antidiyabetik Ajanlar ve Hiperglisemik Ajanlar"]
[null,150,"03","01","09","02",null,"Tiroid ve Antitiroid İlaçları",null,"150 03 01 09 02 = Tiroid ve Antitiroid İlaçları"]
[null,150,"03","01","09","03",null,"Kortikosteroidler",null,"150 03 01 09 03 = Kortikosteroidler"]
[null,150,"03","01","09","04",null,"Östrojenler ve Progestinler ve İnternal Kontraseptifler",null,"150 03 01 09 04 = Östrojenler ve Progestinler ve İnternal Kontraseptifler"]
[null,150,"03","01","09","05",null,"Gonadotropik Hormonlar ve Ovariyan Stimule Ediciler ve İnhibitörleri",null,"150 03 01 09 05 = Gonadotropik Hormonlar ve Ovariyan Stimule Ediciler ve İnhibitörleri"]
[null,150,"03","01","09","06",null,"Androjenler ve Androjen İnhibitörleri",null,"150 03 01 09 06 = Androjenler ve Androjen İnhibitörleri"]
[null,150,"03","01","09","07",null,"Posterior Pitüiter Hormonlar",null,"150 03 01 09 07 = Posterior Pitüiter Hormonlar"]
[null,150,"03","01","09","08",null,"Doğumu İndükleyen İlaçlar",null,"150 03 01 09 08 = Doğumu İndükleyen İlaçlar"]
[null,150,"03","01","09","09",null,"Büyüme Hormonları ve İnhibitörleri",null,"150 03 01 09 09 = Büyüme Hormonları ve İnhibitörleri"]
[null,150,"03","01","09","10",null,"Kalsiyum Tuzları ve Kalsiyum Düzenleyiciler",null,"150 03 01 09 10 = Kalsiyum Tuzları ve Kalsiyum Düzenleyiciler"]
[null,150,"03","01","09","99",null,"Diğer Hormonlar ve Hormon Antagonistleri",null,"150 03 01 09 99 = Diğer Hormonlar ve Hormon Antagonistleri"]
[null,150,"03","01",10,null,null,"Sıvıya ve Elektrolite Etki Eden İlaçlar",null,"150 03 01 10  = Sıvıya ve Elektrolite Etki Eden İlaçlar"]
[null,150,"03","01",10,"01",null,"Diüretikler",null,"150 03 01 10 01 = Diüretikler"]
[null,150,"03","01",10,"02",null,"Elektrolitler",null,"150 03 01 10 02 = Elektrolitler"]
[null,150,"03","01",10,"03",null,"Alkalize Edici Ajanlar",null,"150 03 01 10 03 = Alkalize Edici Ajanlar"]
[null,150,"03","01",10,"04",null,"Potasyum Tuzları",null,"150 03 01 10 04 = Potasyum Tuzları"]
[null,150,"03","01",10,"05",null,"Dıyet Destekleri ve Beslenme Terapisi Ürünleri",null,"150 03 01 10 05 = Dıyet Destekleri ve Beslenme Terapisi Ürünleri"]
[null,150,"03","01",10,"99",null,"Sıvıya ve Elektrolite Etki Eden Diğer İlaçlar",null,"150 03 01 10 99 = Sıvıya ve Elektrolite Etki Eden Diğer İlaçlar"]
[null,150,"03","01",11,null,null,"İmmun Modüle Edici İlaçlar",null,"150 03 01 11  = İmmun Modüle Edici İlaçlar"]
[null,150,"03","01",11,"01",null,"İmmuno pressanlar - İmmun Baskılayıcılar",null,"150 03 01 11 01 = İmmuno pressanlar - İmmun Baskılayıcılar"]
[null,150,"03","01",11,"02",null,"Aşılar ve Antijenler ve Toksoidler",null,"150 03 01 11 02 = Aşılar ve Antijenler ve Toksoidler"]
[null,150,"03","01",11,"03",null,"Poultry Aşıları",null,"150 03 01 11 03 = Poultry Aşıları"]
[null,150,"03","01",11,"04",null,"İmmuno stimule Edici Ajanlar",null,"150 03 01 11 04 = İmmuno stimule Edici Ajanlar"]
[null,150,"03","01",11,"05",null,"Multipl Skleroz MS Ajanları",null,"150 03 01 11 05 = Multipl Skleroz MS Ajanları"]
[null,150,"03","01",11,"99",null,"İmmun Modüle Edici Diğer İlaçlar",null,"150 03 01 11 99 = İmmun Modüle Edici Diğer İlaçlar"]
[null,150,"03","01",12,null,null,"Muhtelif İlaç Kategorileri",null,"150 03 01 12  = Muhtelif İlaç Kategorileri"]
[null,150,"03","01",12,"01",null,"Antigut İlaçları",null,"150 03 01 12 01 = Antigut İlaçları"]
[null,150,"03","01",12,"02",null,"Antidotlar",null,"150 03 01 12 02 = Antidotlar"]
[null,150,"03","01",12,"03",null,"Veterinerlikte Kullanılan Anestetik İlaçlar",null,"150 03 01 12 03 = Veterinerlikte Kullanılan Anestetik İlaçlar"]
[null,150,"03","01",12,"04",null,"Bitkisel Kaynaklı (Herbal) İlaçlar",null,"150 03 01 12 04 = Bitkisel Kaynaklı (Herbal) İlaçlar"]
[null,150,"03","01",12,"05",null,"Dental İlaçlar",null,"150 03 01 12 05 = Dental İlaçlar"]
[null,150,"03","01",12,"06",null,"Anti Abuse İlaçlar – Bağımlılıkta Kullanılan İlaçlar",null,"150 03 01 12 06 = Anti Abuse İlaçlar – Bağımlılıkta Kullanılan İlaçlar"]
[null,150,"03","01",12,"07",null,"Tanı Amaçlı Kullanılan (Diyagnostik) Ajanlar ve Radyofarmasötikler ",null,"150 03 01 12 07 = Tanı Amaçlı Kullanılan (Diyagnostik) Ajanlar ve Radyofarmasötikler "]
[null,150,"03","01",12,"08",null,"Seksüel Bozukluk Tedavisinde Kullanılan İlaçlar",null,"150 03 01 12 08 = Seksüel Bozukluk Tedavisinde Kullanılan İlaçlar"]
[null,150,"03","01",12,"99",null,"Diğer Muhtelif İlaçlar",null,"150 03 01 12 99 = Diğer Muhtelif İlaçlar"]
[null,150,"03","01",13,null,null,"Kulağa , Göze , Buruna ve Deriye Etki Eden İlaçlar",null,"150 03 01 13  = Kulağa , Göze , Buruna ve Deriye Etki Eden İlaçlar"]
[null,150,"03","01",13,"01",null,"Kulak Preparatları",null,"150 03 01 13 01 = Kulak Preparatları"]
[null,150,"03","01",13,"02",null,"Oftalmik Ajanlar",null,"150 03 01 13 02 = Oftalmik Ajanlar"]
[null,150,"03","01",13,"03",null,"Dermatolojik Ajanlar",null,"150 03 01 13 03 = Dermatolojik Ajanlar"]
[null,150,"03","01",13,"04",null,"Astranjanlar",null,"150 03 01 13 04 = Astranjanlar"]
[null,150,"03","01",13,"99",null,"Kulağa , Göze , Buruna ve Deriye Etki Eden Diğer İlaçlar",null,"150 03 01 13 99 = Kulağa , Göze , Buruna ve Deriye Etki Eden Diğer İlaçlar"]
[null,150,"03","01",14,null,null,"Veteriner Beslenmeye İlişkin Ekler",null,"150 03 01 14  = Veteriner Beslenmeye İlişkin Ekler"]
[null,150,"03","01","99",null,null,"Diğer İlaçlar ve Farmakolojik Ürünler",null,"150 03 01 99  = Diğer İlaçlar ve Farmakolojik Ürünler"]
[null,150,"03","02",null,null,null,"Biyokimyasallar ve Gaz Maddeleri  İçeren Kimyasallar",null,"150 03 02   = Biyokimyasallar ve Gaz Maddeleri  İçeren Kimyasallar"]
[null,150,"03","02","01",null,null,"İnorganik Asit ve Anidritler",null,"150 03 02 01  = İnorganik Asit ve Anidritler"]
[null,150,"03","02","02",null,null,"İnorganik Alkaliler ve Hidroksitler",null,"150 03 02 02  = İnorganik Alkaliler ve Hidroksitler"]
[null,150,"03","02","03",null,null,"Sodyum Türevleri",null,{"$f":"IF(ISTEXT(H453),CONCATENATE(B452,\" \",C452,\" \",D452,\" \",E452,\" \",F452,\" = \",H452),\"\")","v":"150 03 02 03  = Sodyum Türevleri"}]
[null,150,"03","02","04",null,null,"Kalsiyum, Strontiyum ve Talyum Türevleri",null,"150 03 02 04  = Kalsiyum, Strontiyum ve Talyum Türevleri"]
[null,150,"03","02","05",null,null,"Potasyum ve Amonyum Türevleri",null,"150 03 02 05  = Potasyum ve Amonyum Türevleri"]
[null,150,"03","02","06",null,null,"Demir Türevleri ve Çelik Alaşımların Bileşenleri ",null,"150 03 02 06  = Demir Türevleri ve Çelik Alaşımların Bileşenleri "]
[null,150,"03","02","07",null,null,"Ağır Metal Türevleri, Demir Madeni Hariç ",null,"150 03 02 07  = Ağır Metal Türevleri, Demir Madeni Hariç "]
[null,150,"03","02","08",null,null,"Hafif Metal Türevleri",null,"150 03 02 08  = Hafif Metal Türevleri"]
[null,150,"03","02","09",null,null,"NDA Metallerin Türevleri ",null,"150 03 02 09  = NDA Metallerin Türevleri "]
[null,150,"03","02","10",null,null,"Baryum, Bor, Brom, Klor, Fluor, İyot ve Selenyum Türevleri ",null,"150 03 02 10  = Baryum, Bor, Brom, Klor, Fluor, İyot ve Selenyum Türevleri "]
[null,150,"03","02","11",null,null,"Fosfor, Kükürt, Kömür, Silisyum ve Sezyum Türevleri ",null,"150 03 02 11  = Fosfor, Kükürt, Kömür, Silisyum ve Sezyum Türevleri "]
[null,150,"03","02","12",null,null,"Sıkıştırılmış ve Sıvılaştırılmış Gazlar. Soğutucu Kimyevî Ürünler.",null,"150 03 02 12  = Sıkıştırılmış ve Sıvılaştırılmış Gazlar. Soğutucu Kimyevî Ürünler."]
[null,150,"03","02","13",null,null,"Organik Asitler, Anidritleri ve Halojenürleri ( Sıvı )",null,"150 03 02 13  = Organik Asitler, Anidritleri ve Halojenürleri ( Sıvı )"]
[null,150,"03","02","14",null,null,"Halojenli Hidrokarbürler ve Türevleri ",null,"150 03 02 14  = Halojenli Hidrokarbürler ve Türevleri "]
[null,150,"03","02","15",null,null,"Alkoller ve Epoksitler ",null,"150 03 02 15  = Alkoller ve Epoksitler "]
[null,150,"03","02","16",null,null,"Fenoller, Polifenoller, Eterler, Aldehitler, Ketonlar, Kuinonlar ",null,"150 03 02 16  = Fenoller, Polifenoller, Eterler, Aldehitler, Ketonlar, Kuinonlar "]
[null,150,"03","02","17",null,null,"NES İçeren Aminler, Tuzlar, Amitler ve Diğer Nitrojen Bileşenleri ",null,"150 03 02 17  = NES İçeren Aminler, Tuzlar, Amitler ve Diğer Nitrojen Bileşenleri "]
[null,150,"03","02","18",null,null,"Organik Asitlerin Esterleri ve Tuzları ",null,"150 03 02 18  = Organik Asitlerin Esterleri ve Tuzları "]
[null,150,"03","02","19",null,null,"Katalizörler ",null,"150 03 02 19  = Katalizörler "]
[null,150,"03","02","20",null,null,"Çeşitli Organik Kimyasallar. Mineral ve Organo-Metalik Bileşenler ",null,"150 03 02 20  = Çeşitli Organik Kimyasallar. Mineral ve Organo-Metalik Bileşenler "]
[null,150,"03","02","21",null,null,"Solventler",null,"150 03 02 21  = Solventler"]
[null,150,"03","02","22",null,null,"Yüzey Aktifler",null,"150 03 02 22  = Yüzey Aktifler"]
[null,150,"03","02","23",null,null,"Aromatik Ara Maddeleri",null,"150 03 02 23  = Aromatik Ara Maddeleri"]
[null,150,"03","02","99",null,null," Biyokimyasallar ve Gaz Maddeleri  İçeren Diğer Kimyasallar",null,"150 03 02 99  =  Biyokimyasallar ve Gaz Maddeleri  İçeren Diğer Kimyasallar"]
[null,150,"03","03",null,null,null,"Medikal Malzemeler",null,"150 03 03   = Medikal Malzemeler"]
[null,150,"03","03","01",null,null,"Medikal Sarf Malzemeleri",null,"150 03 03 01  = Medikal Sarf Malzemeleri"]
[null,150,"03","03","01","01",null,"Enjektörler ve Atık Kutuları",null,"150 03 03 01 01 = Enjektörler ve Atık Kutuları"]
[null,150,"03","03","01","02",null,"Ateş Ölçerler",null,"150 03 03 01 02 = Ateş Ölçerler"]
[null,150,"03","03","01","03",null,"Flasterler",null,"150 03 03 01 03 = Flasterler"]
[null,150,"03","03","01","04",null,"Elastik Bandajlar",null,"150 03 03 01 04 = Elastik Bandajlar"]
[null,150,"03","03","01","05",null,"Sargı Bezleri",null,"150 03 03 01 05 = Sargı Bezleri"]
[null,150,"03","03","01","06",null,"Gazlı Bezler",null,"150 03 03 01 06 = Gazlı Bezler"]
[null,150,"03","03","01","07",null,"Sondalar",null,"150 03 03 01 07 = Sondalar"]
[null,150,"03","03","01","08",null,"Piller",null,"150 03 03 01 08 = Piller"]
[null,150,"03","03","01","09",null,"Test Malzeme ve Kitleri ile Deney Tüpleri",null,"150 03 03 01 09 = Test Malzeme ve Kitleri ile Deney Tüpleri"]
[null,150,"03","03","01","10",null,"Tıbbi Amaçlı Nakil ve Depolama Kapları",null,"150 03 03 01 10 = Tıbbi Amaçlı Nakil ve Depolama Kapları"]
[null,150,"03","03","01","99",null,"Diğer Medikal Sarf Malzemleri",null,"150 03 03 01 99 = Diğer Medikal Sarf Malzemleri"]
[null,150,"03","03","02",null,null,"Tıbbi Donanım Aksesuarları, Malzemeleri ve Ürünleri",null,"150 03 03 02  = Tıbbi Donanım Aksesuarları, Malzemeleri ve Ürünleri"]
[null,150,"03","03","02","01",null,"Veterinerlik Donanımı ve Malzemeleri",null,"150 03 03 02 01 = Veterinerlik Donanımı ve Malzemeleri"]
[null,150,"03","03","02","02",null,"Hasta Bakım ve Tedavi Ürünleri ve Malzemeleri",null,"150 03 03 02 02 = Hasta Bakım ve Tedavi Ürünleri ve Malzemeleri"]
[null,150,"03","03","02","03",null,"Diş Donanımı ve Malzemeleri",null,"150 03 03 02 03 = Diş Donanımı ve Malzemeleri"]
[null,150,"03","03","02","04",null,"Diyaliz Donanımı ve Malzemeleri",null,"150 03 03 02 04 = Diyaliz Donanımı ve Malzemeleri"]
[null,150,"03","03","02","05",null,"Acil ve Saha Tıbbi Hizmetleri İçin Ürünler",null,"150 03 03 02 05 = Acil ve Saha Tıbbi Hizmetleri İçin Ürünler"]
[null,150,"03","03","02","06",null,"Hasta İnceleme ve İzlemeye Yönelik Ürünler",null,"150 03 03 02 06 = Hasta İnceleme ve İzlemeye Yönelik Ürünler"]
[null,150,"03","03","02","07",null,"Tıbbi Tesis Ürünleri",null,"150 03 03 02 07 = Tıbbi Tesis Ürünleri"]
[null,150,"03","03","02","08",null,"Tıbbi Tanısal Görüntüleme ve Nükleer Tıp Ürünleri",null,"150 03 03 02 08 = Tıbbi Tanısal Görüntüleme ve Nükleer Tıp Ürünleri"]
[null,150,"03","03","02","09",null,"Fiziksel Engelliler İçin Bağımsız Yaşam Yardımcıları",null,"150 03 03 02 09 = Fiziksel Engelliler İçin Bağımsız Yaşam Yardımcıları"]
[null,150,"03","03","02","10",null,"İntravenöz ve Arteryel Uygulama Ürünleri",null,"150 03 03 02 10 = İntravenöz ve Arteryel Uygulama Ürünleri"]
[null,150,"03","03","02","11",null,"Klinik Beslenme Ürünleri ve Malzemeleri",null,"150 03 03 02 11 = Klinik Beslenme Ürünleri ve Malzemeleri"]
[null,150,"03","03","02","12",null,"Ortopedi, Protez ve Spor Hekimliği Ürünleri",null,"150 03 03 02 12 = Ortopedi, Protez ve Spor Hekimliği Ürünleri"]
[null,150,"03","03","02","13",null,"Fiziksel, Uğraş Terapisi ve Rehabilitasyon Ürünleri",null,"150 03 03 02 13 = Fiziksel, Uğraş Terapisi ve Rehabilitasyon Ürünleri"]
[null,150,"03","03","02","14",null,"Ceset ve Morg Donanımı ve Malzemeleri",null,"150 03 03 02 14 = Ceset ve Morg Donanımı ve Malzemeleri"]
[null,150,"03","03","02","15",null,"Solunum, Anestezi ve Resüsitasyon Ürünleri",null,"150 03 03 02 15 = Solunum, Anestezi ve Resüsitasyon Ürünleri"]
[null,150,"03","03","02","16",null,"Tıbbi Sterilizasyon Ürünleri",null,"150 03 03 02 16 = Tıbbi Sterilizasyon Ürünleri"]
[null,150,"03","03","02","17",null,"Cerrahi Ürünler",null,"150 03 03 02 17 = Cerrahi Ürünler"]
[null,150,"03","03","02","18",null,"Tıbbi Eğitim ve Uygulama Malzemeleri",null,"150 03 03 02 18 = Tıbbi Eğitim ve Uygulama Malzemeleri"]
[null,150,"03","03","02","19",null,"Yara Bakım Ürünleri",null,"150 03 03 02 19 = Yara Bakım Ürünleri"]
[null,150,"03","03","02","99",null,"Diğer Tıbbi Donanım Aksesuarları, Malzemeleri ve Ürünleri",null,"150 03 03 02 99 = Diğer Tıbbi Donanım Aksesuarları, Malzemeleri ve Ürünleri"]
[null,150,"03","03","99",null,null,"Diğer Medikal Malzemeler",null,"150 03 03 99  = Diğer Medikal Malzemeler"]
[null,150,"03","04",null,null,null,"Laboratuvar Malzemeleri",null,"150 03 04   = Laboratuvar Malzemeleri"]
[null,150,"04",null,null,null,null,"Yakıtlar, Yakıt Katkıları ve Katkı Yağlar Grubu ",null,"150 04    = Yakıtlar, Yakıt Katkıları ve Katkı Yağlar Grubu "]
[null,150,"04","01",null,null,null,"Katı Yakıtlar",null,"150 04 01   = Katı Yakıtlar"]
[null,150,"04","01","01",null,null,"Odunlar",null,"150 04 01 01  = Odunlar"]
[null,150,"04","01","02",null,null,"Çıralar",null,"150 04 01 02  = Çıralar"]
[null,150,"04","01","03",null,null,"Kömürler",null,"150 04 01 03  = Kömürler"]
[null,150,"04","01","99",null,null,"Diğer Katı Yakıtlar",null,"150 04 01 99  = Diğer Katı Yakıtlar"]
[null,150,"04","02",null,null,null,"Sıvı Yakıtlar",null,{"$f":"IF(ISTEXT(H517),CONCATENATE(B516,\" \",C516,\" \",D516,\" \",E516,\" \",F516,\" = \",H516),\"\")","v":"150 04 02   = Sıvı Yakıtlar"}]
[null,150,"04","02","01",null,null,"Benzinler",null,"150 04 02 01  = Benzinler"]
[null,150,"04","02","02",null,null,"Mazotlar",null,"150 04 02 02  = Mazotlar"]
[null,150,"04","02","03",null,null,"Gazyağları",null,"150 04 02 03  = Gazyağları"]
[null,150,"04","02","04",null,null,"Fuel Oiller",null,"150 04 02 04  = Fuel Oiller"]
[null,150,"04","02","99",null,null,"Diğer Sıvı Yakıtlar",null,"150 04 02 99  = Diğer Sıvı Yakıtlar"]
[null,150,"04","03",null,null,null,"Gaz Yakıtlar",null,"150 04 03   = Gaz Yakıtlar"]
[null,150,"04","03","01",null,null,"Doğalgazlar",null,"150 04 03 01  = Doğalgazlar"]
[null,150,"04","03","02",null,null,"Tüp Gazlar (LPG)",null,"150 04 03 02  = Tüp Gazlar (LPG)"]
[null,150,"04","03","99",null,null,"Diğer Gaz Yakıtlar",null,"150 04 03 99  = Diğer Gaz Yakıtlar"]
[null,150,"04","04",null,null,null,"Yağlar ve Katkı Yağlar",null,"150 04 04   = Yağlar ve Katkı Yağlar"]
[null,150,"04","04","01",null,null,"Madeni Yağlar",null,"150 04 04 01  = Madeni Yağlar"]
[null,150,"04","04","01","01",null,"Genel Makine Yağları",null,"150 04 04 01 01 = Genel Makine Yağları"]
[null,150,"04","04","01","02",null,"Dişli Yağları",null,"150 04 04 01 02 = Dişli Yağları"]
[null,150,"04","04","01","03",null,"Kompresör, Turbin, Pnömatik ve Şanzıman Yağları",null,"150 04 04 01 03 = Kompresör, Turbin, Pnömatik ve Şanzıman Yağları"]
[null,150,"04","04","01","04",null,"Takım Tezgahı ve Kızak Yağları",null,"150 04 04 01 04 = Takım Tezgahı ve Kızak Yağları"]
[null,150,"04","04","01","05",null,"Metal İşleme Yağları",null,"150 04 04 01 05 = Metal İşleme Yağları"]
[null,150,"04","04","01","06",null,"Gres Yağları",null,"150 04 04 01 06 = Gres Yağları"]
[null,150,"04","04","01","07",null,"Motor Yağları",null,"150 04 04 01 07 = Motor Yağları"]
[null,150,"04","04","01","08",null,"Hidrolik Yağları",null,"150 04 04 01 08 = Hidrolik Yağları"]
[null,150,"04","04","01","99",null,"Diğer Madeni Yağlar",null,"150 04 04 01 99 = Diğer Madeni Yağlar"]
[null,150,"04","04","02",null,null,"Yağ ve Yakıt Katkıları",null,"150 04 04 02  = Yağ ve Yakıt Katkıları"]
[null,150,"04","04","02","01",null,"Motor Yağı Katkıları",null,"150 04 04 02 01 = Motor Yağı Katkıları"]
[null,150,"04","04","02","02",null,"Şanzıman Katkıları",null,"150 04 04 02 02 = Şanzıman Katkıları"]
[null,150,"04","04","02","03",null,"Antfrizler",null,"150 04 04 02 03 = Antfrizler"]
[null,150,"04","04","02","99",null,"Diğer Yağ ve Yakıt Katkıları",null,"150 04 04 02 99 = Diğer Yağ ve Yakıt Katkıları"]
[null,150,"04","04","99",null,null,"Diğer Yağlar ve Katkı Yağlar",null,"150 04 04 99  = Diğer Yağlar ve Katkı Yağlar"]
[null,150,"04","05",null,null,null,"Kimyevi Maddeler",null,"150 04 05   = Kimyevi Maddeler"]
[null,150,"04","05","01",null,null,"Eterler",null,"150 04 05 01  = Eterler"]
[null,150,"04","05","02",null,null,"Saf Alkoller",null,"150 04 05 02  = Saf Alkoller"]
[null,150,"04","05","03",null,null,"İspirtolar",null,"150 04 05 03  = İspirtolar"]
[null,150,"04","05","99",null,null,"Diğer Kimyevi Maddeler",null,"150 04 05 99  = Diğer Kimyevi Maddeler"]
[null,150,"05",null,null,null,null,"Temizleme Ekipmanları Grubu ",null,"150 05    = Temizleme Ekipmanları Grubu "]
[null,150,"05","01",null,null,null,"Temizlik Malzemeleri",null,"150 05 01   = Temizlik Malzemeleri"]
[null,150,"05","01","01",null,null,"Temizleme Tüyleri",null,"150 05 01 01  = Temizleme Tüyleri"]
[null,150,"05","01","02",null,null,"Temizlik Bezleri",null,"150 05 01 02  = Temizlik Bezleri"]
[null,150,"05","01","03",null,null,"Temizlik Süngerleri",null,"150 05 01 03  = Temizlik Süngerleri"]
[null,150,"05","01","04",null,null,"Temizlik Telleri",null,"150 05 01 04  = Temizlik Telleri"]
[null,150,"05","01","05",null,null,"Lastik Eldivenler",null,"150 05 01 05  = Lastik Eldivenler"]
[null,150,"05","01","06",null,null,"Kazıyıcı Yedek Uçları",null,"150 05 01 06  = Kazıyıcı Yedek Uçları"]
[null,150,"05","01","07",null,null,"Kağıt Temizlik Ürünleri",null,"150 05 01 07  = Kağıt Temizlik Ürünleri"]
[null,150,"05","01","08",null,null,"Hijyenik Ürünler",null,"150 05 01 08  = Hijyenik Ürünler"]
[null,150,"05","01","99",null,null,"Diğer Temizlik Malzemeleri",null,"150 05 01 99  = Diğer Temizlik Malzemeleri"]
[null,150,"05","02",null,null,null,"Temizlik Araç ve Gereçleri",null,"150 05 02   = Temizlik Araç ve Gereçleri"]
[null,150,"05","02","01",null,null,"Atık Toplama Araçları ile Muhafazalı Kaplar",null,"150 05 02 01  = Atık Toplama Araçları ile Muhafazalı Kaplar"]
[null,150,"05","02","01","01",null,"Çöp Kutuları ve Kovaları",null,"150 05 02 01 01 = Çöp Kutuları ve Kovaları"]
[null,150,"05","02","01","02",null,"Atık Konteynırları",null,"150 05 02 01 02 = Atık Konteynırları"]
[null,150,"05","02","01","03",null,"Küllükler",null,"150 05 02 01 03 = Küllükler"]
[null,150,"05","02","01","04",null,"Sıhhi Malzeme Kutuları",null,"150 05 02 01 04 = Sıhhi Malzeme Kutuları"]
[null,150,"05","02","01","05",null,"Çöp Torbaları",null,"150 05 02 01 05 = Çöp Torbaları"]
[null,150,"05","02","01","06",null,"Temizlik Kovaları ve Leğenleri",null,"150 05 02 01 06 = Temizlik Kovaları ve Leğenleri"]
[null,150,"05","02","01","07",null,"Maşrapalar",null,"150 05 02 01 07 = Maşrapalar"]
[null,150,"05","02","01","08",null,"Kağıt Havlu Kutuları",null,"150 05 02 01 08 = Kağıt Havlu Kutuları"]
[null,150,"05","02","01","09",null,"Kağıt Mendil Kutuları",null,"150 05 02 01 09 = Kağıt Mendil Kutuları"]
[null,150,"05","02","01","10",null,"Tuvalet Kağıdı Kutuları",null,"150 05 02 01 10 = Tuvalet Kağıdı Kutuları"]
[null,150,"05","02","01","11",null,"Sabun ve Losyon Kapları",null,"150 05 02 01 11 = Sabun ve Losyon Kapları"]
[null,150,"05","02","01","99",null,"Diğer Atık Toplama Araçları İle Muhafazalı Kaplar",null,"150 05 02 01 99 = Diğer Atık Toplama Araçları İle Muhafazalı Kaplar"]
[null,150,"05","02","02",null,null,"Süpürge, Fırça, Paspas ve Emici Malzemeler ile Aksesuarları",null,"150 05 02 02  = Süpürge, Fırça, Paspas ve Emici Malzemeler ile Aksesuarları"]
[null,150,"05","02","02","01",null,"Süpürgeler ve Ekipmanları",null,"150 05 02 02 01 = Süpürgeler ve Ekipmanları"]
[null,150,"05","02","02","02",null,"Fırçalar",null,"150 05 02 02 02 = Fırçalar"]
[null,150,"05","02","02","03",null,"Paspaslar",null,"150 05 02 02 03 = Paspaslar"]
[null,150,"05","02","02","04",null,"Emici Malzemeler ",null,"150 05 02 02 04 = Emici Malzemeler "]
[null,150,"05","02","02","99",null,"Diğer Süpürge, Fırça, Paspas ve Emici Malzemeler ile Aksesuarları",null,"150 05 02 02 99 = Diğer Süpürge, Fırça, Paspas ve Emici Malzemeler ile Aksesuarları"]
[null,150,"05","02","03",null,null,"Yün ve Tüy Toplama Araçları",null,"150 05 02 03  = Yün ve Tüy Toplama Araçları"]
[null,150,"05","02","04",null,null,"Kanalizasyon ve Boru Temizleme Ekipmanları",null,{"$f":"IF(ISTEXT(H581),CONCATENATE(B580,\" \",C580,\" \",D580,\" \",E580,\" \",F580,\" = \",H580),\"\")","v":"150 05 02 04  = Kanalizasyon ve Boru Temizleme Ekipmanları"}]
[null,150,"05","02","05",null,null,"Kazıyıcılar",null,"150 05 02 05  = Kazıyıcılar"]
[null,150,"05","02","99",null,null,"Diğer Temizlik Araç ve Gereçleri",null,"150 05 02 99  = Diğer Temizlik Araç ve Gereçleri"]
[null,150,"05","03",null,null,null,"Temizleme ve Dezenfeksiyon Solüsyonları",null,"150 05 03   = Temizleme ve Dezenfeksiyon Solüsyonları"]
[null,150,"05","03","01",null,null,"Genel Amaçlı Temizleyiciler",null,"150 05 03 01  = Genel Amaçlı Temizleyiciler"]
[null,150,"05","03","01","01",null,"Sabunlar",null,"150 05 03 01 01 = Sabunlar"]
[null,150,"05","03","01","02",null,"Amonyaklı Temizleyiciler",null,"150 05 03 01 02 = Amonyaklı Temizleyiciler"]
[null,150,"05","03","01","03",null,"Beyazlatıcılar ",null,"150 05 03 01 03 = Beyazlatıcılar "]
[null,150,"05","03","01","04",null,"Leke Temizleyicileri veya Gidericileri",null,"150 05 03 01 04 = Leke Temizleyicileri veya Gidericileri"]
[null,150,"05","03","01","05",null,"Karbon, Yağ, Pas ve Kireç Sökücü Temizliyiciler",null,"150 05 03 01 05 = Karbon, Yağ, Pas ve Kireç Sökücü Temizliyiciler"]
[null,150,"05","03","01","06",null,"Yakıcı ve Aşındırıcı Temizleyiciler",null,"150 05 03 01 06 = Yakıcı ve Aşındırıcı Temizleyiciler"]
[null,150,"05","03","01","07",null,"Kuru Mikrop Öldürücüler",null,"150 05 03 01 07 = Kuru Mikrop Öldürücüler"]
[null,150,"05","03","01","08",null,"Petrol Ürünü Temizleyiciler",null,"150 05 03 01 08 = Petrol Ürünü Temizleyiciler"]
[null,150,"05","03","01","09",null,"Buz Çözücü ve Buğu Önleyiciler",null,"150 05 03 01 09 = Buz Çözücü ve Buğu Önleyiciler"]
[null,150,"05","03","01","10",null,"Cilalar",null,"150 05 03 01 10 = Cilalar"]
[null,150,"05","03","01","11",null,"Kolonyalar",null,"150 05 03 01 11 = Kolonyalar"]
[null,150,"05","03","01","12",null,"Dezenfektanlar ",null,"150 05 03 01 12 = Dezenfektanlar "]
[null,150,"05","03","01","99",null,"Diğer Genel Amaçlı Temizleyiciler",null,"150 05 03 01 99 = Diğer Genel Amaçlı Temizleyiciler"]
[null,150,"05","03","02",null,null,"Mutfak Grubu Temizlik Ürünleri",null,"150 05 03 02  = Mutfak Grubu Temizlik Ürünleri"]
[null,150,"05","03","02","01",null,"Mineralli Sıvı Temizleyiciler",null,"150 05 03 02 01 = Mineralli Sıvı Temizleyiciler"]
[null,150,"05","03","02","02",null,"Bulaşık Makine Deterjanları",null,"150 05 03 02 02 = Bulaşık Makine Deterjanları"]
[null,150,"05","03","02","03",null,"Elde Bulaşık Yıkama Sıvıları",null,"150 05 03 02 03 = Elde Bulaşık Yıkama Sıvıları"]
[null,150,"05","03","02","04",null,"Bulaşık Makine Parlatıcıları",null,"150 05 03 02 04 = Bulaşık Makine Parlatıcıları"]
[null,150,"05","03","02","99",null,"Mutfak Grubu Diğer Temizlik Ürünleri",null,"150 05 03 02 99 = Mutfak Grubu Diğer Temizlik Ürünleri"]
[null,150,"05","03","03",null,null,"Çamaşır Grubu Temizlik Ürünleri",null,"150 05 03 03  = Çamaşır Grubu Temizlik Ürünleri"]
[null,150,"05","03","03","01",null,"Çamaşır Yumuşatıcıları",null,"150 05 03 03 01 = Çamaşır Yumuşatıcıları"]
[null,150,"05","03","03","02",null,"Çamaşır Suları",null,"150 05 03 03 02 = Çamaşır Suları"]
[null,150,"05","03","03","03",null,"Matik Deterjanlar",null,"150 05 03 03 03 = Matik Deterjanlar"]
[null,150,"05","03","03","04",null,"Çamaşır ve Tül Beyazlatıcıları",null,"150 05 03 03 04 = Çamaşır ve Tül Beyazlatıcıları"]
[null,150,"05","03","03","05",null,"Çamaşır Elde Yıkama Toz Deterjanları",null,"150 05 03 03 05 = Çamaşır Elde Yıkama Toz Deterjanları"]
[null,150,"05","03","03","06",null,"Renkliler Leke Çıkarıcılar",null,"150 05 03 03 06 = Renkliler Leke Çıkarıcılar"]
[null,150,"05","03","03","07",null,"Toz Kireç Temizleyiciler",null,"150 05 03 03 07 = Toz Kireç Temizleyiciler"]
[null,150,"05","03","03","08",null,"Oksijen Bazlı Ağartıcılar ",null,"150 05 03 03 08 = Oksijen Bazlı Ağartıcılar "]
[null,150,"05","03","03","99",null,"Çamaşır Grubu Diğer Temizlik Ürünleri",null,"150 05 03 03 99 = Çamaşır Grubu Diğer Temizlik Ürünleri"]
[null,150,"05","03","04",null,null,"Kozmetik ve Kişisel Bakım Temizlik Ürünleri",null,"150 05 03 04  = Kozmetik ve Kişisel Bakım Temizlik Ürünleri"]
[null,150,"05","03","04","01",null,"Sabunlar",null,"150 05 03 04 01 = Sabunlar"]
[null,150,"05","03","04","02",null,"Saç Şampuanları",null,"150 05 03 04 02 = Saç Şampuanları"]
[null,150,"05","03","04","03",null,"Saç Kremleri",null,"150 05 03 04 03 = Saç Kremleri"]
[null,150,"05","03","04","04",null,"Saç Boyaları",null,"150 05 03 04 04 = Saç Boyaları"]
[null,150,"05","03","04","05",null,"Saç Spreyleri",null,"150 05 03 04 05 = Saç Spreyleri"]
[null,150,"05","03","04","06",null,"El ve Vücut Losyonları",null,"150 05 03 04 06 = El ve Vücut Losyonları"]
[null,150,"05","03","04","07",null,"Duş Jelleri",null,"150 05 03 04 07 = Duş Jelleri"]
[null,150,"05","03","04","08",null,"Joleler",null,"150 05 03 04 08 = Joleler"]
[null,150,"05","03","04","09",null,"Briyantinler",null,"150 05 03 04 09 = Briyantinler"]
[null,150,"05","03","04","10",null,"Parfümler",null,"150 05 03 04 10 = Parfümler"]
[null,150,"05","03","04","11",null,"Diş Macunları",null,"150 05 03 04 11 = Diş Macunları"]
[null,150,"05","03","04","12",null,"Diş Fırçaları",null,"150 05 03 04 12 = Diş Fırçaları"]
[null,150,"05","03","04","13",null,"Diş İpleri",null,"150 05 03 04 13 = Diş İpleri"]
[null,150,"05","03","04","14",null,"Makyaj Malzemeleri",null,"150 05 03 04 14 = Makyaj Malzemeleri"]
[null,150,"05","03","04","99",null,"Diğer Kozmetik ve Kişisel Bakım Temizlik Ürünleri",null,"150 05 03 04 99 = Diğer Kozmetik ve Kişisel Bakım Temizlik Ürünleri"]
[null,150,"05","03","05",null,null,"Oto Temizlik Ürünleri",null,"150 05 03 05  = Oto Temizlik Ürünleri"]
[null,150,"05","03","05","01",null,"Oto Şampuanları",null,"150 05 03 05 01 = Oto Şampuanları"]
[null,150,"05","03","05","02",null,"Torpido Parlatıcıları",null,"150 05 03 05 02 = Torpido Parlatıcıları"]
[null,150,"05","03","05","03",null,"Lastik Parlatıcıları",null,"150 05 03 05 03 = Lastik Parlatıcıları"]
[null,150,"05","03","05","04",null,"Oto Parfümleri",null,"150 05 03 05 04 = Oto Parfümleri"]
[null,150,"05","03","05","05",null,"Oto Pastaları",null,"150 05 03 05 05 = Oto Pastaları"]
[null,150,"05","03","05","06",null,"Oto Cilaları",null,"150 05 03 05 06 = Oto Cilaları"]
[null,150,"05","03","05","07",null,"Oto Kaporta Koruyucuları",null,"150 05 03 05 07 = Oto Kaporta Koruyucuları"]
[null,150,"05","03","05","08",null,"Oto Döşeme Koruyucular",null,"150 05 03 05 08 = Oto Döşeme Koruyucular"]
[null,150,"05","03","05","99",null,"Diğer Oto Temizlik Ürünleri",null,"150 05 03 05 99 = Diğer Oto Temizlik Ürünleri"]
[null,150,"05","03","06",null,null,"Cam veya Pencere Temizleyicileri",null,"150 05 03 06  = Cam veya Pencere Temizleyicileri"]
[null,150,"05","03","07",null,null,"Döşeme Temizleyicileri",null,"150 05 03 07  = Döşeme Temizleyicileri"]
[null,150,"05","03","08",null,null,"Mobilya Temizleyicileri",null,"150 05 03 08  = Mobilya Temizleyicileri"]
[null,150,"05","03","09",null,null,"Hava Temizleyiciler",null,"150 05 03 09  = Hava Temizleyiciler"]
[null,150,"05","03","10",null,null,"Metal Temizleyicileri veya Parlatıcıları",null,{"$f":"IF(ISTEXT(H645),CONCATENATE(B644,\" \",C644,\" \",D644,\" \",E644,\" \",F644,\" = \",H644),\"\")","v":"150 05 03 10  = Metal Temizleyicileri veya Parlatıcıları"}]
[null,150,"05","03","11",null,null,"Mücevher Temizleme Solüsyonları",null,"150 05 03 11  = Mücevher Temizleme Solüsyonları"]
[null,150,"05","03","99",null,null,"Diğer Temizleme ve Dezenfeksiyon Solüsyonları",null,"150 05 03 99  = Diğer Temizleme ve Dezenfeksiyon Solüsyonları"]
[null,150,"06",null,null,null,null,"Giyecek, Mefruşat ve Tuhafiye Malzemeleri Grubu",null,"150 06    = Giyecek, Mefruşat ve Tuhafiye Malzemeleri Grubu"]
[null,150,"06","01",null,null,null,"Giyecekler",null,"150 06 01   = Giyecekler"]
[null,150,"06","01","01",null,null,"Kıyafetler",null,"150 06 01 01  = Kıyafetler"]
[null,150,"06","01","01","01",null,"Pantolon veya Şortlar",null,"150 06 01 01 01 = Pantolon veya Şortlar"]
[null,150,"06","01","01","02",null,"Gömlek ve Bluzlar",null,"150 06 01 01 02 = Gömlek ve Bluzlar"]
[null,150,"06","01","01","03",null,"Süveterler",null,"150 06 01 01 03 = Süveterler"]
[null,150,"06","01","01","04",null,"Ceketler",null,"150 06 01 01 04 = Ceketler"]
[null,150,"06","01","01","05",null,"Takım Elbiseler",null,"150 06 01 01 05 = Takım Elbiseler"]
[null,150,"06","01","01","06",null,"Elbiseler ve Etekler ",null,"150 06 01 01 06 = Elbiseler ve Etekler "]
[null,150,"06","01","01","07",null,"Kaban ve Yağmurluklar",null,"150 06 01 01 07 = Kaban ve Yağmurluklar"]
[null,150,"06","01","01","08",null,"Tulumlar",null,"150 06 01 01 08 = Tulumlar"]
[null,150,"06","01","01","09",null,"Spor Kıyafetleri",null,"150 06 01 01 09 = Spor Kıyafetleri"]
[null,150,"06","01","01",10,null,"Gecelikler ve Bornozlar",null,"150 06 01 01 10 = Gecelikler ve Bornozlar"]
[null,150,"06","01","01",11,null,"Yerel Kıyafetler",null,"150 06 01 01 11 = Yerel Kıyafetler"]
[null,150,"06","01","01",12,null,"İç Çamaşırlar",null,"150 06 01 01 12 = İç Çamaşırlar"]
[null,150,"06","01","01",13,null,"Çoraplar ve Taytlar",null,"150 06 01 01 13 = Çoraplar ve Taytlar"]
[null,150,"06","01","01",14,null,"Giysi Aksesuarları",null,"150 06 01 01 14 = Giysi Aksesuarları"]
[null,150,"06","01","01",15,null,"Üniformalar ve İş Kıyafetleri",null,"150 06 01 01 15 = Üniformalar ve İş Kıyafetleri"]
[null,150,"06","01","01",16,null,"Tören Kıyafetleri",null,"150 06 01 01 16 = Tören Kıyafetleri"]
[null,150,"06","01","01",17,null,"Yüzme Giysileri",null,"150 06 01 01 17 = Yüzme Giysileri"]
[null,150,"06","01","01","99",null,"Diğer Kıyafetler",null,"150 06 01 01 99 = Diğer Kıyafetler"]
[null,150,"06","01","02",null,null,"Ayakkabılar, Terlikler ve Aksesuarları",null,"150 06 01 02  = Ayakkabılar, Terlikler ve Aksesuarları"]
[null,150,"06","01","02","01",null,"Botlar",null,"150 06 01 02 01 = Botlar"]
[null,150,"06","01","02","02",null,"Çizmeler",null,"150 06 01 02 02 = Çizmeler"]
[null,150,"06","01","02","03",null,"Ayakkabılar",null,"150 06 01 02 03 = Ayakkabılar"]
[null,150,"06","01","02","04",null,"Terlikler",null,"150 06 01 02 04 = Terlikler"]
[null,150,"06","01","02","05",null,"Sandaletler",null,"150 06 01 02 05 = Sandaletler"]
[null,150,"06","01","02","06",null,"Spor Ayakkabıları",null,"150 06 01 02 06 = Spor Ayakkabıları"]
[null,150,"06","01","02","07",null,"Ayakkabı Aksesuarları",null,"150 06 01 02 07 = Ayakkabı Aksesuarları"]
[null,150,"06","01","99",null,null,"Diğer Giyecekler",null,"150 06 01 99  = Diğer Giyecekler"]
[null,150,"06","02",null,null,null,"Mefruşat Ürünleri",null,"150 06 02   = Mefruşat Ürünleri"]
[null,150,"06","02","01",null,null,"Yatak Ürünleri",null,"150 06 02 01  = Yatak Ürünleri"]
[null,150,"06","02","01","01",null,"Yatak Örtüleri",null,"150 06 02 01 01 = Yatak Örtüleri"]
[null,150,"06","02","01","02",null,"Yatak Pedleri",null,"150 06 02 01 02 = Yatak Pedleri"]
[null,150,"06","02","01","03",null,"Çarşaflar",null,"150 06 02 01 03 = Çarşaflar"]
[null,150,"06","02","01","04",null,"Yastık Kılıfları",null,"150 06 02 01 04 = Yastık Kılıfları"]
[null,150,"06","02","01","05",null,"Pikeler",null,"150 06 02 01 05 = Pikeler"]
[null,150,"06","02","01","06",null,"Minderler",null,"150 06 02 01 06 = Minderler"]
[null,150,"06","02","01","07",null,"Cibinlikler",null,"150 06 02 01 07 = Cibinlikler"]
[null,150,"06","02","01","99",null,"Diğer Yatak Ürünleri",null,"150 06 02 01 99 = Diğer Yatak Ürünleri"]
[null,150,"06","02","02",null,null,"Masa ve Mutfak Örtüleri",null,"150 06 02 02  = Masa ve Mutfak Örtüleri"]
[null,150,"06","02","02","01",null,"Peçeteler",null,"150 06 02 02 01 = Peçeteler"]
[null,150,"06","02","02","02",null,"Masa Örtüleri ",null,"150 06 02 02 02 = Masa Örtüleri "]
[null,150,"06","02","02","03",null,"Fırın Eldiveni veya Tutacaklar",null,"150 06 02 02 03 = Fırın Eldiveni veya Tutacaklar"]
[null,150,"06","02","02","04",null,"Servis Altlıkları",null,"150 06 02 02 04 = Servis Altlıkları"]
[null,150,"06","02","02","99",null,"Diğer Masa ve Mutfak Örtüleri",null,"150 06 02 02 99 = Diğer Masa ve Mutfak Örtüleri"]
[null,150,"06","02","03",null,null,"Perde ve Perde Sistemleri",null,"150 06 02 03  = Perde ve Perde Sistemleri"]
[null,150,"06","02","03","01",null,"Perdeler ",null,"150 06 02 03 01 = Perdeler "]
[null,150,"06","02","03","02",null,"Panjur ve Gölgelikler",null,"150 06 02 03 02 = Panjur ve Gölgelikler"]
[null,150,"06","02","03","03",null,"Perde Sistemleri Aksesuarları ve Donanımları",null,"150 06 02 03 03 = Perde Sistemleri Aksesuarları ve Donanımları"]
[null,150,"06","02","03","99",null,"Diğer Perde ve Perde Sistemleri",null,"150 06 02 03 99 = Diğer Perde ve Perde Sistemleri"]
[null,150,"06","02","04",null,null,"Yer Döşemeleri",null,"150 06 02 04  = Yer Döşemeleri"]
[null,150,"06","02","05",null,null,"Havlular",null,"150 06 02 05  = Havlular"]
[null,150,"06","02","06",null,null,"Kumaşlar",null,"150 06 02 06  = Kumaşlar"]
[null,150,"06","02","06","01",null,"Perde Kumaşları",null,"150 06 02 06 01 = Perde Kumaşları"]
[null,150,"06","02","06","02",null,"Nevresim ve Çarşaf Kumaşları",null,"150 06 02 06 02 = Nevresim ve Çarşaf Kumaşları"]
[null,150,"06","02","06","03",null,"Yatak Örtüsü Kumaşları",null,"150 06 02 06 03 = Yatak Örtüsü Kumaşları"]
[null,150,"06","02","06","04",null,"Giyim Amaçlı Kumaşlar",null,"150 06 02 06 04 = Giyim Amaçlı Kumaşlar"]
[null,150,"06","02","06","05",null,"Döşemelik Kumaşlar",null,"150 06 02 06 05 = Döşemelik Kumaşlar"]
[null,150,"06","02","06","99",null,"Diğer Kumaşlar",null,"150 06 02 06 99 = Diğer Kumaşlar"]
[null,150,"06","02","99",null,null,"Diğer Mefruşat Ürünleri",null,"150 06 02 99  = Diğer Mefruşat Ürünleri"]
[null,150,"06","03",null,null,null,"Tuhafiye Malzemeleri",null,{"$f":"IF(ISTEXT(H709),CONCATENATE(B708,\" \",C708,\" \",D708,\" \",E708,\" \",F708,\" = \",H708),\"\")","v":"150 06 03   = Tuhafiye Malzemeleri"}]
[null,150,"06","03","01",null,null,"Dikiş Malzemeleri ve Aksesuarları",null,"150 06 03 01  = Dikiş Malzemeleri ve Aksesuarları"]
[null,150,"06","03","02",null,null,"Örgü Malzemeleri ve Aksesuarları",null,"150 06 03 02  = Örgü Malzemeleri ve Aksesuarları"]
[null,150,"06","03","03",null,null,"Nakış Malzemeleri ve Aksesuarları",null,"150 06 03 03  = Nakış Malzemeleri ve Aksesuarları"]
[null,150,"06","03","04",null,null,"Dokuma Malzemeleri ve Aksesuaraları",null,"150 06 03 04  = Dokuma Malzemeleri ve Aksesuaraları"]
[null,150,"06","03","99",null,null,"Diğer Tuhafiye Malzemeleri",null,"150 06 03 99  = Diğer Tuhafiye Malzemeleri"]
[null,150,"07",null,null,null,null,"Yiyecek Grubu",null,"150 07    = Yiyecek Grubu"]
[null,150,"07","01",null,null,null,"Bakliyat",null,"150 07 01   = Bakliyat"]
[null,150,"07","01","01",null,null,"Buğdaylar",null,"150 07 01 01  = Buğdaylar"]
[null,150,"07","01","02",null,null,"Bulgurlar",null,"150 07 01 02  = Bulgurlar"]
[null,150,"07","01","03",null,null,"Mısırlar",null,"150 07 01 03  = Mısırlar"]
[null,150,"07","01","04",null,null,"Pirinçler",null,"150 07 01 04  = Pirinçler"]
[null,150,"07","01","05",null,null,"Mercimekler",null,"150 07 01 05  = Mercimekler"]
[null,150,"07","01","06",null,null,"Fasülyeler",null,"150 07 01 06  = Fasülyeler"]
[null,150,"07","01","07",null,null,"Nohutlar",null,"150 07 01 07  = Nohutlar"]
[null,150,"07","01","99",null,null,"Diğer Bakliyat",null,"150 07 01 99  = Diğer Bakliyat"]
[null,150,"07","02",null,null,null,"Yemeklik Yağlar",null,"150 07 02   = Yemeklik Yağlar"]
[null,150,"07","02","01",null,null,"Sıvı Yağlar",null,"150 07 02 01  = Sıvı Yağlar"]
[null,150,"07","02","01","01",null,"Ayçiçek Yağları",null,"150 07 02 01 01 = Ayçiçek Yağları"]
[null,150,"07","02","01","02",null,"Soya Yağları",null,"150 07 02 01 02 = Soya Yağları"]
[null,150,"07","02","01","03",null,"Zeytin Yağları",null,"150 07 02 01 03 = Zeytin Yağları"]
[null,150,"07","02","01","04",null,"Pamuk Yağları",null,"150 07 02 01 04 = Pamuk Yağları"]
[null,150,"07","02","01","05",null,"Palm Yağları",null,"150 07 02 01 05 = Palm Yağları"]
[null,150,"07","02","01","06",null,"Mısır Yağları",null,"150 07 02 01 06 = Mısır Yağları"]
[null,150,"07","02","01","07",null,"Fındık Yağları",null,"150 07 02 01 07 = Fındık Yağları"]
[null,150,"07","02","01","99",null,"Diğer Sıvı Yağlar",null,"150 07 02 01 99 = Diğer Sıvı Yağlar"]
[null,150,"07","02","02",null,null,"Katı Yağlar",null,"150 07 02 02  = Katı Yağlar"]
[null,150,"07","02","02","01",null,"Margarinler",null,"150 07 02 02 01 = Margarinler"]
[null,150,"07","02","02","02",null,"Hayvansal Yağlar",null,"150 07 02 02 02 = Hayvansal Yağlar"]
[null,150,"07","02","99",null,null,"Diğer Yağlar",null,"150 07 02 99  = Diğer Yağlar"]
[null,150,"07","03",null,null,null,"Sebze, Meyve, Yemiş ve Çekirdekler",null,"150 07 03   = Sebze, Meyve, Yemiş ve Çekirdekler"]
[null,150,"07","03","01",null,null,"Sebzeler",null,"150 07 03 01  = Sebzeler"]
[null,150,"07","03","01","01",null,"Taze Sebzeler",null,"150 07 03 01 01 = Taze Sebzeler"]
[null,150,"07","03","01","02",null,"Dondurulmuş Sebzeler ",null,"150 07 03 01 02 = Dondurulmuş Sebzeler "]
[null,150,"07","03","01","03",null,"Konserve Sebzeler",null,"150 07 03 01 03 = Konserve Sebzeler"]
[null,150,"07","03","01","04",null,"Kuru Sebzeler",null,"150 07 03 01 04 = Kuru Sebzeler"]
[null,150,"07","03","02",null,null,"Meyveler",null,"150 07 03 02  = Meyveler"]
[null,150,"07","03","02","01",null,"Taze Meyveler",null,"150 07 03 02 01 = Taze Meyveler"]
[null,150,"07","03","02","02",null,"Dondurulmuş Meyveler",null,"150 07 03 02 02 = Dondurulmuş Meyveler"]
[null,150,"07","03","02","99",null,"Diğer Meyveler",null,"150 07 03 02 99 = Diğer Meyveler"]
[null,150,"07","03","03",null,null,"Yemişler",null,"150 07 03 03  = Yemişler"]
[null,150,"07","03","03","01",null,"Kabuksuz Yemişler",null,"150 07 03 03 01 = Kabuksuz Yemişler"]
[null,150,"07","03","03","02",null,"Kabuklu Yemişler",null,"150 07 03 03 02 = Kabuklu Yemişler"]
[null,150,"07","03","99",null,null,"Diğer Sebze, Meyve, Yemiş ve Çekirdekler",null,"150 07 03 99  = Diğer Sebze, Meyve, Yemiş ve Çekirdekler"]
[null,150,"07","04",null,null,null,"Un ve Unlu Gıdalar",null,"150 07 04   = Un ve Unlu Gıdalar"]
[null,150,"07","04","01",null,null,"Unlar ",null,"150 07 04 01  = Unlar "]
[null,150,"07","04","01","01",null,"Buğday Unları",null,"150 07 04 01 01 = Buğday Unları"]
[null,150,"07","04","01","02",null,"Pirinç Unları",null,"150 07 04 01 02 = Pirinç Unları"]
[null,150,"07","04","01","03",null,"Mısır Unları",null,"150 07 04 01 03 = Mısır Unları"]
[null,150,"07","04","01","04",null,"Çavdar Unları",null,"150 07 04 01 04 = Çavdar Unları"]
[null,150,"07","04","01","05",null,"Yulaf Unları",null,"150 07 04 01 05 = Yulaf Unları"]
[null,150,"07","04","01","06",null,"Nisaştalar",null,"150 07 04 01 06 = Nisaştalar"]
[null,150,"07","04","01","99",null,"Diğer Unlar ",null,"150 07 04 01 99 = Diğer Unlar "]
[null,150,"07","04","02",null,null,"Unlu Gıdalar",null,"150 07 04 02  = Unlu Gıdalar"]
[null,150,"07","04","02","01",null,"Ekmekler",null,"150 07 04 02 01 = Ekmekler"]
[null,150,"07","04","02","02",null,"Makarnalar",null,"150 07 04 02 02 = Makarnalar"]
[null,150,"07","04","02","99",null,"Diğer Unlu Gıdalar",null,"150 07 04 02 99 = Diğer Unlu Gıdalar"]
[null,150,"07","04","99",null,null,"Diğer Unlar ve Unlu Gıdalar",null,"150 07 04 99  = Diğer Unlar ve Unlu Gıdalar"]
[null,150,"07","05",null,null,null,"Baharat ve Çeşniler ile Çikolata ve Tatlandırıcılar",null,"150 07 05   = Baharat ve Çeşniler ile Çikolata ve Tatlandırıcılar"]
[null,150,"07","05","01",null,null,"Baharat, Esanslar ve Lezzet Artırıcılar",null,"150 07 05 01  = Baharat, Esanslar ve Lezzet Artırıcılar"]
[null,150,"07","05","01","01",null,"Baharatlar",null,"150 07 05 01 01 = Baharatlar"]
[null,150,"07","05","01","02",null,"Esanslar",null,"150 07 05 01 02 = Esanslar"]
[null,150,"07","05","01","03",null,"Tuzlar",null,"150 07 05 01 03 = Tuzlar"]
[null,150,"07","05","01","04",null,"Çeşni ve Lezzet Arttırıcılar",null,"150 07 05 01 04 = Çeşni ve Lezzet Arttırıcılar"]
[null,150,"07","05","02",null,null,"Soslar",null,{"$f":"IF(ISTEXT(H773),CONCATENATE(B772,\" \",C772,\" \",D772,\" \",E772,\" \",F772,\" = \",H772),\"\")","v":"150 07 05 02  = Soslar"}]
[null,150,"07","05","03",null,null,"Turşular",null,"150 07 05 03  = Turşular"]
[null,150,"07","05","04",null,null,"Tatlılar ve Tatlandırıcılar",null,"150 07 05 04  = Tatlılar ve Tatlandırıcılar"]
[null,150,"07","05","04","01",null,"Şekerler",null,"150 07 05 04 01 = Şekerler"]
[null,150,"07","05","04","02",null,"Reçeller",null,"150 07 05 04 02 = Reçeller"]
[null,150,"07","05","04","03",null,"Ballar ve Polenler",null,"150 07 05 04 03 = Ballar ve Polenler"]
[null,150,"07","05","04","04",null,"Çikolatalar",null,"150 07 05 04 04 = Çikolatalar"]
[null,150,"07","05","04","05",null,"Tatlılar ",null,"150 07 05 04 05 = Tatlılar "]
[null,150,"07","05","99",null,null,"Diğer Baharat ve Çeşniler ile Çikolata ve Tatlandırıcılar",null,"150 07 05 99  = Diğer Baharat ve Çeşniler ile Çikolata ve Tatlandırıcılar"]
[null,150,"07","06",null,null,null,"Günlük Tüketilmesi Gereken Ürünler",null,"150 07 06   = Günlük Tüketilmesi Gereken Ürünler"]
[null,150,"07","06","01",null,null,"Yumurtalar",null,"150 07 06 01  = Yumurtalar"]
[null,150,"07","06","02",null,null,"Yoğurtlar",null,"150 07 06 02  = Yoğurtlar"]
[null,150,"07","06","03",null,null,"Peynirler",null,"150 07 06 03  = Peynirler"]
[null,150,"07","06","04",null,null,"Zeytinler",null,"150 07 06 04  = Zeytinler"]
[null,150,"07","06","99",null,null,"Günlük Tüketilmesi Gereken Diğer Ürünler",null,"150 07 06 99  = Günlük Tüketilmesi Gereken Diğer Ürünler"]
[null,150,"07","07",null,null,null,"Etler ve Et Ürünleri",null,"150 07 07   = Etler ve Et Ürünleri"]
[null,150,"07","07","01",null,null,"Kırmızı Et",null,"150 07 07 01  = Kırmızı Et"]
[null,150,"07","07","02",null,null,"Beyaz Et",null,"150 07 07 02  = Beyaz Et"]
[null,150,"07","07","03",null,null,"Sakatatlar",null,"150 07 07 03  = Sakatatlar"]
[null,150,"07","07","04",null,null,"İşlenmiş Et Ürünleri",null,"150 07 07 04  = İşlenmiş Et Ürünleri"]
[null,150,"07","07","99",null,null,"Diğer Etler ve Et Ürünleri",null,"150 07 07 99  = Diğer Etler ve Et Ürünleri"]
[null,150,"07","08",null,null,null,"Deniz Ürünleri",null,"150 07 08   = Deniz Ürünleri"]
[null,150,"07","08","01",null,null,"Balıklar",null,"150 07 08 01  = Balıklar"]
[null,150,"07","08","02",null,null,"Diğer Deniz Ürünleri",null,"150 07 08 02  = Diğer Deniz Ürünleri"]
[null,150,"08",null,null,null,null,"İçecek Grubu ",null,"150 08    = İçecek Grubu "]
[null,150,"08","01",null,null,null,"Alkolsüz İçecekler",null,"150 08 01   = Alkolsüz İçecekler"]
[null,150,"08","01","01",null,null,"İçme Suları",null,"150 08 01 01  = İçme Suları"]
[null,150,"08","01","02",null,null,"Meyve Suları ",null,"150 08 01 02  = Meyve Suları "]
[null,150,"08","01","03",null,null,"Sütler",null,"150 08 01 03  = Sütler"]
[null,150,"08","01","04",null,null,"Ayranlar",null,"150 08 01 04  = Ayranlar"]
[null,150,"08","01","05",null,null,"Gazlı İçecekler",null,"150 08 01 05  = Gazlı İçecekler"]
[null,150,"08","01","06",null,null,"İçecek Katkı Maddeleri",null,"150 08 01 06  = İçecek Katkı Maddeleri"]
[null,150,"08","01","06","01",null,"Çaylar",null,"150 08 01 06 01 = Çaylar"]
[null,150,"08","01","06","02",null,"Kahveler",null,"150 08 01 06 02 = Kahveler"]
[null,150,"08","01","06","03",null,"Süt Tozu ve Kremaları",null,"150 08 01 06 03 = Süt Tozu ve Kremaları"]
[null,150,"08","01","06","04",null,"Oraletler",null,"150 08 01 06 04 = Oraletler"]
[null,150,"08","01","06","05",null,"Salepler",null,"150 08 01 06 05 = Salepler"]
[null,150,"08","01","06","99",null,"Diğer İçecek Katkı Maddeleri",null,"150 08 01 06 99 = Diğer İçecek Katkı Maddeleri"]
[null,150,"08","01","99",null,null,"Diğer Alkolsüz İçecekler",null,"150 08 01 99  = Diğer Alkolsüz İçecekler"]
[null,150,"08","02",null,null,null,"Alkollü İçecekler",null,"150 08 02   = Alkollü İçecekler"]
[null,150,"09",null,null,null,null,"Canlı Hayvanlar Grubu ",null,"150 09    = Canlı Hayvanlar Grubu "]
[null,150,"09","01",null,null,null,"Çiftlik Hayvanları",null,"150 09 01   = Çiftlik Hayvanları"]
[null,150,"09","01","01",null,null,"Büyükbaş Hayvanlar",null,"150 09 01 01  = Büyükbaş Hayvanlar"]
[null,150,"09","01","02",null,null,"Küçükbaş Hayvanlar",null,"150 09 01 02  = Küçükbaş Hayvanlar"]
[null,150,"09","01","03",null,null,"Kuşlar ve Kümes Hayvanları",null,"150 09 01 03  = Kuşlar ve Kümes Hayvanları"]
[null,150,"09","01","99",null,null,"Diğer Çiftlik Hayvanları ve Ekipmanları",null,"150 09 01 99  = Diğer Çiftlik Hayvanları ve Ekipmanları"]
[null,150,"09","02",null,null,null,"Hizmet Amaçlı Hayvanlar",null,"150 09 02   = Hizmet Amaçlı Hayvanlar"]
[null,150,"09","02","01",null,null,"Köpekler",null,"150 09 02 01  = Köpekler"]
[null,150,"09","02","02",null,null,"Atlar ",null,"150 09 02 02  = Atlar "]
[null,150,"09","02","03",null,null,"Eşekler",null,"150 09 02 03  = Eşekler"]
[null,150,"09","02","04",null,null,"Katırlar",null,"150 09 02 04  = Katırlar"]
[null,150,"09","02","99",null,null,"Diğer Hizmet Amaçlı Hayvanlar ve Ekipmanları",null,"150 09 02 99  = Diğer Hizmet Amaçlı Hayvanlar ve Ekipmanları"]
[null,150,"09","03",null,null,null,"Gösteri Amaçlı Hayvanlar",null,"150 09 03   = Gösteri Amaçlı Hayvanlar"]
[null,150,"09","03","01",null,null,"Küçükbaş Hayvanlar",null,"150 09 03 01  = Küçükbaş Hayvanlar"]
[null,150,"09","03","02",null,null,"Kümes Hayvanları",null,"150 09 03 02  = Kümes Hayvanları"]
[null,150,"09","03","03",null,null,"Vahşi Hayvanlar",null,"150 09 03 03  = Vahşi Hayvanlar"]
[null,150,"09","03","04",null,null,"Suda Yaşayan Canlılar",null,"150 09 03 04  = Suda Yaşayan Canlılar"]
[null,150,"09","03","05",null,null,"Evcil Hayvanlar",null,"150 09 03 05  = Evcil Hayvanlar"]
[null,150,"09","03","06",null,null,"Sürüngenler",null,"150 09 03 06  = Sürüngenler"]
[null,150,"09","03","07",null,null,"Kemirgenler",null,"150 09 03 07  = Kemirgenler"]
[null,150,"09","03","08",null,null,"Böcekler",null,"150 09 03 08  = Böcekler"]
[null,150,"09","03","09",null,null,"Atlar ve Eşekler",null,"150 09 03 09  = Atlar ve Eşekler"]
[null,150,"09","03","99",null,null,"Diğer Gösteri Amaçlı Hayvanlar ve Ekipmanları",null,"150 09 03 99  = Diğer Gösteri Amaçlı Hayvanlar ve Ekipmanları"]
[null,150,"09","04",null,null,null,"Deney Amaçlı Hayvanlar",null,"150 09 04   = Deney Amaçlı Hayvanlar"]
[null,150,"09","04","01",null,null,"Küçükbaş Hayvanlar",null,{"$f":"IF(ISTEXT(H837),CONCATENATE(B836,\" \",C836,\" \",D836,\" \",E836,\" \",F836,\" = \",H836),\"\")","v":"150 09 04 01  = Küçükbaş Hayvanlar"}]
[null,150,"09","04","02",null,null,"Büyükbaş Hayvanlar",null,"150 09 04 02  = Büyükbaş Hayvanlar"]
[null,150,"09","04","03",null,null,"Kuşlar ve Kümes Hayvanları",null,"150 09 04 03  = Kuşlar ve Kümes Hayvanları"]
[null,150,"09","04","04",null,null,"Vahşi Hayvanlar",null,"150 09 04 04  = Vahşi Hayvanlar"]
[null,150,"09","04","05",null,null,"Suda Yaşayan Canlılar",null,"150 09 04 05  = Suda Yaşayan Canlılar"]
[null,150,"09","04","06",null,null,"Sürüngenler",null,"150 09 04 06  = Sürüngenler"]
[null,150,"09","04","07",null,null,"Kemirgenler",null,"150 09 04 07  = Kemirgenler"]
[null,150,"09","04","08",null,null,"Böcekler",null,"150 09 04 08  = Böcekler"]
[null,150,"09","04","99",null,null,"Diğer Deney Amaçlı Hayvanlar ve Ekipmanları",null,"150 09 04 99  = Diğer Deney Amaçlı Hayvanlar ve Ekipmanları"]
[null,150,"09","05",null,null,null,"Koruma Altına Alınan Hayvanlar",null,"150 09 05   = Koruma Altına Alınan Hayvanlar"]
[null,150,"09","05","01",null,null,"Suda Yaşayan Canlılar",null,"150 09 05 01  = Suda Yaşayan Canlılar"]
[null,150,"09","05","02",null,null,"Vahşi Hayvanlar",null,"150 09 05 02  = Vahşi Hayvanlar"]
[null,150,"09","05","03",null,null,"Evcil Hayvanlar",null,"150 09 05 03  = Evcil Hayvanlar"]
[null,150,"09","05","04",null,null,"Sürüngenler",null,"150 09 05 04  = Sürüngenler"]
[null,150,"09","05","05",null,null,"Kemirgenler",null,"150 09 05 05  = Kemirgenler"]
[null,150,"09","05","06",null,null,"Böcekler",null,"150 09 05 06  = Böcekler"]
[null,150,"09","05","99",null,null,"Diğer Koruma Altına Alınan Hayvanlar ve Ekipmanları",null,"150 09 05 99  = Diğer Koruma Altına Alınan Hayvanlar ve Ekipmanları"]
[null,150,10,null,null,null,null,"Zirai Maddeler Grubu ",null,"150 10    = Zirai Maddeler Grubu "]
[null,150,10,"01",null,null,null,"Tohum, Fideler, Filizler, Fidanlar ve Çiçek Tohumları",null,"150 10 01   = Tohum, Fideler, Filizler, Fidanlar ve Çiçek Tohumları"]
[null,150,10,"01","01",null,null,"Sebze Tohumları ve Filizleri",null,"150 10 01 01  = Sebze Tohumları ve Filizleri"]
[null,150,10,"01","02",null,null,"Tahıl Tohumları ",null,"150 10 01 02  = Tahıl Tohumları "]
[null,150,10,"01","03",null,null,"Çimen ve Ot tohumları",null,"150 10 01 03  = Çimen ve Ot tohumları"]
[null,150,10,"01","04",null,null,"Baharat Ürünleri Tohum veya Filizleri",null,"150 10 01 04  = Baharat Ürünleri Tohum veya Filizleri"]
[null,150,10,"01","05",null,null,"Çiçek Tohumları, Soğanları, Filizleri ve Çelikleri",null,"150 10 01 05  = Çiçek Tohumları, Soğanları, Filizleri ve Çelikleri"]
[null,150,10,"01","06",null,null,"Ağaç ve Fundalık Çelikleri ve Fidanları",null,"150 10 01 06  = Ağaç ve Fundalık Çelikleri ve Fidanları"]
[null,150,10,"01","07",null,null,"Lifli Ürün Tohum ve Filizleri",null,"150 10 01 07  = Lifli Ürün Tohum ve Filizleri"]
[null,150,"10","01","99",null,null,"Diğer Tohum, Fideler, Filizler, Fidanlar ve Çiçek Tohumları",null,"150 10 01 99  = Diğer Tohum, Fideler, Filizler, Fidanlar ve Çiçek Tohumları"]
[null,150,10,"02",null,null,null,"Gübre, Bitki Gıdaları ve Bitki İlaçları ",null,"150 10 02   = Gübre, Bitki Gıdaları ve Bitki İlaçları "]
[null,150,10,"02","01",null,null,"Organik Gübre ve Bitki Gıdaları",null,"150 10 02 01  = Organik Gübre ve Bitki Gıdaları"]
[null,150,10,"02","01","01",null,"Gübreler",null,"150 10 02 01 01 = Gübreler"]
[null,150,10,"02","01","02",null,"Bitki Hormonları",null,"150 10 02 01 02 = Bitki Hormonları"]
[null,150,10,"02","01","03",null,"Balık Unları",null,"150 10 02 01 03 = Balık Unları"]
[null,150,10,"02","02",null,null,"Kimyasal Gübre ve Bitki Gıdaları ",null,"150 10 02 02  = Kimyasal Gübre ve Bitki Gıdaları "]
[null,150,10,"02","02","01",null,"Azotlu Gübreler",null,"150 10 02 02 01 = Azotlu Gübreler"]
[null,150,10,"02","02","02",null,"Potasyumlu Gübreler",null,"150 10 02 02 02 = Potasyumlu Gübreler"]
[null,150,10,"02","02","03",null,"Fosfatlı Gübreler",null,"150 10 02 02 03 = Fosfatlı Gübreler"]
[null,150,10,"02","02","04",null,"Sülfürlü Gübreler",null,"150 10 02 02 04 = Sülfürlü Gübreler"]
[null,150,10,"02","02","05",null,"Azot, Fosfor, Potasyum Karışımları",null,"150 10 02 02 05 = Azot, Fosfor, Potasyum Karışımları"]
[null,150,10,"02","03",null,null,"Bitki İlaçları ",null,"150 10 02 03  = Bitki İlaçları "]
[null,150,10,"02","03","01",null,"Zararlı Otlar İçin İlaçlar",null,"150 10 02 03 01 = Zararlı Otlar İçin İlaçlar"]
[null,150,10,"02","03","02",null,"Mantar Öldürücü İlaçlar",null,"150 10 02 03 02 = Mantar Öldürücü İlaçlar"]
[null,150,"10","02","99",null,null,"Diğer Gübre, Bitki Gıdaları ve Bitki İlaçları ",null,"150 10 02 99  = Diğer Gübre, Bitki Gıdaları ve Bitki İlaçları "]
[null,150,10,"03",null,null,null,"Haşerelere Karşı Mücadele Ürünleri",null,"150 10 03   = Haşerelere Karşı Mücadele Ürünleri"]
[null,150,10,"03","01",null,null,"Pestisitler veya Haşare Kovucular ",null,"150 10 03 01  = Pestisitler veya Haşare Kovucular "]
[null,150,10,"03","01","01",null,"Kemirgen Öldürücüler",null,"150 10 03 01 01 = Kemirgen Öldürücüler"]
[null,150,10,"03","01","02",null,"Kuş Kovucular",null,"150 10 03 01 02 = Kuş Kovucular"]
[null,150,10,"03","01","03",null,"Karınca Kovucular",null,"150 10 03 01 03 = Karınca Kovucular"]
[null,150,10,"03","02",null,null,"Haşare Kontrol Aletleri ",null,"150 10 03 02  = Haşare Kontrol Aletleri "]
[null,150,10,"03","02","01",null,"Hayvan Kontrol Kapanları",null,"150 10 03 02 01 = Hayvan Kontrol Kapanları"]
[null,150,10,"03","02","02",null,"Uçan Böcek Kontrol Kapanları",null,"150 10 03 02 02 = Uçan Böcek Kontrol Kapanları"]
[null,150,10,"03","02","03",null,"Sinek Kovucular",null,"150 10 03 02 03 = Sinek Kovucular"]
[null,150,10,"03","02","04",null,"Sinek Raketi",null,"150 10 03 02 04 = Sinek Raketi"]
[null,150,10,"03","02","05",null,"Kementler ",null,"150 10 03 02 05 = Kementler "]
[null,150,"10","03","99",null,null,"Haşerelere Karşı Diğer Mücadele Ürünleri",null,"150 10 03 99  = Haşerelere Karşı Diğer Mücadele Ürünleri"]
[null,150,10,"04",null,null,null,"Hayvan Yetiştiriciliğinde Kullanılan Maddeler",null,"150 10 04   = Hayvan Yetiştiriciliğinde Kullanılan Maddeler"]
[null,150,10,"04","01",null,null,"Aşılar ",null,"150 10 04 01  = Aşılar "]
[null,150,10,"04","02",null,null,"Serumlar",null,"150 10 04 02  = Serumlar"]
[null,150,"10","04","99",null,null,"Hayvan Yetiştiriciliğinde Kullanılan Diğer Maddeler",null,"150 10 04 99  = Hayvan Yetiştiriciliğinde Kullanılan Diğer Maddeler"]
[null,150,10,"05",null,null,null,"Çiçekler ",null,"150 10 05   = Çiçekler "]
[null,150,10,"05","01",null,null,"Canlı Çiçekler",null,"150 10 05 01  = Canlı Çiçekler"]
[null,150,10,"05","02",null,null,"Kuru Çiçekler",null,"150 10 05 02  = Kuru Çiçekler"]
[null,150,10,"05","03",null,null,"Kesilmiş Çiçekler",null,"150 10 05 03  = Kesilmiş Çiçekler"]
[null,150,"10","05","99",null,null,"Diğer Malzemeler",null,"150 10 05 99  = Diğer Malzemeler"]
[null,150,11,null,null,null,null,"Yem Grubu",null,"150 11    = Yem Grubu"]
[null,150,11,"01",null,null,null,"Çiftlik Hayvan Yemleri",null,{"$f":"IF(ISTEXT(H901),CONCATENATE(B900,\" \",C900,\" \",D900,\" \",E900,\" \",F900,\" = \",H900),\"\")","v":"150 11 01   = Çiftlik Hayvan Yemleri"}]
[null,150,11,"01","01",null,null,"Yemlik Buğday ve Buğday Kepekleri",null,"150 11 01 01  = Yemlik Buğday ve Buğday Kepekleri"]
[null,150,11,"01","02",null,null,"Yemlik Yulaflar",null,"150 11 01 02  = Yemlik Yulaflar"]
[null,150,11,"01","03",null,null,"Yemlik Mısırlar",null,"150 11 01 03  = Yemlik Mısırlar"]
[null,150,11,"01","04",null,null,"Yemlik Darılar",null,"150 11 01 04  = Yemlik Darılar"]
[null,150,11,"01","05",null,null,"Yemlik Arpalar",null,"150 11 01 05  = Yemlik Arpalar"]
[null,150,11,"01","06",null,null,"Samanlar",null,"150 11 01 06  = Samanlar"]
[null,150,11,"01","07",null,null,"Küspeler",null,"150 11 01 07  = Küspeler"]
[null,150,11,"01","08",null,null,"Yoncalar",null,"150 11 01 08  = Yoncalar"]
[null,150,11,"01","09",null,null,"Fiğler",null,"150 11 01 09  = Fiğler"]
[null,150,11,"01","10",null,null,"Burçaklar",null,"150 11 01 10  = Burçaklar"]
[null,150,11,"01","99",null,null,"Diğer Çitflik Hayvan Yemleri",null,"150 11 01 99  = Diğer Çitflik Hayvan Yemleri"]
[null,150,11,"02",null,null,null,"Kuş ve Kümes Hayvan Yemleri",null,"150 11 02   = Kuş ve Kümes Hayvan Yemleri"]
[null,150,11,"02","01",null,null,"Kuşlar İçin Canlı Besinler",null,"150 11 02 01  = Kuşlar İçin Canlı Besinler"]
[null,150,11,"02","02",null,null,"Kuş Yemleri",null,"150 11 02 02  = Kuş Yemleri"]
[null,150,11,"02","03",null,null,"Kümes Hayvanı Yemleri",null,"150 11 02 03  = Kümes Hayvanı Yemleri"]
[null,150,11,"03",null,null,null,"Balık Yemleri",null,"150 11 03   = Balık Yemleri"]
[null,150,11,"03","01",null,null,"Taze veya Donmuş Salamuralar",null,"150 11 03 01  = Taze veya Donmuş Salamuralar"]
[null,150,11,"03","02",null,null,"Balık Yemi Taneleri",null,"150 11 03 02  = Balık Yemi Taneleri"]
[null,150,11,"03","99",null,null,"Diğer Balık Yemleri",null,"150 11 03 99  = Diğer Balık Yemleri"]
[null,150,11,"04",null,null,null,"Köpek ve Kedi Yemleri",null,"150 11 04   = Köpek ve Kedi Yemleri"]
[null,150,11,"04","01",null,null,"Köpekler İçin Kuru Yiyecekler",null,"150 11 04 01  = Köpekler İçin Kuru Yiyecekler"]
[null,150,11,"04","02",null,null,"Köpekler İçin Yaş Yiyecekler",null,"150 11 04 02  = Köpekler İçin Yaş Yiyecekler"]
[null,150,11,"04","03",null,null,"Kedi ve Köpekler İçin Sütler",null,"150 11 04 03  = Kedi ve Köpekler İçin Sütler"]
[null,150,11,"04","04",null,null,"Kediler İçin Kuru Yiyecekler",null,"150 11 04 04  = Kediler İçin Kuru Yiyecekler"]
[null,150,11,"04","05",null,null,"Kediler İçin Yaş Yiyecekler",null,"150 11 04 05  = Kediler İçin Yaş Yiyecekler"]
[null,150,11,"04","99",null,null,"Diğer Köpek ve Kedi Yemleri",null,"150 11 04 99  = Diğer Köpek ve Kedi Yemleri"]
[null,150,11,"05",null,null,null,"Kemirgen Hayvan Yemleri",null,"150 11 05   = Kemirgen Hayvan Yemleri"]
[null,150,11,"06",null,null,null,"Sürüngen Yemleri",null,"150 11 06   = Sürüngen Yemleri"]
[null,150,11,"06","01",null,null,"Sürüngen Hayvanlar İçin Pelletized Yemler",null,"150 11 06 01  = Sürüngen Hayvanlar İçin Pelletized Yemler"]
[null,150,11,"06","02",null,null,"Sürüngen Hayvanlar İçin Yaş Yemler",null,"150 11 06 02  = Sürüngen Hayvanlar İçin Yaş Yemler"]
[null,150,11,"06","03",null,null,"Sürüngen Hayvanlar İçin Canlı Yemler",null,"150 11 06 03  = Sürüngen Hayvanlar İçin Canlı Yemler"]
[null,150,11,"06","99",null,null,"Diğer Sürüngen Yemleri",null,"150 11 06 99  = Diğer Sürüngen Yemleri"]
[null,150,11,"99",null,null,null,"Diğer Hayvan Yemleri",null,"150 11 99   = Diğer Hayvan Yemleri"]
[null,150,12,null,null,null,null,"Bakım Onarım ve Üretim Malzemeleri Grubu ",null,"150 12    = Bakım Onarım ve Üretim Malzemeleri Grubu "]
[null,150,12,"01",null,null,null,"Küçük El Aletleri ve Gereçleri",null,"150 12 01   = Küçük El Aletleri ve Gereçleri"]
[null,150,12,"01","01",null,null,"Kesici, Sökücü ve Çakıcı Aletler",null,"150 12 01 01  = Kesici, Sökücü ve Çakıcı Aletler"]
[null,150,12,"01","01","01",null,"Baltalar",null,"150 12 01 01 01 = Baltalar"]
[null,150,12,"01","01","02",null,"Hızarlar",null,"150 12 01 01 02 = Hızarlar"]
[null,150,12,"01","01","03",null,"Budama Makasları",null,"150 12 01 01 03 = Budama Makasları"]
[null,150,12,"01","01","04",null,"Tırpanlar",null,"150 12 01 01 04 = Tırpanlar"]
[null,150,12,"01","01","05",null,"Oraklar",null,"150 12 01 01 05 = Oraklar"]
[null,150,12,"01","01","06",null,"Keserler",null,"150 12 01 01 06 = Keserler"]
[null,150,12,"01","01","07",null,"Keskiler",null,"150 12 01 01 07 = Keskiler"]
[null,150,12,"01","01","08",null,"El Tipi Testereler",null,"150 12 01 01 08 = El Tipi Testereler"]
[null,150,12,"01","01","09",null,"Tornavidalar ve Tornavida Uçları",null,"150 12 01 01 09 = Tornavidalar ve Tornavida Uçları"]
[null,150,12,"01","01","10",null,"Kargaburunlar",null,"150 12 01 01 10 = Kargaburunlar"]
[null,150,12,"01","01","11",null,"Penseler",null,"150 12 01 01 11 = Penseler"]
[null,150,12,"01","01","12",null,"Kerpetenler",null,"150 12 01 01 12 = Kerpetenler"]
[null,150,12,"01","01","13",null,"Balyoz",null,"150 12 01 01 13 = Balyoz"]
[null,150,12,"01","01","14",null,"Çekiçler ",null,"150 12 01 01 14 = Çekiçler "]
[null,150,12,"01","01","15",null,"Kesme, Oyma, Bileme ve Zımparalama Taşları ve Keçeleri ile Muhtelif Uçlar ",null,"150 12 01 01 15 = Kesme, Oyma, Bileme ve Zımparalama Taşları ve Keçeleri ile Muhtelif Uçlar "]
[null,150,12,"01","01","99",null,"Diğer Kesici, Sökücü ve Çakıcı Aletler",null,"150 12 01 01 99 = Diğer Kesici, Sökücü ve Çakıcı Aletler"]
[null,150,12,"01","02",null,null,"Anahtarlar",null,"150 12 01 02  = Anahtarlar"]
[null,150,12,"01","02","01",null,"Tork Anahtarları ve Uçları",null,"150 12 01 02 01 = Tork Anahtarları ve Uçları"]
[null,150,12,"01","02","02",null,"Boru Anahtarları",null,"150 12 01 02 02 = Boru Anahtarları"]
[null,150,12,"01","02","03",null,"İngiliz Anahtarlar (Kurbacık)",null,"150 12 01 02 03 = İngiliz Anahtarlar (Kurbacık)"]
[null,150,12,"01","02","04",null,"Bijon Anahtarları",null,"150 12 01 02 04 = Bijon Anahtarları"]
[null,150,12,"01","02","05",null,"Yıldız Anahtarlar",null,"150 12 01 02 05 = Yıldız Anahtarlar"]
[null,150,12,"01","02","06",null,"İki Ağız Anahtarlar",null,"150 12 01 02 06 = İki Ağız Anahtarlar"]
[null,150,12,"01","02","99",null,"Diğer Anahtarlar",null,"150 12 01 02 99 = Diğer Anahtarlar"]
[null,150,12,"01","03",null,null,"Sıva, Boya ve Badana Aletleri",null,"150 12 01 03  = Sıva, Boya ve Badana Aletleri"]
[null,150,12,"01","03","01",null,"Elekler",null,"150 12 01 03 01 = Elekler"]
[null,150,12,"01","03","02",null,"Malalar-Mastarlar",null,"150 12 01 03 02 = Malalar-Mastarlar"]
[null,150,12,"01","03","03",null,"Raspalar-Spatulalar",null,{"$f":"IF(ISTEXT(H965),CONCATENATE(B964,\" \",C964,\" \",D964,\" \",E964,\" \",F964,\" = \",H964),\"\")","v":"150 12 01 03 03 = Raspalar-Spatulalar"}]
[null,150,12,"01","03","04",null,"Fırçalar",null,"150 12 01 03 04 = Fırçalar"]
[null,150,12,"01","03","05",null,"Rulolar",null,"150 12 01 03 05 = Rulolar"]
[null,150,12,"01","03","06",null,"Şaküller",null,"150 12 01 03 06 = Şaküller"]
[null,150,12,"01","03","99",null,"Diğer Sıva, Boya ve Badana Aletleri",null,"150 12 01 03 99 = Diğer Sıva, Boya ve Badana Aletleri"]
[null,150,12,"01","04",null,null,"Toprak İşleme, Toplama, Sulama ve Temizleme Alet ve Malzemeleri",null,"150 12 01 04  = Toprak İşleme, Toplama, Sulama ve Temizleme Alet ve Malzemeleri"]
[null,150,12,"01","04","01",null,"Kazmalar",null,"150 12 01 04 01 = Kazmalar"]
[null,150,12,"01","04","02",null,"Kürekler",null,"150 12 01 04 02 = Kürekler"]
[null,150,12,"01","04","03",null,"Bel Kürekleri",null,"150 12 01 04 03 = Bel Kürekleri"]
[null,150,12,"01","04","04",null,"Çapalar",null,"150 12 01 04 04 = Çapalar"]
[null,150,12,"01","04","05",null,"Tırmıklar",null,"150 12 01 04 05 = Tırmıklar"]
[null,150,12,"01","04","99",null,"Diğer Toprak İşleme, Toplama, Sulama ve Temizleme Alet ve Malzemeleri",null,"150 12 01 04 99 = Diğer Toprak İşleme, Toplama, Sulama ve Temizleme Alet ve Malzemeleri"]
[null,150,12,"01","05",null,null,"Çekme Alet ve Gereçleri",null,"150 12 01 05  = Çekme Alet ve Gereçleri"]
[null,150,12,"01","99",null,null,"Diğer Küçük El Aletleri ve Gereçleri",null,"150 12 01 99  = Diğer Küçük El Aletleri ve Gereçleri"]
[null,150,12,"02",null,null,null,"Tutturucular",null,"150 12 02   = Tutturucular"]
[null,150,12,"02","01",null,null,"Çiviler, Vidalar ve Aksesuarları",null,"150 12 02 01  = Çiviler, Vidalar ve Aksesuarları"]
[null,150,12,"02","01","01",null,"Çiviler",null,"150 12 02 01 01 = Çiviler"]
[null,150,12,"02","01","02",null,"Vidalar ve Civatalar",null,"150 12 02 01 02 = Vidalar ve Civatalar"]
[null,150,12,"02","01","03",null,"Aksesuarlar",null,"150 12 02 01 03 = Aksesuarlar"]
[null,150,12,"02","02",null,null,"Yapıştırıcılar ",null,"150 12 02 02  = Yapıştırıcılar "]
[null,150,12,"02","02","01",null,"Seramik ve Tahta Yapıştırıcılar",null,"150 12 02 02 01 = Seramik ve Tahta Yapıştırıcılar"]
[null,150,12,"02","02","02",null,"Metal Yapıştırıcılar ",null,"150 12 02 02 02 = Metal Yapıştırıcılar "]
[null,150,12,"02","02","03",null,"Cam Ürünleri Yapıştırıcıları",null,"150 12 02 02 03 = Cam Ürünleri Yapıştırıcıları"]
[null,150,12,"02","02","99",null,"Diğer Yapıştırıcılar",null,"150 12 02 02 99 = Diğer Yapıştırıcılar"]
[null,150,12,"02","03",null,null,"Kilitler",null,"150 12 02 03  = Kilitler"]
[null,150,"12","02","99",null,null,"Diğer Tutturucu Malzemeler",null,"150 12 02 99  = Diğer Tutturucu Malzemeler"]
[null,150,12,"03",null,null,null,"Kaplayıcılar",null,"150 12 03   = Kaplayıcılar"]
[null,150,12,"03","01",null,null,"Sıvı ve Kağıt Kaplayıcılar",null,"150 12 03 01  = Sıvı ve Kağıt Kaplayıcılar"]
[null,150,12,"03","01","01",null,"Boyalar ",null,"150 12 03 01 01 = Boyalar "]
[null,150,12,"03","01","02",null,"Cilalar",null,"150 12 03 01 02 = Cilalar"]
[null,150,12,"03","01","03",null,"Duvar Kağıtları",null,"150 12 03 01 03 = Duvar Kağıtları"]
[null,150,12,"03","01","99",null,"Diğer Sıvı ve Kağıt Kaplayıcılar",null,"150 12 03 01 99 = Diğer Sıvı ve Kağıt Kaplayıcılar"]
[null,150,12,"03","02",null,null,"Yapı Malzemeleri",null,"150 12 03 02  = Yapı Malzemeleri"]
[null,150,12,"03","02","01",null,"Fayanslar",null,"150 12 03 02 01 = Fayanslar"]
[null,150,12,"03","02","02",null,"Kiremitler",null,"150 12 03 02 02 = Kiremitler"]
[null,150,12,"03","02","03",null,"Tuğlalar",null,"150 12 03 02 03 = Tuğlalar"]
[null,150,12,"03","02","04",null,"Biriketler",null,"150 12 03 02 04 = Biriketler"]
[null,150,12,"03","02","05",null,"Granül Kırma Taşları",null,"150 12 03 02 05 = Granül Kırma Taşları"]
[null,150,12,"03","02","99",null,"Diğer Yapı Malzemeleri",null,"150 12 03 02 99 = Diğer Yapı Malzemeleri"]
[null,150,12,"03","03",null,null,"Ahşap Kaplama Malzemeleri",null,"150 12 03 03  = Ahşap Kaplama Malzemeleri"]
[null,150,12,"03","03","01",null,"Parkeler",null,"150 12 03 03 01 = Parkeler"]
[null,150,12,"03","03","02",null,"Lambiri ve Laminantlar",null,"150 12 03 03 02 = Lambiri ve Laminantlar"]
[null,150,12,"03","03","03",null,"Süpürgelikler",null,"150 12 03 03 03 = Süpürgelikler"]
[null,150,12,"03","03","99",null,"Diğer Ahşap Kaplama Malzemeleri",null,"150 12 03 03 99 = Diğer Ahşap Kaplama Malzemeleri"]
[null,150,12,"03","04",null,null,"PVC ve Metal Kaplama Malzemeleri",null,"150 12 03 04  = PVC ve Metal Kaplama Malzemeleri"]
[null,150,12,"03","04","01",null,"Serflor Malzemeleri",null,"150 12 03 04 01 = Serflor Malzemeleri"]
[null,150,12,"03","04","02",null,"Parksayding Malzemeleri",null,"150 12 03 04 02 = Parksayding Malzemeleri"]
[null,150,12,"03","04","03",null,"Aliminyum Kaplama Malzemeleri",null,"150 12 03 04 03 = Aliminyum Kaplama Malzemeleri"]
[null,150,12,"03","04","99",null,"Diğer PVC ve Metal Kaplama Malzemeleri",null,"150 12 03 04 99 = Diğer PVC ve Metal Kaplama Malzemeleri"]
[null,150,12,"03","05",null,null,"Sıva, Dolgu ve Yapıştırıcı Malzemeler",null,"150 12 03 05  = Sıva, Dolgu ve Yapıştırıcı Malzemeler"]
[null,150,12,"03","05","01",null,"Kalekim ve Derz Dolguları",null,"150 12 03 05 01 = Kalekim ve Derz Dolguları"]
[null,150,12,"03","05","02",null,"Kireçler",null,"150 12 03 05 02 = Kireçler"]
[null,150,12,"03","05","03",null,"Alçılar",null,"150 12 03 05 03 = Alçılar"]
[null,150,12,"03","05","04",null,"Çimentolar",null,"150 12 03 05 04 = Çimentolar"]
[null,150,12,"03","05","05",null,"Kumlar",null,"150 12 03 05 05 = Kumlar"]
[null,150,12,"03","05","99",null,"Diğer Sıva, Dolgu ve Yapıştırıcı Malzemeler",null,"150 12 03 05 99 = Diğer Sıva, Dolgu ve Yapıştırıcı Malzemeler"]
[null,150,12,"03","06",null,null,"Sızmayı Önleyici Kaplama Malzemeleri",null,"150 12 03 06  = Sızmayı Önleyici Kaplama Malzemeleri"]
[null,150,12,"03","06","01",null,"Macunlar",null,"150 12 03 06 01 = Macunlar"]
[null,150,12,"03","06","02",null,"Slikonlar",null,"150 12 03 06 02 = Slikonlar"]
[null,150,12,"03","06","99",null,"Diğer Sızmayı Önleyici Kaplama Malzemeleri",null,"150 12 03 06 99 = Diğer Sızmayı Önleyici Kaplama Malzemeleri"]
[null,150,12,"03","99",null,null,"Kaplama İşlerinde Kullanılan Diğer Malzemeler",null,"150 12 03 99  = Kaplama İşlerinde Kullanılan Diğer Malzemeler"]
[null,150,12,"04",null,null,null,"Elektrik-Elektronik ve Aydınlatma Malzemeleri",null,"150 12 04   = Elektrik-Elektronik ve Aydınlatma Malzemeleri"]
[null,150,12,"04","01",null,null,"Lambalar",null,"150 12 04 01  = Lambalar"]
[null,150,12,"04","01","01",null,"Normal Lambalar",null,"150 12 04 01 01 = Normal Lambalar"]
[null,150,12,"04","01","02",null,"Grup Lambalar",null,{"$f":"IF(ISTEXT(H1029),CONCATENATE(B1028,\" \",C1028,\" \",D1028,\" \",E1028,\" \",F1028,\" = \",H1028),\"\")","v":"150 12 04 01 02 = Grup Lambalar"}]
[null,150,12,"04","01","03",null,"Aplikler",null,"150 12 04 01 03 = Aplikler"]
[null,150,12,"04","01","04",null,"Fluoresan Lambalar",null,"150 12 04 01 04 = Fluoresan Lambalar"]
[null,150,12,"04","01","05",null,"Enerji Tasarruflu Lambalar",null,"150 12 04 01 05 = Enerji Tasarruflu Lambalar"]
[null,150,12,"04","01","06",null,"Akkor Ampuller",null,"150 12 04 01 06 = Akkor Ampuller"]
[null,150,12,"04","01","07",null,"Civa Buharlı Lambalar",null,"150 12 04 01 07 = Civa Buharlı Lambalar"]
[null,150,12,"04","01","08",null,"Halojen Lambalar",null,"150 12 04 01 08 = Halojen Lambalar"]
[null,150,12,"04","01","09",null,"Neon Lambaları",null,"150 12 04 01 09 = Neon Lambaları"]
[null,150,12,"04","01","10",null,"Metal Deşarj Lambaları",null,"150 12 04 01 10 = Metal Deşarj Lambaları"]
[null,150,12,"04","01","11",null,"Kızılötesi Lambalar",null,"150 12 04 01 11 = Kızılötesi Lambalar"]
[null,150,12,"04","01","12",null,"Sahne veya Stüdyo Lambaları",null,"150 12 04 01 12 = Sahne veya Stüdyo Lambaları"]
[null,150,12,"04","01","13",null,"Ultraviole Lambalar",null,"150 12 04 01 13 = Ultraviole Lambalar"]
[null,150,12,"04","01","14",null,"Yüksek Basınçlı Sodyum Lambası",null,"150 12 04 01 14 = Yüksek Basınçlı Sodyum Lambası"]
[null,150,12,"04","01","15",null,"Alçak Basınçlı Sodyum Lambası",null,"150 12 04 01 15 = Alçak Basınçlı Sodyum Lambası"]
[null,150,12,"04","01","16",null,"Solar Lambalar",null,"150 12 04 01 16 = Solar Lambalar"]
[null,150,12,"04","01","17",null,"Projeksiyon Lambaları",null,"150 12 04 01 17 = Projeksiyon Lambaları"]
[null,150,12,"04","01","18",null,"Armatürler",null,"150 12 04 01 18 = Armatürler"]
[null,150,"12","04","01","99",null,"Diğer Lambalar",null,"150 12 04 01 99 = Diğer Lambalar"]
[null,150,12,"04","02",null,null,"Kablo",null,"150 12 04 02  = Kablo"]
[null,150,12,"04","02","01",null,"Alçak Gerilim Kabloları",null,"150 12 04 02 01 = Alçak Gerilim Kabloları"]
[null,150,12,"04","02","02",null,"Orta ve Yüksek Gerilim Kabloları",null,"150 12 04 02 02 = Orta ve Yüksek Gerilim Kabloları"]
[null,150,12,"04","02","04",null,"Diğer Kablolar",null,"150 12 04 02 04 = Diğer Kablolar"]
[null,150,12,"04","03",null,null,"Kablo Yardımcı Malzemeleri",null,"150 12 04 03  = Kablo Yardımcı Malzemeleri"]
[null,150,12,"04","03","01",null,"Yeraltı Kablo Kofreleri",null,"150 12 04 03 01 = Yeraltı Kablo Kofreleri"]
[null,150,12,"04","03","02",null,"Yeraltı Kablo Başlıkları",null,"150 12 04 03 02 = Yeraltı Kablo Başlıkları"]
[null,150,12,"04","03","03",null,"Yeraltı Kablo Buatları",null,"150 12 04 03 03 = Yeraltı Kablo Buatları"]
[null,150,12,"04","03","04",null,"Kablo Kanalları ve Bağlantı Elemanları",null,"150 12 04 03 04 = Kablo Kanalları ve Bağlantı Elemanları"]
[null,150,12,"04","03","05",null,"Kablo Sargı Spiralleri",null,"150 12 04 03 05 = Kablo Sargı Spiralleri"]
[null,150,12,"04","03","06",null,"Kablo Sıkacakları",null,"150 12 04 03 06 = Kablo Sıkacakları"]
[null,150,12,"04","03","07",null,"Kablo Kanal Dönüşüm Elemanları",null,"150 12 04 03 07 = Kablo Kanal Dönüşüm Elemanları"]
[null,150,12,"04","03","99",null,"Diğer Kablo Yardımcı Malzemeleri",null,"150 12 04 03 99 = Diğer Kablo Yardımcı Malzemeleri"]
[null,150,12,"04","04",null,null,"Sarj Aletleri",null,"150 12 04 04  = Sarj Aletleri"]
[null,150,12,"04","05",null,null,"Fişler",null,"150 12 04 05  = Fişler"]
[null,150,12,"04","06",null,null,"Prizler",null,"150 12 04 06  = Prizler"]
[null,150,12,"04","07",null,null,"Duylar",null,"150 12 04 07  = Duylar"]
[null,150,12,"04","08",null,null,"Anahtarlar",null,"150 12 04 08  = Anahtarlar"]
[null,150,12,"04","08","01",null,"Tekli Düğmeli Anahtarlar",null,"150 12 04 08 01 = Tekli Düğmeli Anahtarlar"]
[null,150,12,"04","08","02",null,"Çift Düğmeli Anahtarlar",null,"150 12 04 08 02 = Çift Düğmeli Anahtarlar"]
[null,150,12,"04","08","03",null,"Grup Anahtarlar",null,"150 12 04 08 03 = Grup Anahtarlar"]
[null,150,12,"04","08","99",null,"Diğer Anahtarlar",null,"150 12 04 08 99 = Diğer Anahtarlar"]
[null,150,12,"04","09",null,null,"Sigortalar",null,"150 12 04 09  = Sigortalar"]
[null,150,12,"04","10",null,null,"Klemensler",null,"150 12 04 10  = Klemensler"]
[null,150,12,"04","11",null,null,"Şalterler",null,"150 12 04 11  = Şalterler"]
[null,150,12,"04","12",null,null,"Kontaktörler",null,"150 12 04 12  = Kontaktörler"]
[null,150,12,"04","12","01",null,"Kuru Tip Koruyucusuz Kontaktörler",null,"150 12 04 12 01 = Kuru Tip Koruyucusuz Kontaktörler"]
[null,150,12,"04","12","02",null,"Kuru Tip Termik Kontaktörler",null,"150 12 04 12 02 = Kuru Tip Termik Kontaktörler"]
[null,150,12,"04","12","03",null,"Normal Kontaktörler",null,"150 12 04 12 03 = Normal Kontaktörler"]
[null,150,12,"04","12","99",null,"Diğer Kontaktörler",null,"150 12 04 12 99 = Diğer Kontaktörler"]
[null,150,12,"04","13",null,null,"Roleler",null,"150 12 04 13  = Roleler"]
[null,150,12,"04","13","01",null,"Zaman Roleleri",null,"150 12 04 13 01 = Zaman Roleleri"]
[null,150,12,"04","13","02",null,"İmpuls (Darbe Akımlı) Roleler",null,"150 12 04 13 02 = İmpuls (Darbe Akımlı) Roleler"]
[null,150,12,"04","13","03",null,"Reakktif Güç Kontrol Röleleri",null,"150 12 04 13 03 = Reakktif Güç Kontrol Röleleri"]
[null,150,12,"04","13","04",null,"Akım Röleleri",null,"150 12 04 13 04 = Akım Röleleri"]
[null,150,12,"04","13","05",null,"Koruma Röleleri",null,"150 12 04 13 05 = Koruma Röleleri"]
[null,150,12,"04","13","99",null,"Diğer Roleler",null,"150 12 04 13 99 = Diğer Roleler"]
[null,150,12,"04","14",null,null,"Transformatörler",null,"150 12 04 14  = Transformatörler"]
[null,150,12,"04","15",null,null,"Adaptörler",null,"150 12 04 15  = Adaptörler"]
[null,150,12,"04","16",null,null,"İzalatörler",null,"150 12 04 16  = İzalatörler"]
[null,150,12,"04","17",null,null,"Piller",null,"150 12 04 17  = Piller"]
[null,150,12,"04","99",null,null,"Diğer Elektrik-Elektronik ve Aydınlatma Malzemeleri",null,"150 12 04 99  = Diğer Elektrik-Elektronik ve Aydınlatma Malzemeleri"]
[null,150,12,"05",null,null,null,"Ağaç Ürünleri",null,"150 12 05   = Ağaç Ürünleri"]
[null,150,12,"05","01",null,null,"Sunta ve Suntalamlar",null,"150 12 05 01  = Sunta ve Suntalamlar"]
[null,150,12,"05","02",null,null,"Tahtalar",null,"150 12 05 02  = Tahtalar"]
[null,150,12,"05","03",null,null,"Keresteler",null,"150 12 05 03  = Keresteler"]
[null,150,12,"05","04",null,null,"Tomruklar",null,{"$f":"IF(ISTEXT(H1093),CONCATENATE(B1092,\" \",C1092,\" \",D1092,\" \",E1092,\" \",F1092,\" = \",H1092),\"\")","v":"150 12 05 04  = Tomruklar"}]
[null,150,12,"05","05",null,null,"Kontrapilak",null,"150 12 05 05  = Kontrapilak"]
[null,150,12,"05","99",null,null,"Diğer Ağaç Ürünler",null,"150 12 05 99  = Diğer Ağaç Ürünler"]
[null,150,12,"06",null,null,null,"Metal Ürünler",null,"150 12 06   = Metal Ürünler"]
[null,150,12,"06","01",null,null,"Saç Levhalar",null,"150 12 06 01  = Saç Levhalar"]
[null,150,12,"06","02",null,null,"Teller",null,"150 12 06 02  = Teller"]
[null,150,12,"06","03",null,null,"Profiller",null,"150 12 06 03  = Profiller"]
[null,150,12,"06","04",null,null,"Menteşeler",null,"150 12 06 04  = Menteşeler"]
[null,150,12,"06","05",null,null,"Köşebentler",null,"150 12 06 05  = Köşebentler"]
[null,150,12,"06","06",null,null,"Demir Çubuklar",null,"150 12 06 06  = Demir Çubuklar"]
[null,150,12,"06","07",null,null,"Borular",null,"150 12 06 07  = Borular"]
[null,150,12,"06","08",null,null,"Kapı Kolları ve Pencere Tutacakları ile Ekipmanları",null,"150 12 06 08  = Kapı Kolları ve Pencere Tutacakları ile Ekipmanları"]
[null,150,12,"06","98",null,null,"Tanıtım ve Bilgi Levha, Tabela ,Pano ve Flamaları",null,"150 12 06 98  = Tanıtım ve Bilgi Levha, Tabela ,Pano ve Flamaları"]
[null,150,12,"06","99",null,null,"Diğer Metal Ürünler",null,"150 12 06 99  = Diğer Metal Ürünler"]
[null,150,12,"07",null,null,null,"Cam Ürünler ",null,"150 12 07   = Cam Ürünler "]
[null,150,12,"07","01",null,null,"Camlar ",null,"150 12 07 01  = Camlar "]
[null,150,12,"07","02",null,null,"Aynalar",null,"150 12 07 02  = Aynalar"]
[null,150,"12","07","99",null,null,"Diğer Cam Ürünler",null,"150 12 07 99  = Diğer Cam Ürünler"]
[null,150,12,"08",null,null,null,"Plastik Ürünler",null,"150 12 08   = Plastik Ürünler"]
[null,150,12,"09",null,null,null,"Karayolları Yapım ve Trafik Malzemeleri",null,"150 12 09   = Karayolları Yapım ve Trafik Malzemeleri"]
[null,150,12,"09","01",null,null,"Karayolu Yapım Malzemeleri",null,"150 12 09 01  = Karayolu Yapım Malzemeleri"]
[null,150,12,"09","01","01",null,"Bitümler",null,"150 12 09 01 01 = Bitümler"]
[null,150,12,"09","01","02",null,"Asfaltlar",null,"150 12 09 01 02 = Asfaltlar"]
[null,150,12,"09","01","03",null,"Asfalt Emilsiyonları ",null,"150 12 09 01 03 = Asfalt Emilsiyonları "]
[null,150,12,"09","01","04",null,"Katranlar",null,"150 12 09 01 04 = Katranlar"]
[null,150,12,"09","02",null,null,"Karayolu Trafik Malzemeleri",null,"150 12 09 02  = Karayolu Trafik Malzemeleri"]
[null,150,12,"09","02","01",null,"Retforeflektifler",null,"150 12 09 02 01 = Retforeflektifler"]
[null,150,12,"09","02","02",null,"Levhalar",null,"150 12 09 02 02 = Levhalar"]
[null,150,12,"09","02","03",null,"Reflektif Malzeme",null,"150 12 09 02 03 = Reflektif Malzeme"]
[null,150,12,"09","02","04",null,"Yol Bakım onarım Malzemeleri",null,"150 12 09 02 04 = Yol Bakım onarım Malzemeleri"]
[null,150,12,"09","02","05",null,"Boyalar",null,"150 12 09 02 05 = Boyalar"]
[null,150,"12","09","99",null,null,"Diğer Karayolları Yapım ve Trafik Malzemeleri",null,"150 12 09 99  = Diğer Karayolları Yapım ve Trafik Malzemeleri"]
[null,150,12,"10",null,null,null,"Kaynak Malzemeleri",null,"150 12 10   = Kaynak Malzemeleri"]
[null,150,13,null,null,null,null,"Yedek Parçalar Grubu ",null,"150 13    = Yedek Parçalar Grubu "]
[null,150,13,"01",null,null,null,"Makineler ve Aletler Grubu Yedek Parçaları",null,"150 13 01   = Makineler ve Aletler Grubu Yedek Parçaları"]
[null,150,13,"02",null,null,null,"Cihazlar ve Aletler Grubu Yedek Parçaları",null,"150 13 02   = Cihazlar ve Aletler Grubu Yedek Parçaları"]
[null,150,13,"03",null,null,null,"Taşıtlar Grubu Yedek Parçaları",null,"150 13 03   = Taşıtlar Grubu Yedek Parçaları"]
[null,150,13,"03","01",null,null,"Motor Yedek Parçaları",null,"150 13 03 01  = Motor Yedek Parçaları"]
[null,150,13,"03","02",null,null,"Kaporta Yedek Parçaları",null,"150 13 03 02  = Kaporta Yedek Parçaları"]
[null,150,13,"03","03",null,null,"Aydınlatma, Elektrik Sistemi Yedek Parçaları",null,"150 13 03 03  = Aydınlatma, Elektrik Sistemi Yedek Parçaları"]
[null,150,13,"03","04",null,null,"Soğutma ve Isıtma Sistemi Yedek Parçaları",null,"150 13 03 04  = Soğutma ve Isıtma Sistemi Yedek Parçaları"]
[null,150,13,"03","05",null,null,"Süspansiyon Sistemi Yedek Parçaları",null,"150 13 03 05  = Süspansiyon Sistemi Yedek Parçaları"]
[null,150,13,"03","06",null,null,"Fren Sistemi Yedek Parçaları",null,"150 13 03 06  = Fren Sistemi Yedek Parçaları"]
[null,150,13,"03","07",null,null,"Aktarma Sistemi Yedek Parçaları",null,"150 13 03 07  = Aktarma Sistemi Yedek Parçaları"]
[null,150,13,"03","08",null,null,"Ateşleme Sistemi Yedek Parçaları",null,"150 13 03 08  = Ateşleme Sistemi Yedek Parçaları"]
[null,150,13,"03","09",null,null,"Egzoz Sistemi Yedek Parçaları",null,"150 13 03 09  = Egzoz Sistemi Yedek Parçaları"]
[null,150,13,"03","10",null,null,"Yakıt Sistemi Yedek Parçaları",null,"150 13 03 10  = Yakıt Sistemi Yedek Parçaları"]
[null,150,13,"03","11",null,null,"İç ve Dış Tirim Parçaları",null,"150 13 03 11  = İç ve Dış Tirim Parçaları"]
[null,150,13,"03","12",null,null,"Camlar",null,"150 13 03 12  = Camlar"]
[null,150,13,"03","13",null,null,"Filtreler",null,"150 13 03 13  = Filtreler"]
[null,150,13,"03","14",null,null,"Oto Aksesuarları Grubu",null,"150 13 03 14  = Oto Aksesuarları Grubu"]
[null,150,13,"03","99",null,null,"Diğer Oto Yedek Parçaları",null,"150 13 03 99  = Diğer Oto Yedek Parçaları"]
[null,150,13,"04",null,null,null,"Büro Makineleri Grubu Yedek Parçaları",null,"150 13 04   = Büro Makineleri Grubu Yedek Parçaları"]
[null,150,13,"04","01",null,null,"Bilgisayar ve Sunucu Yedek Parçaları",null,"150 13 04 01  = Bilgisayar ve Sunucu Yedek Parçaları"]
[null,150,13,"04","01","01",null,"Bilgisayar Veri Giriş Cihazları",null,"150 13 04 01 01 = Bilgisayar Veri Giriş Cihazları"]
[null,150,13,"04","01","01","01","Klavyeler",null,"150 13 04 01 01 = Klavyeler"]
[null,150,13,"04","01","01","02","Fareler",null,"150 13 04 01 01 = Fareler"]
[null,150,13,"04","01","01","03","Mikrofonlar",null,"150 13 04 01 01 = Mikrofonlar"]
[null,150,13,"04","01","01","04","Modemler",null,"150 13 04 01 01 = Modemler"]
[null,150,13,"04","01","01","05","Kalemler (Stylus) ",null,"150 13 04 01 01 = Kalemler (Stylus) "]
[null,150,13,"04","01","01","06","Tabletler",null,"150 13 04 01 01 = Tabletler"]
[null,150,13,"04","01","01","99","Diğer Bilgisayar Veri Giriş Cihazları",null,"150 13 04 01 01 = Diğer Bilgisayar Veri Giriş Cihazları"]
[null,150,13,"04","01","02",null,"Bilgisayar Veri Çıkış Cihazları",null,"150 13 04 01 02 = Bilgisayar Veri Çıkış Cihazları"]
[null,150,13,"04","01","02","01","Hoparlörler",null,"150 13 04 01 02 = Hoparlörler"]
[null,150,13,"04","01","02","02","Kulaklıklar",null,{"$f":"IF(ISTEXT(H1157),CONCATENATE(B1156,\" \",C1156,\" \",D1156,\" \",E1156,\" \",F1156,\" = \",H1156),\"\")","v":"150 13 04 01 02 = Kulaklıklar"}]
[null,150,13,"04","01","02","99","Diğer Bilgisayar Veri Çıkış Cihazları",null,"150 13 04 01 02 = Diğer Bilgisayar Veri Çıkış Cihazları"]
[null,150,13,"04","01","03",null,"Ortam Depolama Cihazları",null,"150 13 04 01 03 = Ortam Depolama Cihazları"]
[null,150,13,"04","01","03","01","Disket Sürücüleri",null,"150 13 04 01 03 = Disket Sürücüleri"]
[null,150,13,"04","01","03","02","Cd Sürücüleri",null,"150 13 04 01 03 = Cd Sürücüleri"]
[null,150,13,"04","01","03","03","Dvd Sürücüleri",null,"150 13 04 01 03 = Dvd Sürücüleri"]
[null,150,13,"04","01","03","04","Sabit Disk  Dizileri",null,"150 13 04 01 03 = Sabit Disk  Dizileri"]
[null,150,13,"04","01","03","05","Sabit Disk Sürücüleri",null,"150 13 04 01 03 = Sabit Disk Sürücüleri"]
[null,150,13,"04","01","03","06","Teyp Kümeleri",null,"150 13 04 01 03 = Teyp Kümeleri"]
[null,150,13,"04","01","03","07","Teyp Sürücüleri",null,"150 13 04 01 03 = Teyp Sürücüleri"]
[null,150,13,"04","01","03","08","Salt Okunur Cd'ler",null,"150 13 04 01 03 = Salt Okunur Cd'ler"]
[null,150,13,"04","01","03","09","Manyeto-Optik (Mo) Sürücüler",null,"150 13 04 01 03 = Manyeto-Optik (Mo) Sürücüler"]
[null,150,13,"04","01","03","10","Yüksek Kapasiteli Çıkarılabilir Ortam Sürücüleri ",null,"150 13 04 01 03 = Yüksek Kapasiteli Çıkarılabilir Ortam Sürücüleri "]
[null,150,13,"04","01","03","11","Elektronik Ortam veya Veri Çoğaltma Ekipmanları",null,"150 13 04 01 03 = Elektronik Ortam veya Veri Çoğaltma Ekipmanları"]
[null,150,13,"04","01","03","12","Çevre Birimleri Mikrokanal Bağlantı Yapısı Okuyucu ve Yazıcı Sürücüleri",null,"150 13 04 01 03 = Çevre Birimleri Mikrokanal Bağlantı Yapısı Okuyucu ve Yazıcı Sürücüleri"]
[null,150,13,"04","01","03","13","Yüksek Yoğunluklu Optik (Udo) Sürücüler veya Autoloader veya Kitaplıklar",null,"150 13 04 01 03 = Yüksek Yoğunluklu Optik (Udo) Sürücüler veya Autoloader veya Kitaplıklar"]
[null,150,13,"04","01","03","99","Diğer Ortam Depolama Cihazları",null,"150 13 04 01 03 = Diğer Ortam Depolama Cihazları"]
[null,150,13,"04","01","04",null,"Ortam Depolama Cihazı Aksesuarları",null,"150 13 04 01 04 = Ortam Depolama Cihazı Aksesuarları"]
[null,150,13,"04","01","04","01","Optik Disk Değiştiricileri",null,"150 13 04 01 04 = Optik Disk Değiştiricileri"]
[null,150,13,"04","01","04","02","Teyp Sürücü Kitaplıkları",null,"150 13 04 01 04 = Teyp Sürücü Kitaplıkları"]
[null,150,13,"04","01","04","99","Diğer Ortam Depolama Cihazı Aksesuarları",null,"150 13 04 01 04 = Diğer Ortam Depolama Cihazı Aksesuarları"]
[null,150,13,"04","01","05",null,"Sistem Panelleri İşlemci Arabirimleri veya Modülleri",null,"150 13 04 01 05 = Sistem Panelleri İşlemci Arabirimleri veya Modülleri"]
[null,150,13,"04","01","05","01","Eşzamansız Aktarım Modu (Atm) Telekomünikasyon Cihazları Arabirim Kartları ",null,"150 13 04 01 05 = Eşzamansız Aktarım Modu (Atm) Telekomünikasyon Cihazları Arabirim Kartları "]
[null,150,13,"04","01","05","02","Audio Hızlandırıcı Kartları",null,"150 13 04 01 05 = Audio Hızlandırıcı Kartları"]
[null,150,13,"04","01","05","03","Merkezi İşlem Birimi (Cpu) İşlemcileri",null,"150 13 04 01 05 = Merkezi İşlem Birimi (Cpu) İşlemcileri"]
[null,150,13,"04","01","05","04","Ek Plaketler",null,"150 13 04 01 05 = Ek Plaketler"]
[null,150,13,"04","01","05","05","Dispersion Compensation Fiber Module (Dcfm)",null,"150 13 04 01 05 = Dispersion Compensation Fiber Module (Dcfm)"]
[null,150,13,"04","01","05","06","Exchange Datacom Modules (Santral Veri İletişim Modülleri)",null,"150 13 04 01 05 = Exchange Datacom Modules (Santral Veri İletişim Modülleri)"]
[null,150,13,"04","01","05","07","Anakartlar",null,"150 13 04 01 05 = Anakartlar"]
[null,150,13,"04","01","05","08","Paralel Port Kartları",null,"150 13 04 01 05 = Paralel Port Kartları"]
[null,150,13,"04","01","05","09","Video Yakalama Kartları",null,"150 13 04 01 05 = Video Yakalama Kartları"]
[null,150,13,"04","01","05","10","Mıdı (Müzik Aleti Sayısal Arabirimi) Arayüzü",null,"150 13 04 01 05 = Mıdı (Müzik Aleti Sayısal Arabirimi) Arayüzü"]
[null,150,13,"04","01","05","11","Santral Öğesi Codec Arayüzü",null,"150 13 04 01 05 = Santral Öğesi Codec Arayüzü"]
[null,150,13,"04","01","05","12","Seri Kızılötesi Portlar",null,"150 13 04 01 05 = Seri Kızılötesi Portlar"]
[null,150,13,"04","01","05","13","Yazıcı Paylaştırıcılar",null,"150 13 04 01 05 = Yazıcı Paylaştırıcılar"]
[null,150,13,"04","01","05","14","Merkezi İşlem Birimi Soğutucuları",null,"150 13 04 01 05 = Merkezi İşlem Birimi Soğutucuları"]
[null,150,13,"04","01","05","15","Konsol Kontrol Ana Çerçevesi",null,"150 13 04 01 05 = Konsol Kontrol Ana Çerçevesi"]
[null,150,13,"04","01","05","16","Kanal Dönüştürücü",null,"150 13 04 01 05 = Kanal Dönüştürücü"]
[null,150,13,"04","01","05","17","Kanaldan Kanala Arayüzey Ana Çerçevesi",null,"150 13 04 01 05 = Kanaldan Kanala Arayüzey Ana Çerçevesi"]
[null,150,13,"04","01","05","18","Kontrol Ünitesi",null,"150 13 04 01 05 = Kontrol Ünitesi"]
[null,150,13,"04","01","05","19","Coupler Facility Mainframe (Kuplör Ana Çatısı)",null,"150 13 04 01 05 = Coupler Facility Mainframe (Kuplör Ana Çatısı)"]
[null,150,13,"04","01","05","20","Arayüz Bus Dönüştürücü Veya Kontrol Birimi",null,"150 13 04 01 05 = Arayüz Bus Dönüştürücü Veya Kontrol Birimi"]
[null,150,13,"04","01","05","21","Faks Kartları",null,"150 13 04 01 05 = Faks Kartları"]
[null,150,13,"04","01","05","22","Audio Konferans Kartları",null,"150 13 04 01 05 = Audio Konferans Kartları"]
[null,150,13,"04","01","05","23","Ses Kartları",null,"150 13 04 01 05 = Ses Kartları"]
[null,150,13,"04","01","05","24","Arayüz Bus Anahtarları",null,"150 13 04 01 05 = Arayüz Bus Anahtarları"]
[null,150,13,"04","01","05","25","Ağ Paketi Veri Senkronizasyon Cihazları",null,"150 13 04 01 05 = Ağ Paketi Veri Senkronizasyon Cihazları"]
[null,150,13,"04","01","05","26","Donanım veya Telefon Adaptörleri",null,"150 13 04 01 05 = Donanım veya Telefon Adaptörleri"]
[null,150,13,"04","01","05","27","Alıcı Vericiler ve Medya Dönüştürücüleri",null,"150 13 04 01 05 = Alıcı Vericiler ve Medya Dönüştürücüleri"]
[null,150,13,"04","01","05","28","Pc Tv (Kişisel Bilgisayar Televizyon) Ayarlayıcıları",null,"150 13 04 01 05 = Pc Tv (Kişisel Bilgisayar Televizyon) Ayarlayıcıları"]
[null,150,13,"04","01","05","29","Pc Radyo Alıcıları",null,"150 13 04 01 05 = Pc Radyo Alıcıları"]
[null,150,13,"04","01","05","30","Scsı Adaptörleri",null,"150 13 04 01 05 = Scsı Adaptörleri"]
[null,150,13,"04","01","05","31","Raıd (Birleştirilmiş Bağımsız Disk Dizilimi) Kontrol Kartları",null,"150 13 04 01 05 = Raıd (Birleştirilmiş Bağımsız Disk Dizilimi) Kontrol Kartları"]
[null,150,13,"04","01","05","32","Fiber Kanal Kontrol Birimleri",null,"150 13 04 01 05 = Fiber Kanal Kontrol Birimleri"]
[null,150,13,"04","01","05","33","Seri Port Kartları",null,"150 13 04 01 05 = Seri Port Kartları"]
[null,150,13,"04","01","05","34","Ekran Kartları",null,"150 13 04 01 05 = Ekran Kartları"]
[null,150,13,"04","01","05","35","RAM ",null,"150 13 04 01 05 = RAM "]
[null,150,13,"04","01","05","99","Diğer Sistem Panelleri İşlemci Arabirimleri veya Modülleri",null,"150 13 04 01 05 = Diğer Sistem Panelleri İşlemci Arabirimleri veya Modülleri"]
[null,150,13,"04","01","06",null,"Şasi Elemanları",null,"150 13 04 01 06 = Şasi Elemanları"]
[null,150,13,"04","01","06","01","Bilgisayar Şasileri",null,"150 13 04 01 06 = Bilgisayar Şasileri"]
[null,150,13,"04","01","06","02","Ağ Donanımı Şasileri",null,"150 13 04 01 06 = Ağ Donanımı Şasileri"]
[null,150,13,"04","01","06","03","Şasi Yığıt Öğeleri",null,"150 13 04 01 06 = Şasi Yığıt Öğeleri"]
[null,150,13,"04","01","06","04","Elektronik Teçhizat Yuvaları",null,"150 13 04 01 06 = Elektronik Teçhizat Yuvaları"]
[null,150,13,"04","01","06","05","Genişleticiler (Expanders)",null,"150 13 04 01 06 = Genişleticiler (Expanders)"]
[null,150,13,"04","01","06","06","Drive Frames",null,{"$f":"IF(ISTEXT(H1221),CONCATENATE(B1220,\" \",C1220,\" \",D1220,\" \",E1220,\" \",F1220,\" = \",H1220),\"\")","v":"150 13 04 01 06 = Drive Frames"}]
[null,150,13,"04","01","06","07","Depolama Cihazı Tepsi veya Aksesuarları",null,"150 13 04 01 06 = Depolama Cihazı Tepsi veya Aksesuarları"]
[null,150,13,"04","01","06","08","Arka Yüz Veya Paneller ya da Asambleler",null,"150 13 04 01 06 = Arka Yüz Veya Paneller ya da Asambleler"]
[null,150,13,"04","01","06","09","Bilgisayar Önyüzleri",null,"150 13 04 01 06 = Bilgisayar Önyüzleri"]
[null,150,13,"04","01","06","10","Konsol Genişleticileri",null,"150 13 04 01 06 = Konsol Genişleticileri"]
[null,150,13,"04","01","06","11","Sürücü Yuvası Kapak Kitleri",null,"150 13 04 01 06 = Sürücü Yuvası Kapak Kitleri"]
[null,150,13,"04","01","06","12","Sabit Disk Sürücü Dizilim Kasaları",null,"150 13 04 01 06 = Sabit Disk Sürücü Dizilim Kasaları"]
[null,150,13,"04","01","06","13","Kart Kafesleri",null,"150 13 04 01 06 = Kart Kafesleri"]
[null,150,13,"04","01","06","14","Bilgisayar Çatısı Elemanları",null,"150 13 04 01 06 = Bilgisayar Çatısı Elemanları"]
[null,150,13,"04","01","06","99","Diğer Şasi Elemanları",null,"150 13 04 01 06 = Diğer Şasi Elemanları"]
[null,150,13,"04","01","99",null,"Diğer Bilgisayar ve Sunucu Yedek Parçaları",null,"150 13 04 01 99 = Diğer Bilgisayar ve Sunucu Yedek Parçaları"]
[null,150,13,"04","02",null,null,"Yazıcı, Fotokopi ve Faksimile Yedek Parçaları",null,"150 13 04 02  = Yazıcı, Fotokopi ve Faksimile Yedek Parçaları"]
[null,150,13,"04","02","01",null,"Yazıcı, Faks ve Fotokopi Kayışları",null,"150 13 04 02 01 = Yazıcı, Faks ve Fotokopi Kayışları"]
[null,150,13,"04","02","02",null,"Yazıcı, Faksimile Cihazı ve Fotokopi Makaraları (Drum)",null,"150 13 04 02 02 = Yazıcı, Faksimile Cihazı ve Fotokopi Makaraları (Drum)"]
[null,150,13,"04","02","03",null,"Yazıcı Kafaları",null,"150 13 04 02 03 = Yazıcı Kafaları"]
[null,150,13,"04","02","04",null,"Phaser veya İnkjet Yazıcı Takımları",null,"150 13 04 02 04 = Phaser veya İnkjet Yazıcı Takımları"]
[null,150,13,"04","02","05",null,"Laserjet Kaplama Takımları",null,"150 13 04 02 05 = Laserjet Kaplama Takımları"]
[null,150,13,"04","02","06",null,"Fotokopi Makineleri İçin Isı Transfer Kağıtları",null,"150 13 04 02 06 = Fotokopi Makineleri İçin Isı Transfer Kağıtları"]
[null,150,13,"04","02","07",null,"Toner Toplayıcılar",null,"150 13 04 02 07 = Toner Toplayıcılar"]
[null,150,13,"04","02","08",null,"Renk Opsiyonları veya Kaliteyi Yükseltme ",null,"150 13 04 02 08 = Renk Opsiyonları veya Kaliteyi Yükseltme "]
[null,150,13,"04","02","09",null,"Kağıt Giriş ve Çıkış Tepsileri",null,"150 13 04 02 09 = Kağıt Giriş ve Çıkış Tepsileri"]
[null,150,13,"04","02","10",null,"Kağıt Giriş ve Çıkıi Üniteleri",null,"150 13 04 02 10 = Kağıt Giriş ve Çıkıi Üniteleri"]
[null,150,13,"04","02","11",null,"Faksimile Ahizeleri",null,"150 13 04 02 11 = Faksimile Ahizeleri"]
[null,150,13,"04","02","12",null,"Ofis Makineleri Tepsi ve Besleme Üniteleri",null,"150 13 04 02 12 = Ofis Makineleri Tepsi ve Besleme Üniteleri"]
[null,150,13,"04","02","13",null,"Fotoiletken Üniteler veya Görüntüleme Üniteleri",null,"150 13 04 02 13 = Fotoiletken Üniteler veya Görüntüleme Üniteleri"]
[null,150,13,"04","02","14",null,"Zımbalama Üniteleri",null,"150 13 04 02 14 = Zımbalama Üniteleri"]
[null,150,13,"04","02","15",null,"Ozon Filtreleri",null,"150 13 04 02 15 = Ozon Filtreleri"]
[null,150,13,"04","02","16",null,"Ayna Takımları",null,"150 13 04 02 16 = Ayna Takımları"]
[null,150,13,"04","02","17",null,"Manyetik Pikap Asambleleri",null,"150 13 04 02 17 = Manyetik Pikap Asambleleri"]
[null,150,13,"04","02","18",null,"Komprosör Takımları",null,"150 13 04 02 18 = Komprosör Takımları"]
[null,150,13,"04","02","19",null,"Mailbox İstifleyicileri",null,"150 13 04 02 19 = Mailbox İstifleyicileri"]
[null,150,13,"04","02","20",null,"Kopya Sayıcılar",null,"150 13 04 02 20 = Kopya Sayıcılar"]
[null,150,13,"04","02","21",null,"Ofis Makineleri İçin Faksimile Üniteleri",null,"150 13 04 02 21 = Ofis Makineleri İçin Faksimile Üniteleri"]
[null,150,13,"04","02","22",null,"Delgi Üniteleri",null,"150 13 04 02 22 = Delgi Üniteleri"]
[null,150,13,"04","02","23",null,"Kızılötesi Adaptörler",null,"150 13 04 02 23 = Kızılötesi Adaptörler"]
[null,150,13,"04","02","24",null,"Kopyalama veya Tarama Donanımları",null,"150 13 04 02 24 = Kopyalama veya Tarama Donanımları"]
[null,150,13,"04","02","25",null,"Dil Karakterleri",null,"150 13 04 02 25 = Dil Karakterleri"]
[null,150,13,"04","02","26",null,"Araç Masuraları",null,"150 13 04 02 26 = Araç Masuraları"]
[null,150,13,"04","02","27",null,"Güç Yükselticileri",null,"150 13 04 02 27 = Güç Yükselticileri"]
[null,150,13,"04","02","28",null,"Çok Fonksiyonlu Yükselticiler",null,"150 13 04 02 28 = Çok Fonksiyonlu Yükselticiler"]
[null,150,13,"04","02","29",null,"Yazıcı Kabinleri",null,"150 13 04 02 29 = Yazıcı Kabinleri"]
[null,150,13,"04","02","30",null,"Yazıcı Emülasyon Yükselticileri",null,"150 13 04 02 30 = Yazıcı Emülasyon Yükselticileri"]
[null,150,13,"04","02","31",null,"Yazıcı Standları",null,"150 13 04 02 31 = Yazıcı Standları"]
[null,150,13,"04","02","32",null,"Rulo Besleme Üniteleri",null,"150 13 04 02 32 = Rulo Besleme Üniteleri"]
[null,150,13,"04","02","33",null,"Çıktı Sayfası İstifleyicileri",null,"150 13 04 02 33 = Çıktı Sayfası İstifleyicileri"]
[null,150,13,"04","02","99",null," Yazıcı, Fotokopi ve Faksimile Diğer Yedek Parçaları",null,"150 13 04 02 99 =  Yazıcı, Fotokopi ve Faksimile Diğer Yedek Parçaları"]
[null,150,13,"04","03",null,null,"Tarayıcı ve Okuyucu Donanımları",null,"150 13 04 03  = Tarayıcı ve Okuyucu Donanımları"]
[null,150,13,"04","04",null,null,"İletişim Tesisatı Yedek Parçaları",null,"150 13 04 04  = İletişim Tesisatı Yedek Parçaları"]
[null,150,"13","04","99",null,null,"Diğer Büro Makineleri Grubu Yedek Parçaları",null,"150 13 04 99  = Diğer Büro Makineleri Grubu Yedek Parçaları"]
[null,150,13,"05",null,null,null,"Su ve Sıhhi Tesisatı Yedek Parçaları",null,"150 13 05   = Su ve Sıhhi Tesisatı Yedek Parçaları"]
[null,150,13,"99",null,null,null,"Diğer Yedek Parçalar",null,"150 13 99   = Diğer Yedek Parçalar"]
[null,150,14,null,null,null,null,"Nakil Vasıtaları Lastikleri Grubu ",null,"150 14    = Nakil Vasıtaları Lastikleri Grubu "]
[null,150,14,"01",null,null,null,"Otomobil Lastikleri",null,"150 14 01   = Otomobil Lastikleri"]
[null,150,14,"02",null,null,null,"Minibüs, Kamyonet Lastikleri",null,"150 14 02   = Minibüs, Kamyonet Lastikleri"]
[null,150,14,"03",null,null,null,"Kamyon, Otobüs Lastikleri",null,"150 14 03   = Kamyon, Otobüs Lastikleri"]
[null,150,14,"04",null,null,null,"Traktör ve İş Makinesi Lastikleri",null,"150 14 04   = Traktör ve İş Makinesi Lastikleri"]
[null,150,14,"05",null,null,null,"Bisiklet Lastikleri",null,"150 14 05   = Bisiklet Lastikleri"]
[null,150,15,null,null,null,null,"Değişim, Bağış ve Satış Amaçlı Yayınlar Grubu ",null,"150 15    = Değişim, Bağış ve Satış Amaçlı Yayınlar Grubu "]
[null,150,15,"01",null,null,null,"Basılı Yayınlar",null,"150 15 01   = Basılı Yayınlar"]
[null,150,15,"01","01",null,null,"Kitaplar",null,"150 15 01 01  = Kitaplar"]
[null,150,15,"01","01","01",null,"Ansiklopediler",null,"150 15 01 01 01 = Ansiklopediler"]
[null,150,15,"01","01","02",null,"Sözlükler",null,"150 15 01 01 02 = Sözlükler"]
[null,150,15,"01","01","03",null,"Atlaslar",null,"150 15 01 01 03 = Atlaslar"]
[null,150,15,"01","01","04",null,"Mevzuat Kitapları",null,"150 15 01 01 04 = Mevzuat Kitapları"]
[null,150,15,"01","01","99",null,"Diğer Kitaplar",null,{"$f":"IF(ISTEXT(H1285),CONCATENATE(B1284,\" \",C1284,\" \",D1284,\" \",E1284,\" \",F1284,\" = \",H1284),\"\")","v":"150 15 01 01 99 = Diğer Kitaplar"}]
[null,150,15,"01","02",null,null,"Harita, Grafik, Plan ve Paftalar",null,"150 15 01 02  = Harita, Grafik, Plan ve Paftalar"]
[null,150,15,"01","03",null,null,"Notalar",null,"150 15 01 03  = Notalar"]
[null,150,"15","01","99",null,null,"Diğer Basılı Yayınlar",null,"150 15 01 99  = Diğer Basılı Yayınlar"]
[null,150,16,null,null,null,null,"Spor Malzemeleri Grubu ",null,"150 16    = Spor Malzemeleri Grubu "]
[null,150,16,"01",null,null,null,"Doğa Sporlarında Kullanılan Spor Malzemeleri",null,"150 16 01   = Doğa Sporlarında Kullanılan Spor Malzemeleri"]
[null,150,16,"02",null,null,null,"Salon Sporlarında Kullanılan Spor Malzemeleri",null,"150 16 02   = Salon Sporlarında Kullanılan Spor Malzemeleri"]
[null,150,16,"03",null,null,null,"Saha Sporlarında Kullanılan Spor Malzemeleri",null,"150 16 03   = Saha Sporlarında Kullanılan Spor Malzemeleri"]
[null,150,16,"99",null,null,null,"Diğer Spor Malzemeleri",null,"150 16 99   = Diğer Spor Malzemeleri"]
[null,150,"17",null,null,null,null,"Basınçlı Ekipmanlar",null,"150 17    = Basınçlı Ekipmanlar"]
[null,150,"17","01",null,null,null,"Pompalar",null,"150 17 01   = Pompalar"]
[null,150,"17","01","01",null,null,"Dalgıç Pompaları",null,"150 17 01 01  = Dalgıç Pompaları"]
[null,150,"17","01","02",null,null,"Derin Kuyu Pompaları",null,"150 17 01 02  = Derin Kuyu Pompaları"]
[null,150,"17","01","03",null,null,"Peristaltik Pompalar",null,"150 17 01 03  = Peristaltik Pompalar"]
[null,150,"17","01","04",null,null,"Mekanik Pompalar",null,"150 17 01 04  = Mekanik Pompalar"]
[null,150,"17","01","05",null,null,"Çok Kanallı Pompalar",null,"150 17 01 05  = Çok Kanallı Pompalar"]
[null,150,"17","01","06",null,null,"Devirdaim Pompalar",null,"150 17 01 06  = Devirdaim Pompalar"]
[null,150,"17","01","07",null,null,"Difüzyon Pompaları",null,"150 17 01 07  = Difüzyon Pompaları"]
[null,150,"17","01","08",null,null,"Sıvı İletim Pompaları",null,"150 17 01 08  = Sıvı İletim Pompaları"]
[null,150,"17","01","09",null,null,"Yüksek Basınçlı Rulman Yataklı Pompalar",null,"150 17 01 09  = Yüksek Basınçlı Rulman Yataklı Pompalar"]
[null,150,"17","01","10",null,null,"Dozaj Pompaları",null,"150 17 01 10  = Dozaj Pompaları"]
[null,150,"17","01","11",null,null,"Yağ Pompaları",null,"150 17 01 11  = Yağ Pompaları"]
[null,150,"17","01","12",null,null,"Bor Yağı Pompaları",null,"150 17 01 12  = Bor Yağı Pompaları"]
[null,150,"17","01","13",null,null,"Yağ Soğutmalı Pompalar",null,"150 17 01 13  = Yağ Soğutmalı Pompalar"]
[null,150,"17","01","14",null,null,"Kademeli Pompalar",null,"150 17 01 14  = Kademeli Pompalar"]
[null,150,"17","01","15",null,null,"Direnaj Pompaları",null,"150 17 01 15  = Direnaj Pompaları"]
[null,150,"17","01","16",null,null,"Vakum Pompaları",null,"150 17 01 16  = Vakum Pompaları"]
[null,150,"17","01","17",null,null,"Asit  Baz Pompaları",null,"150 17 01 17  = Asit  Baz Pompaları"]
[null,150,"17","01","18",null,null,"Hız Kontrollü Pompalar",null,"150 17 01 18  = Hız Kontrollü Pompalar"]
[null,150,"17","01","19",null,null,"Foseptik Pompaları",null,"150 17 01 19  = Foseptik Pompaları"]
[null,150,"17","01","20",null,null,"Multifox Pompaları",null,"150 17 01 20  = Multifox Pompaları"]
[null,150,"17","01","21",null,null,"Dağıtıcı Pompaları",null,"150 17 01 21  = Dağıtıcı Pompaları"]
[null,150,"17","01","22",null,null,"Sızdırmaz Pompalar",null,"150 17 01 22  = Sızdırmaz Pompalar"]
[null,150,"17","01","23",null,null,"Pistonlu Pompalar",null,"150 17 01 23  = Pistonlu Pompalar"]
[null,150,"17","01","24",null,null,"Sirkülasyon Pompaları",null,"150 17 01 24  = Sirkülasyon Pompaları"]
[null,150,"17","01","25",null,null,"Hidrolik Pompalar",null,"150 17 01 25  = Hidrolik Pompalar"]
[null,150,"17","01","26",null,null,"Dijital Pompalar",null,"150 17 01 26  = Dijital Pompalar"]
[null,150,"17","01","27",null,null,"İlaç Pompaları",null,"150 17 01 27  = İlaç Pompaları"]
[null,150,"17","01","99",null,null,"Diğer Pompalar",null,"150 17 01 99  = Diğer Pompalar"]
[null,150,99,null,null,null,null,"Diğer Tüketim Amaçlı Malzemeler",null,"150 99    = Diğer Tüketim Amaçlı Malzemeler"]
[null,150,99,"01",null,null,null,"Hediye Amaçlı Alınan Taşınırlar",null,"150 99 01   = Hediye Amaçlı Alınan Taşınırlar"]
[null,150,99,"02",null,null,null,"Ödül Amaçlı Alınan Taşınırlar",null,"150 99 02   = Ödül Amaçlı Alınan Taşınırlar"]
[null,150,"99","03",null,null,null,"Güvenlik, Korunma ve Gösteri Amaçlı Tüketim Malzemeleri",null,"150 99 03   = Güvenlik, Korunma ve Gösteri Amaçlı Tüketim Malzemeleri"]
[null,150,"99","03","01",null,null,"Mühimmat ve Mühimmat Malzemeleri",null,"150 99 03 01  = Mühimmat ve Mühimmat Malzemeleri"]
[null,150,"99","03","02",null,null,"Koruyucu Malzemeler ",null,"150 99 03 02  = Koruyucu Malzemeler "]
[null,150,"99","03","03",null,null,"Gösteri Amaçlı Tüketim Malzemeleri",null,"150 99 03 03  = Gösteri Amaçlı Tüketim Malzemeleri"]
[null,150,"99","03","99",null,null,"Diğer Güvenlik, Korunma, Yangın ve Gösteri Amaçlı Tüketim Malzemeleri",null,"150 99 03 99  = Diğer Güvenlik, Korunma, Yangın ve Gösteri Amaçlı Tüketim Malzemeleri"]
[null,150,"99","04",null,null,null,"Eğitim ve Öğretim Amaçlı Kullanılan Madde ve Malzemeler",null,"150 99 04   = Eğitim ve Öğretim Amaçlı Kullanılan Madde ve Malzemeler"]
[null,150,"99","05",null,null,null,"Sahne  Dekor, Kostüm ve Aksesuarları",null,"150 99 05   = Sahne  Dekor, Kostüm ve Aksesuarları"]
[null,150,"99","06",null,null,null,"Meteoroloji Bilimi Tüketim Malzemeleri",null,"150 99 06   = Meteoroloji Bilimi Tüketim Malzemeleri"]
[null,150,"99","07",null,null,null,"Sosyal Yardım Amaçlı Taşınırlar",null,"150 99 07   = Sosyal Yardım Amaçlı Taşınırlar"]
[null,150,"99","08",null,null,null,"Halka Açık Alanlarda Kullanılmak Üzere Edinilen Taşınırlar",null,"150 99 08   = Halka Açık Alanlarda Kullanılmak Üzere Edinilen Taşınırlar"]
[null,150,"99","98",null,null,null,"Üretimde Kullanılacak İlk Madde ve Malzemeler (Bu kod, TBMM Halı ve Çini-Porselen fabrikalarında kullanılan ilk madde ve malzemelerin kaydı için açılmıştır. Diğer idareler kullanamaz) ",null,"150 99 98   = Üretimde Kullanılacak İlk Madde ve Malzemeler (Bu kod, TBMM Halı ve Çini-Porselen fabrikalarında kullanılan ilk madde ve malzemelerin kaydı için açılmıştır. Diğer idareler kullanamaz) "]
[null,"253                                                    ",null,null,null,null,null," B- DAYANIKLI TAŞINIRLAR ",null,"253                                                         =  B- DAYANIKLI TAŞINIRLAR "]
[null,253,null,null,null,null,null,"Tesis, Makine ve Cihazlar",null,"253     = Tesis, Makine ve Cihazlar"]
[null,253,"01",null,null,null,null,"Tesisler Grubu",null,"253 01    = Tesisler Grubu"]
[null,253,"01","   ",null,null,null,"Taşınmaz olarak değerlendirildiğinden Taşınır Kod Listesine alınmamıştır. Sadece muhasebe detay hesap planlarında yer alacaktır.",null,""]
[null,null,null,null,null,null,null,null,null,"     = "]
[null,253,"02",null,null,null,null,"Makineler ve Aletler Grubu",null,"253 02    = Makineler ve Aletler Grubu"]
[null,253,"02","01",null,null,null,"Tarım ve Ormancılık Makineleri ve Aletleri",null,"253 02 01   = Tarım ve Ormancılık Makineleri ve Aletleri"]
[null,253,"02","01","01",null,null,"Toprak İşleme, Hasat ve Harman Makineleri",null,"253 02 01 01  = Toprak İşleme, Hasat ve Harman Makineleri"]
[null,253,"02","01","01","01",null,"Toprak İşleme Makineleri",null,"253 02 01 01 01 = Toprak İşleme Makineleri"]
[null,253,"02","01","01","02",null,"Ekim, Dikim, Çukur Açma Makineleri",null,"253 02 01 01 02 = Ekim, Dikim, Çukur Açma Makineleri"]
[null,253,"02","01","01","03",null,"Hasat ve Harman Makineleri",null,"253 02 01 01 03 = Hasat ve Harman Makineleri"]
[null,253,"02","01","01","04",null,"Gübreleme Makineleri",null,{"$f":"IF(ISTEXT(H1349),CONCATENATE(B1348,\" \",C1348,\" \",D1348,\" \",E1348,\" \",F1348,\" = \",H1348),\"\")","v":"253 02 01 01 04 = Gübreleme Makineleri"}]
[null,253,"02","01","01","99",null,"Diğer Toprak İşleme, Hasat ve Harman Makineleri",null,"253 02 01 01 99 = Diğer Toprak İşleme, Hasat ve Harman Makineleri"]
[null,253,"02","01","02",null,null,"Zirai Mücadele Makineleri",null,"253 02 01 02  = Zirai Mücadele Makineleri"]
[null,253,"02","01","02","01",null," Pülverizatörler, Atomizör ve Sisleme Cihazları",null,"253 02 01 02 01 =  Pülverizatörler, Atomizör ve Sisleme Cihazları"]
[null,253,"02","01","02","02",null,"Tohum İlaçlayıcılar",null,"253 02 01 02 02 = Tohum İlaçlayıcılar"]
[null,253,"02","01","02","03",null,"Bitki Koruma Makineleri",null,"253 02 01 02 03 = Bitki Koruma Makineleri"]
[null,253,"02","01","02","99",null,"Diğer Zirai Mücadele Makineleri",null,"253 02 01 02 99 = Diğer Zirai Mücadele Makineleri"]
[null,253,"02","01","03",null,null,"Tarla ve Bahçe Düzenleme ve Sulama Makineleri",null,"253 02 01 03  = Tarla ve Bahçe Düzenleme ve Sulama Makineleri"]
[null,253,"02","01","03","01",null,"Çim Biçme Makineleri ve Traktörleri",null,"253 02 01 03 01 = Çim Biçme Makineleri ve Traktörleri"]
[null,253,"02","01","03","02",null,"Budama Makineleri",null,"253 02 01 03 02 = Budama Makineleri"]
[null,253,"02","01","03","03",null,"Çit Düzeltme Makineleri",null,"253 02 01 03 03 = Çit Düzeltme Makineleri"]
[null,253,"02","01","03","04",null,"Motorlu Tırpanlar ",null,"253 02 01 03 04 = Motorlu Tırpanlar "]
[null,253,"02","01","03","05",null,"Sulama Amaçlı Motorlar",null,"253 02 01 03 05 = Sulama Amaçlı Motorlar"]
[null,253,"02","01","03","99",null,"Diğer Tarla ve Bahçe Düzenleme ve Sulama Makineleri",null,"253 02 01 03 99 = Diğer Tarla ve Bahçe Düzenleme ve Sulama Makineleri"]
[null,253,"02","01","04",null,null,"Yem İşleme ve Hazırlama Makineleri",null,"253 02 01 04  = Yem İşleme ve Hazırlama Makineleri"]
[null,253,"02","01","05",null,null,"Set Makineleri",null,"253 02 01 05  = Set Makineleri"]
[null,253,"02","01","06",null,null,"Tarım ve Ormancılık Makineleri ve Ekipmanları",null,"253 02 01 06  = Tarım ve Ormancılık Makineleri ve Ekipmanları"]
[null,253,"02","01","06","05",null,"Ağaç Kesme Makineleri",null,"253 02 01 06 05 = Ağaç Kesme Makineleri"]
[null,253,"02","01","06","06",null,"Ağaç Sökme Makineleri",null,"253 02 01 06 06 = Ağaç Sökme Makineleri"]
[null,253,"02","01","06","07",null,"Tomruk İstifleme ve Yükleme Makineleri",null,"253 02 01 06 07 = Tomruk İstifleme ve Yükleme Makineleri"]
[null,253,"02","01","06","99",null,"Diğer Tarım ve Ormancılık Makineleri ve Ekipmanları",null,"253 02 01 06 99 = Diğer Tarım ve Ormancılık Makineleri ve Ekipmanları"]
[null,253,"02","01","07",null,null,"Hayvancılık Makineleri ve Ekipmanları",null,"253 02 01 07  = Hayvancılık Makineleri ve Ekipmanları"]
[null,253,"02","01","99",null,null,"Diğer Tarım ve Ormancılık Makineleri ve Aletleri",null,"253 02 01 99  = Diğer Tarım ve Ormancılık Makineleri ve Aletleri"]
[null,253,"02","02",null,null,null,"İnşaat Makineleri ve Aletleri ",null,"253 02 02   = İnşaat Makineleri ve Aletleri "]
[null,253,"02","02","01",null,null,"İnşaat Makineleri",null,"253 02 02 01  = İnşaat Makineleri"]
[null,253,"02","02","01","01",null,"Harç Makineleri",null,"253 02 02 01 01 = Harç Makineleri"]
[null,253,"02","02","01","02",null,"Mozaik Makineleri",null,"253 02 02 01 02 = Mozaik Makineleri"]
[null,253,"02","02","01","03",null,"Çini ve Fayans Makineleri",null,"253 02 02 01 03 = Çini ve Fayans Makineleri"]
[null,253,"02","02","01","04",null,"Briket İmalinde Kulllanılan Makineler",null,"253 02 02 01 04 = Briket İmalinde Kulllanılan Makineler"]
[null,253,"02","02","01","05",null,"Harç Tekne ve Kalıpları",null,"253 02 02 01 05 = Harç Tekne ve Kalıpları"]
[null,253,"02","02","01","06",null,"Sıva, Boya, Badana Makineleri",null,"253 02 02 01 06 = Sıva, Boya, Badana Makineleri"]
[null,253,"02","02","01","07",null,"Dekupaj Makineleri",null,"253 02 02 01 07 = Dekupaj Makineleri"]
[null,253,"02","02","01","08",null,"Titreşim Makineleri",null,"253 02 02 01 08 = Titreşim Makineleri"]
[null,253,"02","02","01","09",null,"Perdah Makineleri",null,"253 02 02 01 09 = Perdah Makineleri"]
[null,253,"02","02","01","10",null,"Betoniyerler",null,"253 02 02 01 10 = Betoniyerler"]
[null,253,"02","02","01","11",null,"Portatif Kaloriferler",null,"253 02 02 01 11 = Portatif Kaloriferler"]
[null,253,"02","02","01","12",null,"Demir Bükme ve Kesme Makineleri",null,"253 02 02 01 12 = Demir Bükme ve Kesme Makineleri"]
[null,253,"02","02","01","13",null,"Zemin Frezeleri",null,"253 02 02 01 13 = Zemin Frezeleri"]
[null,253,"02","02","01","14",null,"Çivileme Makineleri",null,"253 02 02 01 14 = Çivileme Makineleri"]
[null,253,"02","02","01","15",null,"Raptiyeleme Zımbalama Makineleri",null,"253 02 02 01 15 = Raptiyeleme Zımbalama Makineleri"]
[null,253,"02","02","01","99",null,"Diğer İnşaat Makineleri",null,"253 02 02 01 99 = Diğer İnşaat Makineleri"]
[null,253,"02","02","02",null,null,"İnşaat Aletleri",null,"253 02 02 02  = İnşaat Aletleri"]
[null,253,"02","02","02","01",null,"El Arabaları",null,"253 02 02 02 01 = El Arabaları"]
[null,253,"02","02","02","02",null,"Asma İskeleler",null,"253 02 02 02 02 = Asma İskeleler"]
[null,253,"02","02","02","03",null,"Su Terazileri",null,"253 02 02 02 03 = Su Terazileri"]
[null,253,"02","02","02","04",null,"Vibratörler",null,"253 02 02 02 04 = Vibratörler"]
[null,253,"02","02","02","05",null,"Nivo Aletleri",null,"253 02 02 02 05 = Nivo Aletleri"]
[null,253,"02","02","02","06",null,"Beton Test Tabancaları",null,"253 02 02 02 06 = Beton Test Tabancaları"]
[null,253,"02","02","02","07",null,"Merdivenler",null,"253 02 02 02 07 = Merdivenler"]
[null,253,"02","02","02","08",null,"Tesviyeci Pergelleri",null,"253 02 02 02 08 = Tesviyeci Pergelleri"]
[null,253,"02","02","02","09",null,"Raspalama Makineleri",null,"253 02 02 02 09 = Raspalama Makineleri"]
[null,253,"02","02","02","99",null,"Diğer İnşaat Aletleri",null,"253 02 02 02 99 = Diğer İnşaat Aletleri"]
[null,253,"02","02","99",null,null,"Diğer İnşaat Makineleri ve Aletleri ",null,"253 02 02 99  = Diğer İnşaat Makineleri ve Aletleri "]
[null,253,"02","03",null,null,null,"Atölye Makineleri ve Aletleri",null,"253 02 03   = Atölye Makineleri ve Aletleri"]
[null,253,"02","03","01",null,null,"Genel Amaçlı Atölye Makineleri",null,"253 02 03 01  = Genel Amaçlı Atölye Makineleri"]
[null,253,"02","03","01","01",null,"Torna Tezgahları ve Makineleri",null,"253 02 03 01 01 = Torna Tezgahları ve Makineleri"]
[null,253,"02","03","01","02",null,"Freze Tezgahları ve Makineleri",null,"253 02 03 01 02 = Freze Tezgahları ve Makineleri"]
[null,253,"02","03","01","03",null,"Palanya Tezgahları ve Makineleri",null,"253 02 03 01 03 = Palanya Tezgahları ve Makineleri"]
[null,253,"02","03","01","04",null,"Tesviye Tezgahları ve Makineleri",null,"253 02 03 01 04 = Tesviye Tezgahları ve Makineleri"]
[null,253,"02","03","01","05",null,"Pres Makineleri",null,"253 02 03 01 05 = Pres Makineleri"]
[null,253,"02","03","01","06",null,"Matkap Makineleri",null,"253 02 03 01 06 = Matkap Makineleri"]
[null,253,"02","03","01","07",null,"Kaynak Makineleri",null,"253 02 03 01 07 = Kaynak Makineleri"]
[null,253,"02","03","01","08",null,"Punto Makineleri",null,"253 02 03 01 08 = Punto Makineleri"]
[null,253,"02","03","01","09",null,"Kesme Makineleri ve Giyotinler",null,"253 02 03 01 09 = Kesme Makineleri ve Giyotinler"]
[null,253,"02","03","01","10",null,"Bileme Makineleri",null,{"$f":"IF(ISTEXT(H1413),CONCATENATE(B1412,\" \",C1412,\" \",D1412,\" \",E1412,\" \",F1412,\" = \",H1412),\"\")","v":"253 02 03 01 10 = Bileme Makineleri"}]
[null,253,"02","03","01","11",null,"Bükme ve Kıvırma Makineleri",null,"253 02 03 01 11 = Bükme ve Kıvırma Makineleri"]
[null,253,"02","03","01","12",null,"Kertme Makineleri",null,"253 02 03 01 12 = Kertme Makineleri"]
[null,253,"02","03","01","13",null,"Kopya Makineleri",null,"253 02 03 01 13 = Kopya Makineleri"]
[null,253,"02","03","01","14",null,"Kordon Makineleri",null,"253 02 03 01 14 = Kordon Makineleri"]
[null,253,"02","03","01","15",null,"Klavuz Çekme Makineleri",null,"253 02 03 01 15 = Klavuz Çekme Makineleri"]
[null,253,"02","03","01","16",null,"Diş Çentik Açma Makineleri ",null,"253 02 03 01 16 = Diş Çentik Açma Makineleri "]
[null,253,"02","03","01","17",null,"Bobin Sarma Makineleri",null,"253 02 03 01 17 = Bobin Sarma Makineleri"]
[null,253,"02","03","01","18",null,"Karo Makineleri",null,"253 02 03 01 18 = Karo Makineleri"]
[null,253,"02","03","01","19",null,"Tenekeleme Makineleri",null,"253 02 03 01 19 = Tenekeleme Makineleri"]
[null,253,"02","03","01","20",null,"Ezici Makineler",null,"253 02 03 01 20 = Ezici Makineler"]
[null,253,"02","03","01","21",null,"Serigrafi Makineleri",null,"253 02 03 01 21 = Serigrafi Makineleri"]
[null,253,"02","03","01","22",null,"Rötuş Makineleri",null,"253 02 03 01 22 = Rötuş Makineleri"]
[null,253,"02","03","01","23",null,"Orta Kayıt Alıştırma Makineleri",null,"253 02 03 01 23 = Orta Kayıt Alıştırma Makineleri"]
[null,253,"02","03","01","24",null,"Taşlama Makineleri",null,"253 02 03 01 24 = Taşlama Makineleri"]
[null,253,"02","03","01","25",null,"Zımparalama Makineleri",null,"253 02 03 01 25 = Zımparalama Makineleri"]
[null,253,"02","03","01","26",null,"Somun Sıkma Makineleri",null,"253 02 03 01 26 = Somun Sıkma Makineleri"]
[null,253,"02","03","01","27",null,"Peletleme Makineleri",null,"253 02 03 01 27 = Peletleme Makineleri"]
[null,253,"02","03","01","28",null,"Örnek Hazırlama Makineleri (Bölücü ve Parçalayıcılar)",null,"253 02 03 01 28 = Örnek Hazırlama Makineleri (Bölücü ve Parçalayıcılar)"]
[null,253,"02","03","01","29",null,"Öğütme (Değirmenler) Kırma ve Doldurma Makineleri",null,"253 02 03 01 29 = Öğütme (Değirmenler) Kırma ve Doldurma Makineleri"]
[null,253,"02","03","01","30",null,"Boru Genişleticiler",null,"253 02 03 01 30 = Boru Genişleticiler"]
[null,253,"02","03","01","99",null,"Genel Amaçlı Diğer Atölye Makineleri",null,"253 02 03 01 99 = Genel Amaçlı Diğer Atölye Makineleri"]
[null,253,"02","03","02",null,null,"Genel Amaçlı Atölye Alet ve Gereçleri",null,"253 02 03 02  = Genel Amaçlı Atölye Alet ve Gereçleri"]
[null,253,"02","03","02","01",null,"Anahtar Takımları ve Takım Çantaları",null,"253 02 03 02 01 = Anahtar Takımları ve Takım Çantaları"]
[null,253,"02","03","02","02",null,"Filler Çakısı",null,"253 02 03 02 02 = Filler Çakısı"]
[null,253,"02","03","02","03",null,"Makaslar",null,"253 02 03 02 03 = Makaslar"]
[null,253,"02","03","02","04",null,"Atölye ve El Tabancaları",null,"253 02 03 02 04 = Atölye ve El Tabancaları"]
[null,253,"02","03","02","05",null,"Takımlar",null,"253 02 03 02 05 = Takımlar"]
[null,253,"02","03","02","06",null,"Mengeneler",null,"253 02 03 02 06 = Mengeneler"]
[null,253,"02","03","02","07",null,"Tutucular",null,"253 02 03 02 07 = Tutucular"]
[null,253,"02","03","02","08",null,"Isıl İşlem Aletleri",null,"253 02 03 02 08 = Isıl İşlem Aletleri"]
[null,253,"02","03","02","99",null,"Diğer Genel Amaçlı Atölye Alet ve Gereçler",null,"253 02 03 02 99 = Diğer Genel Amaçlı Atölye Alet ve Gereçler"]
[null,253,"02","03","03",null,null,"Marangoz Atölyesi Makine ve Aletleri",null,"253 02 03 03  = Marangoz Atölyesi Makine ve Aletleri"]
[null,253,"02","03","03","01",null,"Yapıştırma Makineleri",null,"253 02 03 03 01 = Yapıştırma Makineleri"]
[null,253,"02","03","03","02",null,"Motorlu Testereler",null,"253 02 03 03 02 = Motorlu Testereler"]
[null,253,"02","03","03","03",null,"Panel Ebatlama Makineleri",null,"253 02 03 03 03 = Panel Ebatlama Makineleri"]
[null,253,"02","03","03","04",null,"Temizleme Makineleri",null,"253 02 03 03 04 = Temizleme Makineleri"]
[null,253,"02","03","03","05",null,"Kesim Makineleri",null,"253 02 03 03 05 = Kesim Makineleri"]
[null,253,"02","03","03","06",null,"PVC Makineleri",null,"253 02 03 03 06 = PVC Makineleri"]
[null,253,"02","03","03","07",null,"Hızar Arabaları",null,"253 02 03 03 07 = Hızar Arabaları"]
[null,253,"02","03","03","08",null,"Transpoar Tezgahları",null,"253 02 03 03 08 = Transpoar Tezgahları"]
[null,253,"02","03","03","09",null,"Palanyalar",null,"253 02 03 03 09 = Palanyalar"]
[null,253,"02","03","03","99",null," Marangoz Atölyesinde Kullanılan Diğer Makine ve Aletler",null,"253 02 03 03 99 =  Marangoz Atölyesinde Kullanılan Diğer Makine ve Aletler"]
[null,253,"02","03","04",null,null,"Oto Tamir Atölyesi Makine ve Aletleri",null,"253 02 03 04  = Oto Tamir Atölyesi Makine ve Aletleri"]
[null,253,"02","03","04","01",null,"Kompresyon Ölçerler",null,"253 02 03 04 01 = Kompresyon Ölçerler"]
[null,253,"02","03","04","02",null,"Buji Temizleyiciler",null,"253 02 03 04 02 = Buji Temizleyiciler"]
[null,253,"02","03","04","03",null,"Motor Test Makineleri",null,"253 02 03 04 03 = Motor Test Makineleri"]
[null,253,"02","03","04","04",null,"Kaporta İşleme Makineleri",null,"253 02 03 04 04 = Kaporta İşleme Makineleri"]
[null,253,"02","03","04","05",null,"Oto Tamir Atölyesinde Kullanılan Ölçüm ve Ayar Cihaz ve Aletleri",null,"253 02 03 04 05 = Oto Tamir Atölyesinde Kullanılan Ölçüm ve Ayar Cihaz ve Aletleri"]
[null,253,"02","03","04","06",null,"Muhtelif Tamir Takımları ve Takım Çantaları",null,"253 02 03 04 06 = Muhtelif Tamir Takımları ve Takım Çantaları"]
[null,253,"02","03","04","99",null,"Oto Tamir Atölyesinde Kullanılan Diğer Makine ve Aletler",null,"253 02 03 04 99 = Oto Tamir Atölyesinde Kullanılan Diğer Makine ve Aletler"]
[null,253,"02","03","05",null,null,"Cam İşleme Atölyesi Makine ve Aletleri",null,"253 02 03 05  = Cam İşleme Atölyesi Makine ve Aletleri"]
[null,253,"02","03","05","01",null,"Cam İşleme ve Temperleme Makineleri",null,"253 02 03 05 01 = Cam İşleme ve Temperleme Makineleri"]
[null,253,"02","03","05","02",null,"Cam Kesme Makineleri",null,"253 02 03 05 02 = Cam Kesme Makineleri"]
[null,253,"02","03","05","03",null,"Cam Yıkama Presleme Makineleri",null,"253 02 03 05 03 = Cam Yıkama Presleme Makineleri"]
[null,253,"02","03","05","04",null,"Broşlama Makineleri",null,"253 02 03 05 04 = Broşlama Makineleri"]
[null,253,"02","03","05","05",null,"Cam Taşıma Vantuzları",null,"253 02 03 05 05 = Cam Taşıma Vantuzları"]
[null,253,"02","03","05","06",null,"Bizote Makineleri",null,"253 02 03 05 06 = Bizote Makineleri"]
[null,253,"02","03","05","07",null,"Cam Üretim Makineleri",null,"253 02 03 05 07 = Cam Üretim Makineleri"]
[null,253,"02","03","05","08",null,"Cam Taşıma Dorseleri",null,"253 02 03 05 08 = Cam Taşıma Dorseleri"]
[null,253,"02","03","05","09",null,"Cam İşleme Aletleri",null,"253 02 03 05 09 = Cam İşleme Aletleri"]
[null,253,"02","03","05","99",null,"Cam İşleme Atölyesinde Kullanılan Diğer Makine ve Aletler",null,"253 02 03 05 99 = Cam İşleme Atölyesinde Kullanılan Diğer Makine ve Aletler"]
[null,253,"02","03","06",null,null,"El Sanatları Atölyesi Makine ve Aletleri",null,"253 02 03 06  = El Sanatları Atölyesi Makine ve Aletleri"]
[null,253,"02","03","06","01",null,"Tekstil Makineleri ve Aletleri",null,"253 02 03 06 01 = Tekstil Makineleri ve Aletleri"]
[null,253,"02","03","06","02",null,"Kuyumculuk Makine ve Aletleri",null,{"$f":"IF(ISTEXT(H1477),CONCATENATE(B1476,\" \",C1476,\" \",D1476,\" \",E1476,\" \",F1476,\" = \",H1476),\"\")","v":"253 02 03 06 02 = Kuyumculuk Makine ve Aletleri"}]
[null,253,"02","03","06","99",null,"Diğer El Sanatları Atölyesi Makine ve Aletleri",null,"253 02 03 06 99 = Diğer El Sanatları Atölyesi Makine ve Aletleri"]
[null,253,"02","03","99",null,null,"Diğer Atölye Makineleri ve Aletleri",null,"253 02 03 99  = Diğer Atölye Makineleri ve Aletleri"]
[null,253,"02","04",null,null,null,"İş Makineleri ve Aletleri",null,"253 02 04   = İş Makineleri ve Aletleri"]
[null,253,"02","04","01",null,null,"Traktörler",null,"253 02 04 01  = Traktörler"]
[null,253,"02","04","02",null,null,"Dozerler",null,"253 02 04 02  = Dozerler"]
[null,253,"02","04","03",null,null,"Vinçler",null,"253 02 04 03  = Vinçler"]
[null,253,"02","04","04",null,null,"Kepçeler",null,"253 02 04 04  = Kepçeler"]
[null,253,"02","04","05",null,null,"Ekskavatörler",null,"253 02 04 05  = Ekskavatörler"]
[null,253,"02","04","06",null,null,"Greyderler",null,"253 02 04 06  = Greyderler"]
[null,253,"02","04","07",null,null,"Asfalt Makineleri",null,"253 02 04 07  = Asfalt Makineleri"]
[null,253,"02","04","08",null,null,"Silindirler",null,"253 02 04 08  = Silindirler"]
[null,253,"02","04","09",null,null,"Kırma Makineleri",null,"253 02 04 09  = Kırma Makineleri"]
[null,253,"02","04","10",null,null,"Eleme Makineleri",null,"253 02 04 10  = Eleme Makineleri"]
[null,253,"02","04","11",null,null,"Betonlama  Makineleri",null,"253 02 04 11  = Betonlama  Makineleri"]
[null,253,"02","04","12",null,null,"Sondaj Makineleri",null,"253 02 04 12  = Sondaj Makineleri"]
[null,253,"02","04","13",null,null,"Yükleyiciler",null,"253 02 04 13  = Yükleyiciler"]
[null,253,"02","04","14",null,null,"Kaya Kamyonları",null,"253 02 04 14  = Kaya Kamyonları"]
[null,253,"02","04","15",null,null,"Ekonomik Üretim Makineleri",null,"253 02 04 15  = Ekonomik Üretim Makineleri"]
[null,253,"02","04","16",null,null,"Motor Yenileme Makineleri",null,"253 02 04 16  = Motor Yenileme Makineleri"]
[null,253,"02","04","17",null,null,"Cıvata ve Somun Üretim Makineleri",null,"253 02 04 17  = Cıvata ve Somun Üretim Makineleri"]
[null,253,"02","04","18",null,null,"Forklifler",null,"253 02 04 18  = Forklifler"]
[null,253,"02","04","19",null,null,"Kırıcı ve Deliciler",null,"253 02 04 19  = Kırıcı ve Deliciler"]
[null,253,"02","04","20",null,null,"Derz ve Asfalt Kesme Makineleri",null,"253 02 04 20  = Derz ve Asfalt Kesme Makineleri"]
[null,253,"02","04","21",null,null,"Maden Makineleri",null,"253 02 04 21  = Maden Makineleri"]
[null,253,"02","04","22",null,null,"Transpaletler",null,"253 02 04 22  = Transpaletler"]
[null,253,"02","04","23",null,null,"Beko Loderler",null,"253 02 04 23  = Beko Loderler"]
[null,253,"02","04","99",null,null,"Diğer İş Makineleri ve Aletleri",null,"253 02 04 99  = Diğer İş Makineleri ve Aletleri"]
[null,253,"02","05",null,null,null,"Güç Elektroniği ve Basınçlı Makineler ile Aletleri",null,"253 02 05   = Güç Elektroniği ve Basınçlı Makineler ile Aletleri"]
[null,253,"02","05","01",null,null,"Sıkıştırma Makineleri (Kompresörler)",null,"253 02 05 01  = Sıkıştırma Makineleri (Kompresörler)"]
[null,253,"02","05","01","01",null,"Yağlı Kompresörler",null,"253 02 05 01 01 = Yağlı Kompresörler"]
[null,253,"02","05","01","02",null,"Yağsız Kompresörler",null,"253 02 05 01 02 = Yağsız Kompresörler"]
[null,253,"02","05","01","03",null,"Kasnaklı Yağlı Kompresörler",null,"253 02 05 01 03 = Kasnaklı Yağlı Kompresörler"]
[null,253,"02","05","01","04",null,"Yağsız Vidalı Kompresörler",null,"253 02 05 01 04 = Yağsız Vidalı Kompresörler"]
[null,253,"02","05","01","05",null,"Vidalı Sigma Profilli Kompresörler",null,"253 02 05 01 05 = Vidalı Sigma Profilli Kompresörler"]
[null,253,"02","05","01","06",null,"Vidalı Kompresörler",null,"253 02 05 01 06 = Vidalı Kompresörler"]
[null,253,"02","05","01","07",null,"Medikal Kompresörler",null,"253 02 05 01 07 = Medikal Kompresörler"]
[null,253,"02","05","01","08",null,"Pistonlu Hava Kompresörleri",null,"253 02 05 01 08 = Pistonlu Hava Kompresörleri"]
[null,253,"02","05","01","09",null,"Tek/ Çift Kademeli Pistonlu Tip Kompresörler",null,"253 02 05 01 09 = Tek/ Çift Kademeli Pistonlu Tip Kompresörler"]
[null,253,"02","05","01","10",null,"Teneffüs Havalı Kompresörler",null,"253 02 05 01 10 = Teneffüs Havalı Kompresörler"]
[null,253,"02","05","01","11",null,"Soğutma Kompresörleri",null,"253 02 05 01 11 = Soğutma Kompresörleri"]
[null,253,"02","05","01","12",null,"Alçak Basınç Kompresörleri",null,"253 02 05 01 12 = Alçak Basınç Kompresörleri"]
[null,253,"02","05","01","13",null,"Yüksek Basınç Kompresörleri",null,"253 02 05 01 13 = Yüksek Basınç Kompresörleri"]
[null,253,"02","05","01","14",null,"Direkt Akuple Tek Silindirli Kompresörler",null,"253 02 05 01 14 = Direkt Akuple Tek Silindirli Kompresörler"]
[null,253,"02","05","01","15",null,"Hermetik Kompresörler",null,"253 02 05 01 15 = Hermetik Kompresörler"]
[null,253,"02","05","01","16",null,"Dişçi Kompresörler",null,"253 02 05 01 16 = Dişçi Kompresörler"]
[null,253,"02","05","01","17",null,"Vakumlu Kompresörler",null,"253 02 05 01 17 = Vakumlu Kompresörler"]
[null,253,"02","05","01","18",null,"Seyyar Kompresörler",null,"253 02 05 01 18 = Seyyar Kompresörler"]
[null,253,"02","05","01","19",null,"Kompresör Saatleri",null,"253 02 05 01 19 = Kompresör Saatleri"]
[null,253,"02","05","01","99",null,"Diğer Sıkıştırma Makineleri (Kompresörler)",null,"253 02 05 01 99 = Diğer Sıkıştırma Makineleri (Kompresörler)"]
[null,253,"02","05","02",null,null,"Pompalar",null,"253 02 05 02  = Pompalar"]
[null,253,"02","05","03",null,null,"Hidroforlar  ",null,"253 02 05 03  = Hidroforlar  "]
[null,253,"02","05","03","01",null,"Tek Kademeli Hidroforlar",null,"253 02 05 03 01 = Tek Kademeli Hidroforlar"]
[null,253,"02","05","03","02",null,"Çok Kademeli Hidroforlar",null,"253 02 05 03 02 = Çok Kademeli Hidroforlar"]
[null,253,"02","05","03","03",null,"Jet Tipi Hidroforlar",null,"253 02 05 03 03 = Jet Tipi Hidroforlar"]
[null,253,"02","05","03","04",null,"Çok Pompalı Yüksek Kapasiteli Hidroforlar",null,"253 02 05 03 04 = Çok Pompalı Yüksek Kapasiteli Hidroforlar"]
[null,253,"02","05","03","05",null,"Paslanmaz Çelik Gövdeli Hidroforlar",null,"253 02 05 03 05 = Paslanmaz Çelik Gövdeli Hidroforlar"]
[null,253,"02","05","03","06",null,"Komple Paslanmaz Çalik Gövdeli Hidroforlar",null,"253 02 05 03 06 = Komple Paslanmaz Çalik Gövdeli Hidroforlar"]
[null,253,"02","05","03","07",null,"Pres Tipi Hidroforlar",null,"253 02 05 03 07 = Pres Tipi Hidroforlar"]
[null,253,"02","05","03","08",null,"Tam Otomatik Dikey Hidroforlar",null,"253 02 05 03 08 = Tam Otomatik Dikey Hidroforlar"]
[null,253,"02","05","03","09",null,"Hız Kontrollü Hidroforlar",null,"253 02 05 03 09 = Hız Kontrollü Hidroforlar"]
[null,253,"02","05","03","10",null,"Yangın Hidroforları",null,"253 02 05 03 10 = Yangın Hidroforları"]
[null,253,"02","05","03","11",null,"Piston Pompalı Hidroforlar",null,"253 02 05 03 11 = Piston Pompalı Hidroforlar"]
[null,253,"02","05","03","99",null,"Diğer Hidroforlar",null,"253 02 05 03 99 = Diğer Hidroforlar"]
[null,253,"02","05","04",null,null,"Tulumbalar",null,{"$f":"IF(ISTEXT(H1541),CONCATENATE(B1540,\" \",C1540,\" \",D1540,\" \",E1540,\" \",F1540,\" = \",H1540),\"\")","v":"253 02 05 04  = Tulumbalar"}]
[null,253,"02","05","04","01",null,"Emme Basma Tulumbaları",null,"253 02 05 04 01 = Emme Basma Tulumbaları"]
[null,253,"02","05","04","02",null,"Tazyik Tulumbaları",null,"253 02 05 04 02 = Tazyik Tulumbaları"]
[null,253,"02","05","04","03",null,"Dalgıç Tulumbaları",null,"253 02 05 04 03 = Dalgıç Tulumbaları"]
[null,253,"02","05","04","99",null,"Diğer Tulumbalar",null,"253 02 05 04 99 = Diğer Tulumbalar"]
[null,253,"02","05","05",null,null,"Ekovatlar ve Pnömatik Çekiçler",null,"253 02 05 05  = Ekovatlar ve Pnömatik Çekiçler"]
[null,253,"02","05","05","01",null,"Ekovatlar",null,"253 02 05 05 01 = Ekovatlar"]
[null,253,"02","05","05","02",null,"Pnömatik Çekiçler",null,"253 02 05 05 02 = Pnömatik Çekiçler"]
[null,253,"02","05","06",null,null,"Jeneratörler",null,"253 02 05 06  = Jeneratörler"]
[null,253,"02","05","06","01",null,"Dizel Jeneratörler",null,"253 02 05 06 01 = Dizel Jeneratörler"]
[null,253,"02","05","06","02",null,"Benzinli Jeneratörler",null,"253 02 05 06 02 = Benzinli Jeneratörler"]
[null,253,"02","05","06","03",null,"Portatif Jeneratörler",null,"253 02 05 06 03 = Portatif Jeneratörler"]
[null,253,"02","05","06","99",null,"Diğer Jenaratörler",null,"253 02 05 06 99 = Diğer Jenaratörler"]
[null,253,"02","05","07",null,null,"Kesintisiz Güç Kaynakları",null,"253 02 05 07  = Kesintisiz Güç Kaynakları"]
[null,253,"02","05","08",null,null,"Regülatörler",null,"253 02 05 08  = Regülatörler"]
[null,253,"02","05","09",null,null,"Hız Kontrol Birimleri",null,"253 02 05 09  = Hız Kontrol Birimleri"]
[null,253,"02","05","09","01",null,"Motor Hız Kontrol Birimleri",null,"253 02 05 09 01 = Motor Hız Kontrol Birimleri"]
[null,253,"02","05","09","02",null,"Takojeneratörler",null,"253 02 05 09 02 = Takojeneratörler"]
[null,253,"02","05","09","99",null,"Diğer Hız Kontrol Birimleri",null,"253 02 05 09 99 = Diğer Hız Kontrol Birimleri"]
[null,253,"02","05","10",null,null,"Motorlar",null,"253 02 05 10  = Motorlar"]
[null,253,"02","05","10","01",null,"Adım Motorlar ( Step Motor )",null,"253 02 05 10 01 = Adım Motorlar ( Step Motor )"]
[null,253,"02","05","10","02",null,"Asenkron Monofaze Motorlar",null,"253 02 05 10 02 = Asenkron Monofaze Motorlar"]
[null,253,"02","05","10","03",null,"Asenkron Trifaze Motorlar",null,"253 02 05 10 03 = Asenkron Trifaze Motorlar"]
[null,253,"02","05","10","04",null,"DC (Doğru Akım) Motorlar",null,"253 02 05 10 04 = DC (Doğru Akım) Motorlar"]
[null,253,"02","05","10","05",null,"Kalem Motorlar",null,"253 02 05 10 05 = Kalem Motorlar"]
[null,253,"02","05","10","06",null,"Senkron Motorlar",null,"253 02 05 10 06 = Senkron Motorlar"]
[null,253,"02","05","10","07",null,"Servomotorlar",null,"253 02 05 10 07 = Servomotorlar"]
[null,253,"02","05","10","99",null,"Diğer Motorlar",null,"253 02 05 10 99 = Diğer Motorlar"]
[null,253,"02","05","11",null,null,"Çeviriciler (Transformatörler)",null,"253 02 05 11  = Çeviriciler (Transformatörler)"]
[null,253,"02","05","12",null,null,"Akü Şarj Sistemleri",null,"253 02 05 12  = Akü Şarj Sistemleri"]
[null,253,"02","05","13",null,null,"Kondansatörler ve Ekipmanları",null,"253 02 05 13  = Kondansatörler ve Ekipmanları"]
[null,253,"02","05","99",null,null,"Diğer Güç Elektroniği ve Basınçlı Makineler ile Aletleri",null,"253 02 05 99  = Diğer Güç Elektroniği ve Basınçlı Makineler ile Aletleri"]
[null,253,"02","06",null,null,null,"Posta Makineleri",null,"253 02 06   = Posta Makineleri"]
[null,253,"02","06","01",null,null,"Mektup Pullama Makineleri",null,"253 02 06 01  = Mektup Pullama Makineleri"]
[null,253,"02","06","02",null,null,"Mektup Açma Makineleri",null,"253 02 06 02  = Mektup Açma Makineleri"]
[null,253,"02","06","03",null,null,"Mektup Damgalama Makineleri",null,"253 02 06 03  = Mektup Damgalama Makineleri"]
[null,253,"02","06","04",null,null,"İptal Damgası Makineleri",null,"253 02 06 04  = İptal Damgası Makineleri"]
[null,253,"02","06","05",null,null,"Adresleme Makineleri",null,"253 02 06 05  = Adresleme Makineleri"]
[null,253,"02","06","06",null,null,"Kağıt Katlama Cihazları",null,"253 02 06 06  = Kağıt Katlama Cihazları"]
[null,253,"02","06","07",null,null,"Pul Yapıştırma Makineleri",null,"253 02 06 07  = Pul Yapıştırma Makineleri"]
[null,253,"02","06","08",null,null,"Posta Makinesi Donanımları",null,"253 02 06 08  = Posta Makinesi Donanımları"]
[null,253,"02","06","09",null,null,"Posta Ücret Ödeme Makineleri",null,"253 02 06 09  = Posta Ücret Ödeme Makineleri"]
[null,253,"02","06","99",null,null,"Diğer Posta Makineleri",null,"253 02 06 99  = Diğer Posta Makineleri"]
[null,253,"02","07",null,null,null,"Paketleme Makineleri",null,"253 02 07   = Paketleme Makineleri"]
[null,253,"02","07","01",null,null,"Desteleme Makineleri",null,"253 02 07 01  = Desteleme Makineleri"]
[null,253,"02","07","02",null,null,"Ambalajlama Makineleri",null,"253 02 07 02  = Ambalajlama Makineleri"]
[null,253,"02","07","03",null,null,"Mühür Baskıları",null,"253 02 07 03  = Mühür Baskıları"]
[null,253,"02","07","04",null,null,"Paket Kapatma Makinesi",null,"253 02 07 04  = Paket Kapatma Makinesi"]
[null,253,"02","07","05",null,null,"Bant Germe veya  Tutturma Mekanizmaları",null,"253 02 07 05  = Bant Germe veya  Tutturma Mekanizmaları"]
[null,253,"02","07","06",null,null,"Bağlama Makineleri",null,"253 02 07 06  = Bağlama Makineleri"]
[null,253,"02","07","07",null,null,"Kart Birleştiriciler",null,"253 02 07 07  = Kart Birleştiriciler"]
[null,253,"02","07","99",null,null,"Diğer Paketleme Makineleri",null,"253 02 07 99  = Diğer Paketleme Makineleri"]
[null,253,"02","08",null,null,null,"Etiketleme ve Numaralandırma Makineleri",null,"253 02 08   = Etiketleme ve Numaralandırma Makineleri"]
[null,253,"02","08","01",null,null,"Tarihlendirme ve Numaralandırma Makineleri",null,"253 02 08 01  = Tarihlendirme ve Numaralandırma Makineleri"]
[null,253,"02","08","02",null,null,"Kimlik Baskı ve Pres Makineleri",null,"253 02 08 02  = Kimlik Baskı ve Pres Makineleri"]
[null,253,"02","08","03",null,null,"Etiket Yapıştırma Makineleri",null,"253 02 08 03  = Etiket Yapıştırma Makineleri"]
[null,253,"02","08","04",null,null,"Etiket Hazırlama Makineleri",null,"253 02 08 04  = Etiket Hazırlama Makineleri"]
[null,253,"02","08","05",null,null,"Harfleme Ekipmanları",null,"253 02 08 05  = Harfleme Ekipmanları"]
[null,253,"02","08","06",null,null,"Bantlama Makineleri",null,"253 02 08 06  = Bantlama Makineleri"]
[null,253,"02","08","07",null,null,"Otomatik Etiketleme Sistemleri",null,"253 02 08 07  = Otomatik Etiketleme Sistemleri"]
[null,253,"02","08","08",null,null,"Yarı Otomatik Etiketleme Sistemleri",null,"253 02 08 08  = Yarı Otomatik Etiketleme Sistemleri"]
[null,253,"02","08","09",null,null,"Yapışkan Etiket Kutuları",null,"253 02 08 09  = Yapışkan Etiket Kutuları"]
[null,253,"02","08","99",null,null,"Diğer Etiketlendirme ve Numaralandırma Makineleri",null,"253 02 08 99  = Diğer Etiketlendirme ve Numaralandırma Makineleri"]
[null,253,"02","09",null,null,null,"Ayırma, Sınıflandırma Makineleri",null,"253 02 09   = Ayırma, Sınıflandırma Makineleri"]
[null,253,"02","09","01",null,null,"Para Sayma Makineleri",null,{"$f":"IF(ISTEXT(H1605),CONCATENATE(B1604,\" \",C1604,\" \",D1604,\" \",E1604,\" \",F1604,\" = \",H1604),\"\")","v":"253 02 09 01  = Para Sayma Makineleri"}]
[null,253,"02","09","02",null,null,"Ayırıcılar",null,"253 02 09 02  = Ayırıcılar"]
[null,253,"02","09","03",null,null,"Bozuk Para  Paketleme Makineleri",null,"253 02 09 03  = Bozuk Para  Paketleme Makineleri"]
[null,253,"02","09","99",null,null,"Diğer Ayırma ve Sınıflandırma Makineleri",null,"253 02 09 99  = Diğer Ayırma ve Sınıflandırma Makineleri"]
[null,253,"02",10,null,null,null,"Matbaacılıkta Kullanılan Makine ve Aletler",null,"253 02 10   = Matbaacılıkta Kullanılan Makine ve Aletler"]
[null,253,"02",10,"01",null,null,"Yazım Makinelerı ve Ekipmanları",null,"253 02 10 01  = Yazım Makinelerı ve Ekipmanları"]
[null,253,"02",10,"01","01",null,"Ofset Baskı Makineleri",null,"253 02 10 01 01 = Ofset Baskı Makineleri"]
[null,253,"02",10,"01","02",null,"Tifdruk Baskı Makineleri",null,"253 02 10 01 02 = Tifdruk Baskı Makineleri"]
[null,253,"02",10,"01","03",null,"İpek Ekran Baskı Makineleri ",null,"253 02 10 01 03 = İpek Ekran Baskı Makineleri "]
[null,253,"02",10,"01","04",null,"UV Rotatif Baskı Makineleri",null,"253 02 10 01 04 = UV Rotatif Baskı Makineleri"]
[null,253,"02",10,"01","05",null,"Fleksografik Baskı Makineleri",null,"253 02 10 01 05 = Fleksografik Baskı Makineleri"]
[null,253,"02",10,"01","06",null,"Sıcak Damga Baskı Makineleri",null,"253 02 10 01 06 = Sıcak Damga Baskı Makineleri"]
[null,253,"02",10,"01","07",null,"Ticari Baskı Uygulamaları İçin İnkjet Baskı Makineleri",null,"253 02 10 01 07 = Ticari Baskı Uygulamaları İçin İnkjet Baskı Makineleri"]
[null,253,"02",10,"01","08",null,"Ticari Baskı Uygulamaları İçin Termal Transfer Baskı Makineleri",null,"253 02 10 01 08 = Ticari Baskı Uygulamaları İçin Termal Transfer Baskı Makineleri"]
[null,253,"02",10,"01","09",null,"Laminasyon Makineleri",null,"253 02 10 01 09 = Laminasyon Makineleri"]
[null,253,"02",10,"01","10",null,"Laminatör Makineleri",null,"253 02 10 01 10 = Laminatör Makineleri"]
[null,253,"02",10,"01","11",null,"Linotip Ekipmanları",null,"253 02 10 01 11 = Linotip Ekipmanları"]
[null,253,"02",10,"01","12",null,"Litografik Baskı Ekipmanları",null,"253 02 10 01 12 = Litografik Baskı Ekipmanları"]
[null,253,"02",10,"01","13",null,"Tampon Baskı Klişe",null,"253 02 10 01 13 = Tampon Baskı Klişe"]
[null,253,"02",10,"01","99",null,"Diğer Yazım Makineleri ve Ekipmanları",null,"253 02 10 01 99 = Diğer Yazım Makineleri ve Ekipmanları"]
[null,253,"02",10,"02",null,null,"Zımbalama, Dikim ve Ciltleme Makineleri ile Ekipmanları",null,"253 02 10 02  = Zımbalama, Dikim ve Ciltleme Makineleri ile Ekipmanları"]
[null,253,"02",10,"02","01",null,"Ciltleme Makineleri",null,"253 02 10 02 01 = Ciltleme Makineleri"]
[null,253,"02",10,"02","02",null,"Cilt Presleme Makineleri",null,"253 02 10 02 02 = Cilt Presleme Makineleri"]
[null,253,"02",10,"02","03",null,"Kırım Makineleri",null,"253 02 10 02 03 = Kırım Makineleri"]
[null,253,"02",10,"02","04",null,"Kesme Makineleri",null,"253 02 10 02 04 = Kesme Makineleri"]
[null,253,"02",10,"02","05",null,"Delgi Makineleri",null,"253 02 10 02 05 = Delgi Makineleri"]
[null,253,"02",10,"02","06",null,"Dikme Makineleri",null,"253 02 10 02 06 = Dikme Makineleri"]
[null,253,"02",10,"02","07",null,"Zımbalama Makineleri",null,"253 02 10 02 07 = Zımbalama Makineleri"]
[null,253,"02",10,"02","08",null,"Zımba Dikiş Makineleri",null,"253 02 10 02 08 = Zımba Dikiş Makineleri"]
[null,253,"02",10,"02","09",null,"Sarsma Makineleri",null,"253 02 10 02 09 = Sarsma Makineleri"]
[null,253,"02",10,"02","10",null,"Harmanlama Makineleri",null,"253 02 10 02 10 = Harmanlama Makineleri"]
[null,253,"02",10,"02","11",null,"Sayfa Düzenleme Makineleri",null,"253 02 10 02 11 = Sayfa Düzenleme Makineleri"]
[null,253,"02",10,"02","12",null,"Kağıt Ayırma Makineleri",null,"253 02 10 02 12 = Kağıt Ayırma Makineleri"]
[null,253,"02",10,"02","13",null,"Kitap Katlama Makineleri",null,"253 02 10 02 13 = Kitap Katlama Makineleri"]
[null,253,"02",10,"02","14",null,"Kağıt Öğütme Makineleri",null,"253 02 10 02 14 = Kağıt Öğütme Makineleri"]
[null,253,"02",10,"02","15",null,"Tutkallama Makineleri",null,"253 02 10 02 15 = Tutkallama Makineleri"]
[null,253,"02",10,"02","16",null,"Ozalit Makineleri",null,"253 02 10 02 16 = Ozalit Makineleri"]
[null,253,"02",10,"02","17",null,"Ozalit Plan Kopya Makineleri",null,"253 02 10 02 17 = Ozalit Plan Kopya Makineleri"]
[null,253,"02",10,"02","99",null,"Diğer Zımbalama, Dikim ve Ciltleme Makineleri ile Ekipmanları",null,"253 02 10 02 99 = Diğer Zımbalama, Dikim ve Ciltleme Makineleri ile Ekipmanları"]
[null,253,"02",10,"03",null,null,"Dizgi Makineleri",null,"253 02 10 03  = Dizgi Makineleri"]
[null,253,"02",10,"03","01",null,"İntertip Dizgi Makineleri",null,"253 02 10 03 01 = İntertip Dizgi Makineleri"]
[null,253,"02",10,"03","02",null,"Linotip Dizgi Makineleri",null,"253 02 10 03 02 = Linotip Dizgi Makineleri"]
[null,253,"02",10,"03","03",null,"Fotoğraf Dizgi Makineleri",null,"253 02 10 03 03 = Fotoğraf Dizgi Makineleri"]
[null,253,"02",10,"03","04",null,"Monotip Dizgi Makineleri",null,"253 02 10 03 04 = Monotip Dizgi Makineleri"]
[null,253,"02",10,"03","05",null,"Fototip Tertip Makineleri",null,"253 02 10 03 05 = Fototip Tertip Makineleri"]
[null,253,"02",10,"03","99",null,"Diğer Dizgi Makineleri",null,"253 02 10 03 99 = Diğer Dizgi Makineleri"]
[null,253,"02",10,"04",null,null,"Kalıp Hazırlama Makineleri ve Ekipmanları",null,"253 02 10 04  = Kalıp Hazırlama Makineleri ve Ekipmanları"]
[null,253,"02",10,"04","01",null,"Kalıp Hazırlama Makineleri",null,"253 02 10 04 01 = Kalıp Hazırlama Makineleri"]
[null,253,"02",10,"04","02",null,"Kalıp Maşaları",null,"253 02 10 04 02 = Kalıp Maşaları"]
[null,253,"02",10,"04","99",null,"Diğer Kalıp Hazırlama Makineleri ve Ekipmanları",null,"253 02 10 04 99 = Diğer Kalıp Hazırlama Makineleri ve Ekipmanları"]
[null,253,"02",10,"05",null,null,"Pliyaj-Bükme Makineleri",null,"253 02 10 05  = Pliyaj-Bükme Makineleri"]
[null,253,"02",10,"06",null,null,"Pozlandırma Makineleri",null,"253 02 10 06  = Pozlandırma Makineleri"]
[null,253,"02",10,"07",null,null,"Kağıt Kesme Makineleri",null,"253 02 10 07  = Kağıt Kesme Makineleri"]
[null,253,"02",10,"07","01",null,"El Tipi Kağıt Kesme Giyotinleri",null,"253 02 10 07 01 = El Tipi Kağıt Kesme Giyotinleri"]
[null,253,"02",10,"07","02",null,"Matbaa Tipi Kağıt Kesme Giyotinleri",null,"253 02 10 07 02 = Matbaa Tipi Kağıt Kesme Giyotinleri"]
[null,253,"02",10,"99",null,null,"Diğer Matbaa Makine, Araç ve Gereçleri",null,"253 02 10 99  = Diğer Matbaa Makine, Araç ve Gereçleri"]
[null,253,"02",10,"99","01",null,"Film Yıkama Cihazları",null,"253 02 10 99 01 = Film Yıkama Cihazları"]
[null,253,"02",10,"99","02",null,"Film Kurutma Cihazları",null,"253 02 10 99 02 = Film Kurutma Cihazları"]
[null,253,"02",10,"99","03",null,"Film Sarma Makineleri",null,"253 02 10 99 03 = Film Sarma Makineleri"]
[null,253,"02",10,"99","04",null,"Film Baskı Makineleri",null,"253 02 10 99 04 = Film Baskı Makineleri"]
[null,253,"02",10,"99","05",null,"Film Aydınlatma ve Ölçme Cihazları",null,"253 02 10 99 05 = Film Aydınlatma ve Ölçme Cihazları"]
[null,253,"02",10,"99","06",null,"Film Kopya Aletleri",null,"253 02 10 99 06 = Film Kopya Aletleri"]
[null,253,"02",10,"99","07",null,"Mürekkep Tabancaları",null,"253 02 10 99 07 = Mürekkep Tabancaları"]
[null,253,"02",10,"99","08",null,"Tutkal Kazanları",null,"253 02 10 99 08 = Tutkal Kazanları"]
[null,253,"02",10,"99","09",null,"Reflektörler",null,{"$f":"IF(ISTEXT(H1669),CONCATENATE(B1668,\" \",C1668,\" \",D1668,\" \",E1668,\" \",F1668,\" = \",H1668),\"\")","v":"253 02 10 99 09 = Reflektörler"}]
[null,253,"02",10,"99",10,null,"Recognita-Multi",null,"253 02 10 99 10 = Recognita-Multi"]
[null,253,"02",10,"99",11,null,"Renkli Fotomat IIC ve Akrasitor",null,"253 02 10 99 11 = Renkli Fotomat IIC ve Akrasitor"]
[null,253,"02",10,"99",12,null,"Leicafleks",null,"253 02 10 99 12 = Leicafleks"]
[null,253,"02",10,"99",13,null,"Argandizör",null,"253 02 10 99 13 = Argandizör"]
[null,253,"02",10,"99",14,null,"Pulser",null,"253 02 10 99 14 = Pulser"]
[null,253,"02",10,"99",15,null,"Poz Saatleri",null,"253 02 10 99 15 = Poz Saatleri"]
[null,253,"02",10,"99",16,null,"Işıklı Tabları",null,"253 02 10 99 16 = Işıklı Tabları"]
[null,253,"02",10,"99",17,null,"Çalışma Tezgahları",null,"253 02 10 99 17 = Çalışma Tezgahları"]
[null,253,"02",10,"99",18,null,"Saç Masalar ",null,"253 02 10 99 18 = Saç Masalar "]
[null,253,"02",10,"99","19",null,"Vivitar Sehpaları",null,"253 02 10 99 19 = Vivitar Sehpaları"]
[null,253,"02",10,"99","99",null,"Diğerleri",null,"253 02 10 99 99 = Diğerleri"]
[null,253,"03",null,null,null,null,"Cihazlar ve Aletler Grubu",null,"253 03    = Cihazlar ve Aletler Grubu"]
[null,253,"03","01",null,null,null,"Yıkama, Temizleme ve Ütüleme Cihaz ve Araçları",null,"253 03 01   = Yıkama, Temizleme ve Ütüleme Cihaz ve Araçları"]
[null,253,"03","01","01",null,null,"Zemin Temizleme Cihazları ",null,"253 03 01 01  = Zemin Temizleme Cihazları "]
[null,253,"03","01","01","01",null,"Vakumlu Temizleyiciler",null,"253 03 01 01 01 = Vakumlu Temizleyiciler"]
[null,253,"03","01","01","02",null,"Zemin Süpürme Makineleri",null,"253 03 01 01 02 = Zemin Süpürme Makineleri"]
[null,253,"03","01","01","03",null,"Zemin Yıkama Makineleri",null,"253 03 01 01 03 = Zemin Yıkama Makineleri"]
[null,253,"03","01","01","04",null,"Zemin Kazıyıcılar",null,"253 03 01 01 04 = Zemin Kazıyıcılar"]
[null,253,"03","01","01","05",null,"Zemin Parlatıcılar",null,"253 03 01 01 05 = Zemin Parlatıcılar"]
[null,253,"03","01","01","99",null,"Diğer Zemin Temizleme Cihazları",null,"253 03 01 01 99 = Diğer Zemin Temizleme Cihazları"]
[null,253,"03","01","02",null,null,"Çamaşır Yıkama ve Kurutma Makineleri ve Ekipmanları",null,"253 03 01 02  = Çamaşır Yıkama ve Kurutma Makineleri ve Ekipmanları"]
[null,253,"03","01","02","01",null,"Çamaşır Yıkama Makineleri",null,"253 03 01 02 01 = Çamaşır Yıkama Makineleri"]
[null,253,"03","01","02","02",null,"Çamaşır Kurutma Makineleri",null,"253 03 01 02 02 = Çamaşır Kurutma Makineleri"]
[null,253,"03","01","02","03",null,"Kuru Temizleme Cihazları",null,"253 03 01 02 03 = Kuru Temizleme Cihazları"]
[null,253,"03","01","02","04",null,"Leke Çıkarma Cihazları",null,"253 03 01 02 04 = Leke Çıkarma Cihazları"]
[null,253,"03","01","02","05",null,"Çamaşır Makinesi Jeton Üniteleri",null,"253 03 01 02 05 = Çamaşır Makinesi Jeton Üniteleri"]
[null,253,"03","01","02","06",null,"Çamaşır Arabaları",null,"253 03 01 02 06 = Çamaşır Arabaları"]
[null,253,"03","01","02","99",null,"Diğer Çamaşır Yıkama ve Kurutma Makineleri ve Ekipmanları",null,"253 03 01 02 99 = Diğer Çamaşır Yıkama ve Kurutma Makineleri ve Ekipmanları"]
[null,253,"03","01","03",null,null,"Bulaşık Yıkama Makineleri ve Ekipmanları",null,"253 03 01 03  = Bulaşık Yıkama Makineleri ve Ekipmanları"]
[null,253,"03","01","04",null,null,"Ütüleme - Katlama Makineleri ve Ekipmanları",null,"253 03 01 04  = Ütüleme - Katlama Makineleri ve Ekipmanları"]
[null,253,"03","01","04","01",null,"Ütü ve Pres Makineleri",null,"253 03 01 04 01 = Ütü ve Pres Makineleri"]
[null,253,"03","01","04","02",null,"Katlama Makineleri",null,"253 03 01 04 02 = Katlama Makineleri"]
[null,253,"03","01","04","03",null,"Çamaşır Katlama Tezgahları",null,"253 03 01 04 03 = Çamaşır Katlama Tezgahları"]
[null,253,"03","01","04","99",null,"Diğer Ütüleme - Katlama Makineleri ve Ekipmanları",null,"253 03 01 04 99 = Diğer Ütüleme - Katlama Makineleri ve Ekipmanları"]
[null,253,"03","01","05",null,null,"Oto Yıkama Makineleri",null,"253 03 01 05  = Oto Yıkama Makineleri"]
[null,253,"03","01","05","01",null,"Yüksek Basınçlı Portatif Yıkama Cihazları",null,"253 03 01 05 01 = Yüksek Basınçlı Portatif Yıkama Cihazları"]
[null,253,"03","01","05","02",null,"Vakumlu Temizliyiciler",null,"253 03 01 05 02 = Vakumlu Temizliyiciler"]
[null,253,"03","01","05","99",null,"Diğer Oto Yıkama Makineleri",null,"253 03 01 05 99 = Diğer Oto Yıkama Makineleri"]
[null,253,"03","01","99",null,null,"Diğer Yıkama, Temizleme ve Ütüleme Cihaz ve Araçları",null,"253 03 01 99  = Diğer Yıkama, Temizleme ve Ütüleme Cihaz ve Araçları"]
[null,253,"03","02",null,null,null,"Beslenme/Gıda ve Mutfak Cihaz ve Aletleri",null,"253 03 02   = Beslenme/Gıda ve Mutfak Cihaz ve Aletleri"]
[null,253,"03","02","01",null,null,"Soğutma ve Dondurma Amaçlı Cihazlar",null,"253 03 02 01  = Soğutma ve Dondurma Amaçlı Cihazlar"]
[null,253,"03","02","01","01",null,"Buzdolapları",null,"253 03 02 01 01 = Buzdolapları"]
[null,253,"03","02","01","02",null,"Dondurucular",null,"253 03 02 01 02 = Dondurucular"]
[null,253,"03","02","01","03",null,"Dondurma Makineleri",null,"253 03 02 01 03 = Dondurma Makineleri"]
[null,253,"03","02","01","99",null,"Diğer Soğutma ve Dondurma Amaçlı Cihazlar",null,"253 03 02 01 99 = Diğer Soğutma ve Dondurma Amaçlı Cihazlar"]
[null,253,"03","02","02",null,null,"Pişirme ve Isıtma Amaçlı Cihazlar",null,"253 03 02 02  = Pişirme ve Isıtma Amaçlı Cihazlar"]
[null,253,"03","02","02","01",null,"Fırınlar",null,"253 03 02 02 01 = Fırınlar"]
[null,253,"03","02","02","02",null,"Ocaklar",null,"253 03 02 02 02 = Ocaklar"]
[null,253,"03","02","02","03",null,"Yemek Isıtma Makineleri",null,"253 03 02 02 03 = Yemek Isıtma Makineleri"]
[null,253,"03","02","02","04",null,"Şofbenler",null,"253 03 02 02 04 = Şofbenler"]
[null,253,"03","02","02","05",null,"Elektrikli Su Isıtıcıları",null,"253 03 02 02 05 = Elektrikli Su Isıtıcıları"]
[null,253,"03","02","02","06",null,"Elektrikli Barbeküler",null,"253 03 02 02 06 = Elektrikli Barbeküler"]
[null,253,"03","02","02","07",null,"Elektrikli Izgaralar",null,"253 03 02 02 07 = Elektrikli Izgaralar"]
[null,253,"03","02","02","08",null,"Elektrikli Tost Makineleri",null,"253 03 02 02 08 = Elektrikli Tost Makineleri"]
[null,253,"03","02","02","09",null,"Yumurta Kaynatma Makineleri",null,"253 03 02 02 09 = Yumurta Kaynatma Makineleri"]
[null,253,"03","02","02","10",null,"Elektrikli Tavalar",null,"253 03 02 02 10 = Elektrikli Tavalar"]
[null,253,"03","02","02","99",null,"Diğer Pişirme ve Isıtma Amaçlı Cihazlar",null,"253 03 02 02 99 = Diğer Pişirme ve Isıtma Amaçlı Cihazlar"]
[null,253,"03","02","03",null,null,"Kızartma Amaçlı Cihazlar",null,"253 03 02 03  = Kızartma Amaçlı Cihazlar"]
[null,253,"03","02","03","01",null,"Fritözler",null,"253 03 02 03 01 = Fritözler"]
[null,253,"03","02","03","02",null,"Ekmek Kızartma Makineleri",null,"253 03 02 03 02 = Ekmek Kızartma Makineleri"]
[null,253,"03","02","03","03",null,"Piliç Kızartma Makineleri",null,"253 03 02 03 03 = Piliç Kızartma Makineleri"]
[null,253,"03","02","03","04",null,"Elektrikli Kızartma Tencereleri",null,"253 03 02 03 04 = Elektrikli Kızartma Tencereleri"]
[null,253,"03","02","03","99",null,"Diğer Kızartma Amaçlı Cihazlar",null,"253 03 02 03 99 = Diğer Kızartma Amaçlı Cihazlar"]
[null,253,"03","02","04",null,null,"Karıştırma, Sıkma ve Dilimleme Amaçlı Cihazlar",null,{"$f":"IF(ISTEXT(H1733),CONCATENATE(B1732,\" \",C1732,\" \",D1732,\" \",E1732,\" \",F1732,\" = \",H1732),\"\")","v":"253 03 02 04  = Karıştırma, Sıkma ve Dilimleme Amaçlı Cihazlar"}]
[null,253,"03","02","04","01",null,"Mikserler",null,"253 03 02 04 01 = Mikserler"]
[null,253,"03","02","04","02",null,"Blenderlar ",null,"253 03 02 04 02 = Blenderlar "]
[null,253,"03","02","04","03",null,"Mutfak Robotları",null,"253 03 02 04 03 = Mutfak Robotları"]
[null,253,"03","02","04","04",null,"Meyve Sıkacakları",null,"253 03 02 04 04 = Meyve Sıkacakları"]
[null,253,"03","02","04","99",null,"Diğer Karıştırma, Sıkma ve Dilimleme Amaçlı Cihazlar",null,"253 03 02 04 99 = Diğer Karıştırma, Sıkma ve Dilimleme Amaçlı Cihazlar"]
[null,253,"03","02","05",null,null,"Havalandırma Amaçlı Cihazlar",null,"253 03 02 05  = Havalandırma Amaçlı Cihazlar"]
[null,253,"03","02","05","01",null,"Davlumbazlar",null,"253 03 02 05 01 = Davlumbazlar"]
[null,253,"03","02","05","02",null,"Aspiratörler ve Fanlar",null,"253 03 02 05 02 = Aspiratörler ve Fanlar"]
[null,253,"03","02","05","99",null,"Diğer Havalandırma Amaçlı Cihazlar",null,"253 03 02 05 99 = Diğer Havalandırma Amaçlı Cihazlar"]
[null,253,"03","02","06",null,null,"Öğütme, Kıyma ve Püre Yapma Amaçlı Cihazlar",null,"253 03 02 06  = Öğütme, Kıyma ve Püre Yapma Amaçlı Cihazlar"]
[null,253,"03","02","06","01",null,"Çöp Öğütme Makineleri",null,"253 03 02 06 01 = Çöp Öğütme Makineleri"]
[null,253,"03","02","06","02",null,"Püre Makineleri",null,"253 03 02 06 02 = Püre Makineleri"]
[null,253,"03","02","06","03",null,"Kıyma Makineleri",null,"253 03 02 06 03 = Kıyma Makineleri"]
[null,253,"03","02","06","04",null,"Sebze Doğrama Makineleri",null,"253 03 02 06 04 = Sebze Doğrama Makineleri"]
[null,253,"03","02","06","05",null,"Biber veya Tuz Öğütücüsü veya Değirmenleri",null,"253 03 02 06 05 = Biber veya Tuz Öğütücüsü veya Değirmenleri"]
[null,253,"03","02","06","06",null,"Kahve Öğütücüleri",null,"253 03 02 06 06 = Kahve Öğütücüleri"]
[null,253,"03","02","06","99",null,"Diğer Öğütme, Kıyma ve Püre Yapma Amaçlı Cihazlar",null,"253 03 02 06 99 = Diğer Öğütme, Kıyma ve Püre Yapma Amaçlı Cihazlar"]
[null,253,"03","02","07",null,null,"İçecek Hazırlama Makineleri",null,"253 03 02 07  = İçecek Hazırlama Makineleri"]
[null,253,"03","02","07","01",null,"Kahve Makineleri",null,"253 03 02 07 01 = Kahve Makineleri"]
[null,253,"03","02","07","02",null,"Çay Makineleri",null,"253 03 02 07 02 = Çay Makineleri"]
[null,253,"03","02","07","03",null,"Kapuçino ve Ekspresso Makineleri",null,"253 03 02 07 03 = Kapuçino ve Ekspresso Makineleri"]
[null,253,"03","02","07","04",null,"Milkshake Makineleri",null,"253 03 02 07 04 = Milkshake Makineleri"]
[null,253,"03","02","07","99",null,"Diğer İçecek Hazırlama Makineleri",null,"253 03 02 07 99 = Diğer İçecek Hazırlama Makineleri"]
[null,253,"03","02","99",null,null,"Diğer Cihaz ve Makineler",null,"253 03 02 99  = Diğer Cihaz ve Makineler"]
[null,253,"03","02","99","01",null,"Vakum Makineleri",null,"253 03 02 99 01 = Vakum Makineleri"]
[null,253,"03","02","99","02",null,"Ekmek Yapma Makineleri",null,"253 03 02 99 02 = Ekmek Yapma Makineleri"]
[null,253,"03","02","99","03",null,"Hamur Yoğurma Makineleri",null,"253 03 02 99 03 = Hamur Yoğurma Makineleri"]
[null,253,"03","02","99","04",null,"Yoğurt Yapma Makineleri",null,"253 03 02 99 04 = Yoğurt Yapma Makineleri"]
[null,253,"03","02","99","05",null,"Kurabiye Makineleri",null,"253 03 02 99 05 = Kurabiye Makineleri"]
[null,253,"03","02","99","06",null,"Sebze ve Meyve Soyma Makineleri",null,"253 03 02 99 06 = Sebze ve Meyve Soyma Makineleri"]
[null,253,"03","02","99","07",null,"Elektrikli Konserve Açacakları",null,"253 03 02 99 07 = Elektrikli Konserve Açacakları"]
[null,253,"03","02","99","08",null,"Elektrikli Bıçaklar",null,"253 03 02 99 08 = Elektrikli Bıçaklar"]
[null,253,"03","02","99","09",null,"Mutfak veya Gıda Termometreleri",null,"253 03 02 99 09 = Mutfak veya Gıda Termometreleri"]
[null,253,"03","02","99","10",null,"Su Isıtıcıları ve Soğutucuları",null,"253 03 02 99 10 = Su Isıtıcıları ve Soğutucuları"]
[null,253,"03","02","99","11",null,"Mısır Patlatma Makineleri",null,"253 03 02 99 11 = Mısır Patlatma Makineleri"]
[null,253,"03","02","99","12",null,"Pamuk Şeker Makineleri ve Donanımları",null,"253 03 02 99 12 = Pamuk Şeker Makineleri ve Donanımları"]
[null,253,"03","02","99","13",null,"Sebze ve Meyve Yıkama Makineleri",null,"253 03 02 99 13 = Sebze ve Meyve Yıkama Makineleri"]
[null,253,"03","02","99","14",null,"Bulaşık Küveti",null,"253 03 02 99 14 = Bulaşık Küveti"]
[null,253,"03","02","99","15",null,"Yukarıdaki Gruplarda Sınıflandırılamayan Diğer Cihaz ve Makineler",null,"253 03 02 99 15 = Yukarıdaki Gruplarda Sınıflandırılamayan Diğer Cihaz ve Makineler"]
[null,253,"03","03",null,null,null,"Kurtarma Amaçlı Cihaz ve Aletler",null,"253 03 03   = Kurtarma Amaçlı Cihaz ve Aletler"]
[null,253,"03","03","01",null,null,"Deprem ve Göçükte Kullanılan Cihazlar",null,"253 03 03 01  = Deprem ve Göçükte Kullanılan Cihazlar"]
[null,253,"03","03","02",null,null,"Dağcılık, Arama ve Kurtarmada Kullanılan Cihazlar ve Ekipmanlar ",null,"253 03 03 02  = Dağcılık, Arama ve Kurtarmada Kullanılan Cihazlar ve Ekipmanlar "]
[null,253,"03","03","99",null,null,"Kurtarma Amaçlı Diğer Cihaz ve Aletler",null,"253 03 03 99  = Kurtarma Amaçlı Diğer Cihaz ve Aletler"]
[null,253,"03","04",null,null,null,"Ölçüm, Tartı, Çizim Cihazları ve Aletleri",null,"253 03 04   = Ölçüm, Tartı, Çizim Cihazları ve Aletleri"]
[null,253,"03","04","01",null,null,"Ağırlık, Hacim, Uzunluk ve Mesafe Ölçme Cihaz ve Aletleri",null,"253 03 04 01  = Ağırlık, Hacim, Uzunluk ve Mesafe Ölçme Cihaz ve Aletleri"]
[null,253,"03","04","01","01",null,"Ağırlık  Ölçme Cihaz, Alet ve Ekipmanları",null,"253 03 04 01 01 = Ağırlık  Ölçme Cihaz, Alet ve Ekipmanları"]
[null,253,"03","04","01","02",null,"Uzunluk Ölçme Cihaz ve Aletleri",null,"253 03 04 01 02 = Uzunluk Ölçme Cihaz ve Aletleri"]
[null,253,"03","04","01","03",null,"Mesafe ve Yükseklik Ölçme Cihaz ve Aletleri",null,"253 03 04 01 03 = Mesafe ve Yükseklik Ölçme Cihaz ve Aletleri"]
[null,253,"03","04","01","04",null,"Hacim Ölçme Cihaz ve Aletleri",null,"253 03 04 01 04 = Hacim Ölçme Cihaz ve Aletleri"]
[null,253,"03","04","02",null,null,"Hassas Ölçü Aletleri",null,"253 03 04 02  = Hassas Ölçü Aletleri"]
[null,253,"03","04","02","01",null,"Mikrometreler",null,"253 03 04 02 01 = Mikrometreler"]
[null,253,"03","04","02","02",null,"Kumpaslar",null,"253 03 04 02 02 = Kumpaslar"]
[null,253,"03","04","02","03",null,"Mihengirler",null,"253 03 04 02 03 = Mihengirler"]
[null,253,"03","04","02","04",null,"Komparatörler",null,"253 03 04 02 04 = Komparatörler"]
[null,253,"03","04","02","05",null,"İndikatörler",null,"253 03 04 02 05 = İndikatörler"]
[null,253,"03","04","02","99",null,"Diğer Hassas Ölçü Aletleri",null,"253 03 04 02 99 = Diğer Hassas Ölçü Aletleri"]
[null,253,"03","04","03",null,null,"Açı ve Eğim Ölçme Cihazları",null,"253 03 04 03  = Açı ve Eğim Ölçme Cihazları"]
[null,253,"03","04","03","01",null,"Gonimetreler",null,"253 03 04 03 01 = Gonimetreler"]
[null,253,"03","04","03","02",null,"Gönyeler ",null,"253 03 04 03 02 = Gönyeler "]
[null,253,"03","04","03","03",null,"Pergeller",null,"253 03 04 03 03 = Pergeller"]
[null,253,"03","04","03","04",null,"Klizimetre",null,"253 03 04 03 04 = Klizimetre"]
[null,253,"03","04","03","99",null,"Diğer Açı ve Eğim Ölçme Cihazları",null,"253 03 04 03 99 = Diğer Açı ve Eğim Ölçme Cihazları"]
[null,253,"03","04","04",null,null,"Nem ve Yoğunluk Ölçme ve Kontrol Cihazları",null,"253 03 04 04  = Nem ve Yoğunluk Ölçme ve Kontrol Cihazları"]
[null,253,"03","04","05",null,null,"Elektrik/Elektronik Konusu Ölçüm Cihazları",null,{"$f":"IF(ISTEXT(H1797),CONCATENATE(B1796,\" \",C1796,\" \",D1796,\" \",E1796,\" \",F1796,\" = \",H1796),\"\")","v":"253 03 04 05  = Elektrik/Elektronik Konusu Ölçüm Cihazları"}]
[null,253,"03","04","05","01",null,"Ampermetreler",null,"253 03 04 05 01 = Ampermetreler"]
[null,253,"03","04","05","02",null,"Voltmetreler-Manovoltmetreler",null,"253 03 04 05 02 = Voltmetreler-Manovoltmetreler"]
[null,253,"03","04","05","03",null,"Multimetreler ( Avometreler )",null,"253 03 04 05 03 = Multimetreler ( Avometreler )"]
[null,253,"03","04","05","04",null,"Analizörler",null,"253 03 04 05 04 = Analizörler"]
[null,253,"03","04","05","05",null,"Çeviriciler ( Konvertörler )",null,"253 03 04 05 05 = Çeviriciler ( Konvertörler )"]
[null,253,"03","04","05","06",null,"Çoklayıcılar ( Multiplexer )",null,"253 03 04 05 06 = Çoklayıcılar ( Multiplexer )"]
[null,253,"03","04","05","07",null,"Direnç Ölçerler",null,"253 03 04 05 07 = Direnç Ölçerler"]
[null,253,"03","04","05","08",null,"Elektrik Şebekesi Özel Test ve Ölçme Cihazları",null,"253 03 04 05 08 = Elektrik Şebekesi Özel Test ve Ölçme Cihazları"]
[null,253,"03","04","05","09",null,"Elektromagnetik Özellikleri Ölçme ve Test Cihazları",null,"253 03 04 05 09 = Elektromagnetik Özellikleri Ölçme ve Test Cihazları"]
[null,253,"03","04","05","10",null,"Fluksmetreler ( Akı Ölçer )",null,"253 03 04 05 10 = Fluksmetreler ( Akı Ölçer )"]
[null,253,"03","04","05","11",null,"Empedans Ölçme Cihazları",null,"253 03 04 05 11 = Empedans Ölçme Cihazları"]
[null,253,"03","04","05","12",null,"Emülatörler",null,"253 03 04 05 12 = Emülatörler"]
[null,253,"03","04","05","13",null,"Endüktans ve Kapasitans Ölçme Cihazları",null,"253 03 04 05 13 = Endüktans ve Kapasitans Ölçme Cihazları"]
[null,253,"03","04","05","14",null,"Entegre Devre Test Cihazları ( Yarı İletken Test Cihazları )",null,"253 03 04 05 14 = Entegre Devre Test Cihazları ( Yarı İletken Test Cihazları )"]
[null,253,"03","04","05","15",null,"Gerilim Kontrol Cihazları",null,"253 03 04 05 15 = Gerilim Kontrol Cihazları"]
[null,253,"03","04","05","16",null,"Güç Ölçerler",null,"253 03 04 05 16 = Güç Ölçerler"]
[null,253,"03","04","05","17",null,"Gürültü Ölçerler",null,"253 03 04 05 17 = Gürültü Ölçerler"]
[null,253,"03","04","05","18",null,"Hata Ölçme Düzenleri",null,"253 03 04 05 18 = Hata Ölçme Düzenleri"]
[null,253,"03","04","05","19",null,"İşaret Üreteçleri, Tarayıcılar",null,"253 03 04 05 19 = İşaret Üreteçleri, Tarayıcılar"]
[null,253,"03","04","05","20",null,"Kalibrasyon Cihazlar",null,"253 03 04 05 20 = Kalibrasyon Cihazlar"]
[null,253,"03","04","05","21",null,"Karakteristik Ölçerler",null,"253 03 04 05 21 = Karakteristik Ölçerler"]
[null,253,"03","04","05","22",null,"Kaydediciler",null,"253 03 04 05 22 = Kaydediciler"]
[null,253,"03","04","05","23",null,"Kazanç, Zayıf. Grup Gecikme ve Distorisyon Ölçme Düzenekleri",null,"253 03 04 05 23 = Kazanç, Zayıf. Grup Gecikme ve Distorisyon Ölçme Düzenekleri"]
[null,253,"03","04","05","24",null,"Kodlayıcılar",null,"253 03 04 05 24 = Kodlayıcılar"]
[null,253,"03","04","05","25",null,"Kuvvetlendiriciler ( Amplifikatörler )",null,"253 03 04 05 25 = Kuvvetlendiriciler ( Amplifikatörler )"]
[null,253,"03","04","05","26",null,"Akım Kuvvetlendiricileri",null,"253 03 04 05 26 = Akım Kuvvetlendiricileri"]
[null,253,"03","04","05","27",null,"Mikrodalga Ölçme Test Cihazları",null,"253 03 04 05 27 = Mikrodalga Ölçme Test Cihazları"]
[null,253,"03","04","05","28",null,"Frekansmetreler",null,"253 03 04 05 28 = Frekansmetreler"]
[null,253,"03","04","05","29",null,"Osilatörler",null,"253 03 04 05 29 = Osilatörler"]
[null,253,"03","04","05","30",null,"Osiloskoplar",null,"253 03 04 05 30 = Osiloskoplar"]
[null,253,"03","04","05","31",null,"Q-Metreler",null,"253 03 04 05 31 = Q-Metreler"]
[null,253,"03","04","05","32",null,"Sayıcılar",null,"253 03 04 05 32 = Sayıcılar"]
[null,253,"03","04","05","33",null,"Sentetizörler",null,"253 03 04 05 33 = Sentetizörler"]
[null,253,"03","04","05","34",null,"Simülatörler",null,"253 03 04 05 34 = Simülatörler"]
[null,253,"03","04","05","35",null,"Vektörskoplar",null,"253 03 04 05 35 = Vektörskoplar"]
[null,253,"03","04","05","36",null,"Veri Toplayıcılar",null,"253 03 04 05 36 = Veri Toplayıcılar"]
[null,253,"03","04","05","37",null,"Zayıflatıcılar",null,"253 03 04 05 37 = Zayıflatıcılar"]
[null,253,"03","04","05","99",null,"Diğer Elektrik/Elektronik Konusu Ölçüm Cihazları",null,"253 03 04 05 99 = Diğer Elektrik/Elektronik Konusu Ölçüm Cihazları"]
[null,253,"03","04","06",null,null,"Çizim Cihazları",null,"253 03 04 06  = Çizim Cihazları"]
[null,253,"03","04","99",null,null,"Diğer Ağırlık, Hacim, Uzunluk ve Mesafe Ölçme Cihaz ve Aletleri",null,"253 03 04 99  = Diğer Ağırlık, Hacim, Uzunluk ve Mesafe Ölçme Cihaz ve Aletleri"]
[null,253,"03","05",null,null,null,"Tıbbi ve Biyolojik Amaçlı Kullanılan Cihazlar ve Aletler ",null,"253 03 05   = Tıbbi ve Biyolojik Amaçlı Kullanılan Cihazlar ve Aletler "]
[null,253,"03","05","01",null,null,"Genel Amaçlı Tıbbi Cihazlar ve Aletler",null,"253 03 05 01  = Genel Amaçlı Tıbbi Cihazlar ve Aletler"]
[null,253,"03","05","02",null,null,"Mikro Biyoloji ve Gen Transfer Cihazları",null,"253 03 05 02  = Mikro Biyoloji ve Gen Transfer Cihazları"]
[null,253,"03","05","03",null,null,"Moleküler Biyoloji Özel Çalışma Cihazları",null,"253 03 05 03  = Moleküler Biyoloji Özel Çalışma Cihazları"]
[null,253,"03","05","04",null,null,"Kültür Ortam Cihazları ",null,"253 03 05 04  = Kültür Ortam Cihazları "]
[null,253,"03","05","05",null,null,"Sentezleyiciler",null,"253 03 05 05  = Sentezleyiciler"]
[null,253,"03","05","06",null,null,"Cerrahi (Ameliyathane) Amaçlı Kullanılan Cihaz ve Aletler",null,"253 03 05 06  = Cerrahi (Ameliyathane) Amaçlı Kullanılan Cihaz ve Aletler"]
[null,253,"03","05","07",null,null,"Cildiye-Puva Teşhis ve Tedavi Cihaz ve Aletleri",null,"253 03 05 07  = Cildiye-Puva Teşhis ve Tedavi Cihaz ve Aletleri"]
[null,253,"03","05","08",null,null,"Diş Hekimliği Teşhis ve Tedavi Cihaz ve Aletleri",null,"253 03 05 08  = Diş Hekimliği Teşhis ve Tedavi Cihaz ve Aletleri"]
[null,253,"03","05","09",null,null,"Fizik Tedavi Ünitesi Teşhis ve Tedavi Cihaz ve Aletleri",null,"253 03 05 09  = Fizik Tedavi Ünitesi Teşhis ve Tedavi Cihaz ve Aletleri"]
[null,253,"03","05","10",null,null,"Gastroentoloji Ünitesi Teşhis ve Tedavi Cihaz ve Aletleri",null,"253 03 05 10  = Gastroentoloji Ünitesi Teşhis ve Tedavi Cihaz ve Aletleri"]
[null,253,"03","05","11",null,null,"Göğüs Hastalıkları Teşhis ve Tedavi Cihaz ve Aletleri",null,"253 03 05 11  = Göğüs Hastalıkları Teşhis ve Tedavi Cihaz ve Aletleri"]
[null,253,"03","05","12",null,null,"Göz Hastalıkları Teşhis ve Tedavi Cihaz ve Aletleri",null,"253 03 05 12  = Göz Hastalıkları Teşhis ve Tedavi Cihaz ve Aletleri"]
[null,253,"03","05","13",null,null,"KBB Hastalıkları Teşhis ve Tedavi Cihaz ve Aletleri",null,"253 03 05 13  = KBB Hastalıkları Teşhis ve Tedavi Cihaz ve Aletleri"]
[null,253,"03","05","14",null,null,"Kadın Hastalıkları Teşhis ve Tedavi Cihaz ve Aletleri",null,"253 03 05 14  = Kadın Hastalıkları Teşhis ve Tedavi Cihaz ve Aletleri"]
[null,253,"03","05","15",null,null,"Kardiyolojı-Anjiyo Teşhis ve Tedavi Cihaz ve Aletleri",null,"253 03 05 15  = Kardiyolojı-Anjiyo Teşhis ve Tedavi Cihaz ve Aletleri"]
[null,253,"03","05","16",null,null,"Üroloji-Taşkırma Ünitesi Teşhis ve Tedavi Cihaz ve Aletleri",null,"253 03 05 16  = Üroloji-Taşkırma Ünitesi Teşhis ve Tedavi Cihaz ve Aletleri"]
[null,253,"03","05","17",null,null,"Nükleer Tıp Teşhis ve Tedavi Cihaz ve Aletleri",null,"253 03 05 17  = Nükleer Tıp Teşhis ve Tedavi Cihaz ve Aletleri"]
[null,253,"03","05","18",null,null,"Radyasyon Onkolojisi Teşhis ve Tedavi Cihaz ve Aletleri",null,"253 03 05 18  = Radyasyon Onkolojisi Teşhis ve Tedavi Cihaz ve Aletleri"]
[null,253,"03","05","19",null,null,"Çocuk Servisi Teşhis ve Tedavi Cihaz ve Aletleri",null,"253 03 05 19  = Çocuk Servisi Teşhis ve Tedavi Cihaz ve Aletleri"]
[null,253,"03","05","20",null,null,"Patoloji Teşhis ve Tedavi Cihaz ve Aletleri",null,"253 03 05 20  = Patoloji Teşhis ve Tedavi Cihaz ve Aletleri"]
[null,253,"03","05","21",null,null,"Kan Bankası Cihazları",null,"253 03 05 21  = Kan Bankası Cihazları"]
[null,253,"03","05","22",null,null,"Biyolojik Araştırmada Kullanılan Cihaz ve Aletler",null,"253 03 05 22  = Biyolojik Araştırmada Kullanılan Cihaz ve Aletler"]
[null,253,"03","05","98",null,null,"Veterinerlikte Kullanılan Cihaz ve Aletler",null,{"$f":"IF(ISTEXT(H1861),CONCATENATE(B1860,\" \",C1860,\" \",D1860,\" \",E1860,\" \",F1860,\" = \",H1860),\"\")","v":"253 03 05 98  = Veterinerlikte Kullanılan Cihaz ve Aletler"}]
[null,253,"03","05","99",null,null,"Diğer İhtisas Bölümlerinde Kullanılan Tıbbi Cihaz ve Aletler",null,"253 03 05 99  = Diğer İhtisas Bölümlerinde Kullanılan Tıbbi Cihaz ve Aletler"]
[null,253,"03","06",null,null,null,"Araştırma ve Üretim Amaçlı Cihazları ve Aletleri ",null,"253 03 06   = Araştırma ve Üretim Amaçlı Cihazları ve Aletleri "]
[null,253,"03","06","01",null,null,"Kimyasal Analiz Cihazları",null,"253 03 06 01  = Kimyasal Analiz Cihazları"]
[null,253,"03","06","01","02",null,"Fraksiyon Kollektörleri",null,"253 03 06 01 02 = Fraksiyon Kollektörleri"]
[null,253,"03","06","01","03",null,"Korozyon Test Cihazları",null,"253 03 06 01 03 = Korozyon Test Cihazları"]
[null,253,"03","06","01","04",null,"Kromotografi Cihazları",null,"253 03 06 01 04 = Kromotografi Cihazları"]
[null,253,"03","06","01","05",null,"Oksijenmetreler",null,"253 03 06 01 05 = Oksijenmetreler"]
[null,253,"03","06","01","06",null,"Resprometreler-Pyrometreler",null,"253 03 06 01 06 = Resprometreler-Pyrometreler"]
[null,253,"03","06","01","07",null,"Sedimantasyon Test Cihazları",null,"253 03 06 01 07 = Sedimantasyon Test Cihazları"]
[null,253,"03","06","01","08",null,"Spektrometreler/Spektrofotometreler/ Difraktometreler",null,"253 03 06 01 08 = Spektrometreler/Spektrofotometreler/ Difraktometreler"]
[null,253,"03","06","01","99",null,"Diğer Kimyasal Analiz Cihazları",null,"253 03 06 01 99 = Diğer Kimyasal Analiz Cihazları"]
[null,253,"03","06","02",null,null,"Fiziksel Özellikleri Ölçme ve Test Cihazları",null,"253 03 06 02  = Fiziksel Özellikleri Ölçme ve Test Cihazları"]
[null,253,"03","06","02","01",null,"Sertlik Ölçerler ( Dürometreler )",null,"253 03 06 02 01 = Sertlik Ölçerler ( Dürometreler )"]
[null,253,"03","06","02","02",null,"Bulanıklık Ölçerler",null,"253 03 06 02 02 = Bulanıklık Ölçerler"]
[null,253,"03","06","02","03",null,"Deformasyon Test Cihazları",null,"253 03 06 02 03 = Deformasyon Test Cihazları"]
[null,253,"03","06","02","04",null,"Doku Ölçme Cihazları",null,"253 03 06 02 04 = Doku Ölçme Cihazları"]
[null,253,"03","06","02","05",null,"Elipsometreler",null,"253 03 06 02 05 = Elipsometreler"]
[null,253,"03","06","02","06",null,"Erime, Kaynama, Donma, Yanma Noktası Tayin Cihazları",null,"253 03 06 02 06 = Erime, Kaynama, Donma, Yanma Noktası Tayin Cihazları"]
[null,253,"03","06","02","07",null,"Ferrit Oranı Pıezoelektrik Özellikleri Ölçme Cihazları",null,"253 03 06 02 07 = Ferrit Oranı Pıezoelektrik Özellikleri Ölçme Cihazları"]
[null,253,"03","06","02","08",null,"Geçirgenlik Ölçerler",null,"253 03 06 02 08 = Geçirgenlik Ölçerler"]
[null,253,"03","06","02","09",null,"Termal Analiz ve Isıl Özellikleri Ölçme Cihazları",null,"253 03 06 02 09 = Termal Analiz ve Isıl Özellikleri Ölçme Cihazları"]
[null,253,"03","06","02","10",null,"Metal Tabaka Direnci Ölçerler",null,"253 03 06 02 10 = Metal Tabaka Direnci Ölçerler"]
[null,253,"03","06","02","11",null,"Partikül Ölçerler ( Coulter Counter )",null,"253 03 06 02 11 = Partikül Ölçerler ( Coulter Counter )"]
[null,253,"03","06","02","12",null,"Polariskoplar",null,"253 03 06 02 12 = Polariskoplar"]
[null,253,"03","06","02","13",null,"Potensiyostatlar",null,"253 03 06 02 13 = Potensiyostatlar"]
[null,253,"03","06","02","14",null,"Soyulma Test Cihazları",null,"253 03 06 02 14 = Soyulma Test Cihazları"]
[null,253,"03","06","02","15",null,"Sıcaklık, İletkenlik ve PH Ölçme Cihazları",null,"253 03 06 02 15 = Sıcaklık, İletkenlik ve PH Ölçme Cihazları"]
[null,253,"03","06","02","16",null,"Tuzluluk Oranı Ölçerler ( Salinometreler )",null,"253 03 06 02 16 = Tuzluluk Oranı Ölçerler ( Salinometreler )"]
[null,253,"03","06","02","17",null,"Spektrometreler-Difraktometreler",null,"253 03 06 02 17 = Spektrometreler-Difraktometreler"]
[null,253,"03","06","02","18",null,"Vizkozimetreler",null,"253 03 06 02 18 = Vizkozimetreler"]
[null,253,"03","06","02","19",null,"Sürtünme Test Cihazları",null,"253 03 06 02 19 = Sürtünme Test Cihazları"]
[null,253,"03","06","02","20",null,"Tahribatsız Muayene Cihazları",null,"253 03 06 02 20 = Tahribatsız Muayene Cihazları"]
[null,253,"03","06","02","21",null,"Renk Ölçerler ( Tintometreler ) Uzama Ölçerler",null,"253 03 06 02 21 = Renk Ölçerler ( Tintometreler ) Uzama Ölçerler"]
[null,253,"03","06","02","22",null,"Örnekleyiciler",null,"253 03 06 02 22 = Örnekleyiciler"]
[null,253,"03","06","02","23",null,"Vakum Ölçme Cihazları",null,"253 03 06 02 23 = Vakum Ölçme Cihazları"]
[null,253,"03","06","02","24",null,"Akış Ölçerler ( Flowmetreler )",null,"253 03 06 02 24 = Akış Ölçerler ( Flowmetreler )"]
[null,253,"03","06","02","25",null,"Yüzey Alanı Ölçme Cihazları",null,"253 03 06 02 25 = Yüzey Alanı Ölçme Cihazları"]
[null,253,"03","06","02","26",null,"Basınç Ölçme Cihazları",null,"253 03 06 02 26 = Basınç Ölçme Cihazları"]
[null,253,"03","06","02","27",null,"Yıkama ve Ovalama Cihazları",null,"253 03 06 02 27 = Yıkama ve Ovalama Cihazları"]
[null,253,"03","06","02","28",null,"Hız Ölçüm Cihazları",null,"253 03 06 02 28 = Hız Ölçüm Cihazları"]
[null,253,"03","06","02","29",null,"Gaz Ölçüm Cihazları",null,"253 03 06 02 29 = Gaz Ölçüm Cihazları"]
[null,253,"03","06 ","02","30",null,"Tarım ve Alet Makineleri Test Cihazları",null,"253 03 06  02 30 = Tarım ve Alet Makineleri Test Cihazları"]
[null,253,"03","06","02","31",null,"Oto Test Cihazları",null,"253 03 06 02 31 = Oto Test Cihazları"]
[null,253,"03","06","02","32",null,"İnşaat Test ve Ölçüm Cihaz ve Setleri",null,"253 03 06 02 32 = İnşaat Test ve Ölçüm Cihaz ve Setleri"]
[null,253,"03","06","02","99",null,"Diğer Fiziksel Özellikleri Ölçme ve Test Cihazları",null,"253 03 06 02 99 = Diğer Fiziksel Özellikleri Ölçme ve Test Cihazları"]
[null,253,"03","06","03"," ",null,"Kimyasal, Fiziksel ve Fiziko Kimyasal Cihazlar",null,"253 03 06 03   = Kimyasal, Fiziksel ve Fiziko Kimyasal Cihazlar"]
[null,253,"03","06","03","01",null,"Etüvler, İnkübatörler ve Durulayıcı Kurutucular",null,"253 03 06 03 01 = Etüvler, İnkübatörler ve Durulayıcı Kurutucular"]
[null,253,"03","06","03","02",null,"Fermentörler",null,"253 03 06 03 02 = Fermentörler"]
[null,253,"03","06","03","03",null,"Ayırıcılar ( Ekstraktörler ) Elektrodializ Cihazları",null,"253 03 06 03 03 = Ayırıcılar ( Ekstraktörler ) Elektrodializ Cihazları"]
[null,253,"03","06","03","04",null,"Aşındırıcılar, Parlatıcılar ve Dağlayıcılar",null,"253 03 06 03 04 = Aşındırıcılar, Parlatıcılar ve Dağlayıcılar"]
[null,253,"03","06","03","05",null,"Akışkan Yataklar",null,"253 03 06 03 05 = Akışkan Yataklar"]
[null,253,"03","06","03","06",null,"Besleyiciler",null,"253 03 06 03 06 = Besleyiciler"]
[null,253,"03","06","03","07",null,"Baskı Devre Hazırlama Düzenleri",null,"253 03 06 03 07 = Baskı Devre Hazırlama Düzenleri"]
[null,253,"03","06","03","08",null,"Evaparatörler, Buharlaştırıcılar",null,"253 03 06 03 08 = Evaparatörler, Buharlaştırıcılar"]
[null,253,"03","06","03","09",null,"Cevher Zenginleştirme Cihazları",null,"253 03 06 03 09 = Cevher Zenginleştirme Cihazları"]
[null,253,"03","06","03","10",null,"Damıtma ( Distilasyon ) Cihazları ve Damlatıcılar",null,"253 03 06 03 10 = Damıtma ( Distilasyon ) Cihazları ve Damlatıcılar"]
[null,253,"03","06","03","11",null,"Elektroforez Cihazları",null,"253 03 06 03 11 = Elektroforez Cihazları"]
[null,253,"03","06","03","12",null,"İncelticiler",null,"253 03 06 03 12 = İncelticiler"]
[null,253,"03","06","03","13",null,"Kaplama, Kalıplama Cihazları",null,"253 03 06 03 13 = Kaplama, Kalıplama Cihazları"]
[null,253,"03","06","03","14",null,"Kristalizatörler",null,"253 03 06 03 14 = Kristalizatörler"]
[null,253,"03","06","03","15",null,"Otoklavlar, Sterilizatörler",null,"253 03 06 03 15 = Otoklavlar, Sterilizatörler"]
[null,253,"03","06","03","16",null,"Pülverizatörler",null,"253 03 06 03 16 = Pülverizatörler"]
[null,253,"03","06","03","17",null,"Püskürtücüler ( Eksruder )",null,"253 03 06 03 17 = Püskürtücüler ( Eksruder )"]
[null,253,"03","06","03","18",null,"Saflaştırıcılar, Gaz Temizleyiciler",null,{"$f":"IF(ISTEXT(H1925),CONCATENATE(B1924,\" \",C1924,\" \",D1924,\" \",E1924,\" \",F1924,\" = \",H1924),\"\")","v":"253 03 06 03 18 = Saflaştırıcılar, Gaz Temizleyiciler"}]
[null,253,"03","06","03","19",null,"Santrifüjler",null,"253 03 06 03 19 = Santrifüjler"]
[null,253,"03","06","03","20",null,"Titratörler",null,"253 03 06 03 20 = Titratörler"]
[null,253,"03","06","03","21",null,"Ultrafiltrasyon Cihazları",null,"253 03 06 03 21 = Ultrafiltrasyon Cihazları"]
[null,253,"03","06","03","22",null,"Yakma Cihazları",null,"253 03 06 03 22 = Yakma Cihazları"]
[null,253,"03","06","03","23",null,"Rotovaporlar",null,"253 03 06 03 23 = Rotovaporlar"]
[null,253,"03","06","03","24",null,"Homojenizatörler",null,"253 03 06 03 24 = Homojenizatörler"]
[null,253,"03","06","03","99",null,"Diğer Kimyasal, Fiziksel ve Fiziko Kimyasal Cihazlar",null,"253 03 06 03 99 = Diğer Kimyasal, Fiziksel ve Fiziko Kimyasal Cihazlar"]
[null,253,"03","06","04",null,null,"Laboratuvar ve Hastane Tipi Isıtıcılar ve Soğutucular",null,"253 03 06 04  = Laboratuvar ve Hastane Tipi Isıtıcılar ve Soğutucular"]
[null,253,"03","06","04","01",null,"Laboratuvar Tipi Isıtıcılar ve Isı Reflektörleri",null,"253 03 06 04 01 = Laboratuvar Tipi Isıtıcılar ve Isı Reflektörleri"]
[null,253,"03","06","04","02",null,"LaboratuvarTipi Fırınlar",null,"253 03 06 04 02 = LaboratuvarTipi Fırınlar"]
[null,253,"03","06","04","03",null,"Laboratuvar Tipi Soğutucular",null,"253 03 06 04 03 = Laboratuvar Tipi Soğutucular"]
[null,253,"03","06","04","99",null,"Diğer Laboratuvar ve Hastane Tipi Isıtıcılar ve Soğutucular",null,"253 03 06 04 99 = Diğer Laboratuvar ve Hastane Tipi Isıtıcılar ve Soğutucular"]
[null,253,"03","06","05",null,null,"Metalürjik Analiz ve Test Cihazları",null,"253 03 06 05  = Metalürjik Analiz ve Test Cihazları"]
[null,253,"03","06","05","01",null,"İzabe ve Kristal Çekme Cihazları",null,"253 03 06 05 01 = İzabe ve Kristal Çekme Cihazları"]
[null,253,"03","06","05","02",null,"Ergitme Cihazları",null,"253 03 06 05 02 = Ergitme Cihazları"]
[null,253,"03","06","05","03",null,"Döküm Çamurları Test Dolapları",null,"253 03 06 05 03 = Döküm Çamurları Test Dolapları"]
[null,253,"03","06","05","04",null,"Düaloskoplar",null,"253 03 06 05 04 = Düaloskoplar"]
[null,253,"03","06","05","05",null,"Flatasyon Hücre Cihazları",null,"253 03 06 05 05 = Flatasyon Hücre Cihazları"]
[null,253,"03","06","05","06",null,"Kabuk Kalıp Test Cihazları",null,"253 03 06 05 06 = Kabuk Kalıp Test Cihazları"]
[null,253,"03","06","05","07",null,"Magnetik Özellikler Test Cihazları",null,"253 03 06 05 07 = Magnetik Özellikler Test Cihazları"]
[null,253,"03","06","05","08",null,"Mekanik Özellikler Test Cihazları ve Durometreler",null,"253 03 06 05 08 = Mekanik Özellikler Test Cihazları ve Durometreler"]
[null,253,"03","06","05","09",null,"Metalograflar",null,"253 03 06 05 09 = Metalograflar"]
[null,253,"03","06","05","10",null,"Sınıflandırıcılar",null,"253 03 06 05 10 = Sınıflandırıcılar"]
[null,253,"03","06","05","11",null,"Tane İrilik Dağılımı Analiz Cihazları",null,"253 03 06 05 11 = Tane İrilik Dağılımı Analiz Cihazları"]
[null,253,"03","06","05","99",null,"Diğer Metalürjik Analiz ve Test Cihazları",null,"253 03 06 05 99 = Diğer Metalürjik Analiz ve Test Cihazları"]
[null,253,"03","06","06",null,null,"Optik ve Eketrooptik Cihazlar ve Aletler",null,"253 03 06 06  = Optik ve Eketrooptik Cihazlar ve Aletler"]
[null,253,"03","06","06","01",null,"Elektron Mikroskopları",null,"253 03 06 06 01 = Elektron Mikroskopları"]
[null,253,"03","06","06","02",null,"Optik Mikroskoplar",null,"253 03 06 06 02 = Optik Mikroskoplar"]
[null,253,"03","06","06","03",null,"Dilimleyiciler, Optik - Elektronik",null,"253 03 06 06 03 = Dilimleyiciler, Optik - Elektronik"]
[null,253,"03","06","06","04",null,"Enterferometreler",null,"253 03 06 06 04 = Enterferometreler"]
[null,253,"03","06","06","05",null,"Dedektörler",null,"253 03 06 06 05 = Dedektörler"]
[null,253,"03","06","06","06",null,"Lazerler",null,"253 03 06 06 06 = Lazerler"]
[null,253,"03","06","06","07",null,"Optik Lif Enstrümantasyonları",null,"253 03 06 06 07 = Optik Lif Enstrümantasyonları"]
[null,253,"03","06","06","08",null,"Optometreler",null,"253 03 06 06 08 = Optometreler"]
[null,253,"03","06","06","09",null,"Radyografik Muayene Cihazları ",null,"253 03 06 06 09 = Radyografik Muayene Cihazları "]
[null,253,"03","06","06","10",null,"Refraktometreler",null,"253 03 06 06 10 = Refraktometreler"]
[null,253,"03","06","06","99",null,"Diğer Optik ve Eketrooptik Cihazlar ve Aletler",null,"253 03 06 06 99 = Diğer Optik ve Eketrooptik Cihazlar ve Aletler"]
[null,253,"03","06","07",null,null,"Gıda ve Beslenme Konusu Cihaz ve Aletler",null,"253 03 06 07  = Gıda ve Beslenme Konusu Cihaz ve Aletler"]
[null,253,"03","06","07","01",null,"Emülsiyon Kapasitesi Ölçme Düzenleri",null,"253 03 06 07 01 = Emülsiyon Kapasitesi Ölçme Düzenleri"]
[null,253,"03","06","07","02",null,"Penetrometreler",null,"253 03 06 07 02 = Penetrometreler"]
[null,253,"03","06","07","03",null,"Planimetreler",null,"253 03 06 07 03 = Planimetreler"]
[null,253,"03","06","07","04",null,"Straktoragraflar",null,"253 03 06 07 04 = Straktoragraflar"]
[null,253,"03","06","07","05",null,"Vitoskoplar",null,"253 03 06 07 05 = Vitoskoplar"]
[null,253,"03","06","07","06",null,"Hamur Kabartma Kaydedicileri",null,"253 03 06 07 06 = Hamur Kabartma Kaydedicileri"]
[null,253,"03","06","07","99",null,"Diğer Gıda ve Beslenme Konusu Cihaz ve Aletler",null,"253 03 06 07 99 = Diğer Gıda ve Beslenme Konusu Cihaz ve Aletler"]
[null,253,"03","06","08",null,null,"Meteoroloji Bilimi Cihazları",null,"253 03 06 08  = Meteoroloji Bilimi Cihazları"]
[null,253,"03","06","08","01",null,"Rüzgar Ölçüm Setleri",null,"253 03 06 08 01 = Rüzgar Ölçüm Setleri"]
[null,253,"03","06","08","02",null,"Rüzgar Türbinleri",null,"253 03 06 08 02 = Rüzgar Türbinleri"]
[null,253,"03","06","08","03",null,"Hava Radyo Alıcıları",null,"253 03 06 08 03 = Hava Radyo Alıcıları"]
[null,253,"03","06","08","04",null,"Hava İstasyonları",null,"253 03 06 08 04 = Hava İstasyonları"]
[null,253,"03","06","08","99",null,"Diğer Meteoroloji Bilimi Cihazları",null,"253 03 06 08 99 = Diğer Meteoroloji Bilimi Cihazları"]
[null,253,"03","06","09",null,null,"Yer Bilimleri",null,"253 03 06 09  = Yer Bilimleri"]
[null,253,"03","06","09","01",null,"Sismik Hareket Algılama ve Kaydetme Cihazları",null,"253 03 06 09 01 = Sismik Hareket Algılama ve Kaydetme Cihazları"]
[null,253,"03","06","09","02",null,"GPS Cihazları ve Kayıtçılar",null,"253 03 06 09 02 = GPS Cihazları ve Kayıtçılar"]
[null,253,"03","06","09","03",null,"Gaz Ölçüm Cihazları",null,"253 03 06 09 03 = Gaz Ölçüm Cihazları"]
[null,253,"03","06","09","04",null,"Yer İstasyonlar",null,"253 03 06 09 04 = Yer İstasyonlar"]
[null,253,"03","06","09","05",null,"Sayısallaştırıcılar",null,"253 03 06 09 05 = Sayısallaştırıcılar"]
[null,253,"03","06","09","06",null,"Petrol ve Jeo Kimyası Cihazlarları",null,"253 03 06 09 06 = Petrol ve Jeo Kimyası Cihazlarları"]
[null,253,"03","06","09","07",null,"Kaya ve Katman Ölçüm Araçları",null,"253 03 06 09 07 = Kaya ve Katman Ölçüm Araçları"]
[null,253,"03","06","09","08",null,"Toprak Ölçüm Araçları",null,"253 03 06 09 08 = Toprak Ölçüm Araçları"]
[null,253,"03","06","09","99",null,"Diğer Yer Bilimleri Cihaz ve Aletleri",null,"253 03 06 09 99 = Diğer Yer Bilimleri Cihaz ve Aletleri"]
[null,253,"03","06","10",null,null,"Çevre Bilimleri Ölçüm ve Test Cihazları",null,"253 03 06 10  = Çevre Bilimleri Ölçüm ve Test Cihazları"]
[null,253,"03","06","10","01",null,"Emisyon Ölçme Cihazları",null,"253 03 06 10 01 = Emisyon Ölçme Cihazları"]
[null,253,"03","06","10","02",null,"Katı Atık Analiz Cihazları",null,{"$f":"IF(ISTEXT(H1989),CONCATENATE(B1988,\" \",C1988,\" \",D1988,\" \",E1988,\" \",F1988,\" = \",H1988),\"\")","v":"253 03 06 10 02 = Katı Atık Analiz Cihazları"}]
[null,253,"03","06","10","03",null,"Sıvı Yakıt ( Petrol Ürünleri ) Analiz Cihazları",null,"253 03 06 10 03 = Sıvı Yakıt ( Petrol Ürünleri ) Analiz Cihazları"]
[null,253,"03","06","10","04",null,"Katı Yakıt ( Kömür ) Analiz Cihazları",null,"253 03 06 10 04 = Katı Yakıt ( Kömür ) Analiz Cihazları"]
[null,253,"03","06","10","05",null,"Su ve Atık Su Analiz Cihazları",null,"253 03 06 10 05 = Su ve Atık Su Analiz Cihazları"]
[null,253,"03","06","10","06",null,"Yaşlandırma Cihazları",null,"253 03 06 10 06 = Yaşlandırma Cihazları"]
[null,253,"03","06","10","07",null,"Yakıt Pilleri",null,"253 03 06 10 07 = Yakıt Pilleri"]
[null,253,"03","06","10","08",null,"Güneş Işını Ölçerler ( Piranometreler )",null,"253 03 06 10 08 = Güneş Işını Ölçerler ( Piranometreler )"]
[null,253,"03","06","10","09",null,"Albedometreler",null,"253 03 06 10 09 = Albedometreler"]
[null,253,"03","06","10","99",null,"Diğer Çevre Bilimleri Ölçüm ve Test Cihazları",null,"253 03 06 10 99 = Diğer Çevre Bilimleri Ölçüm ve Test Cihazları"]
[null,253,"03","06","11",null,null,"Deniz Bilimleri ( Oşinografi ) Cihaz ve Aletleri",null,"253 03 06 11  = Deniz Bilimleri ( Oşinografi ) Cihaz ve Aletleri"]
[null,253,"03","06","11","01",null,"CTD Problar, Sıcaklık, Tuzluluk Ölçerler",null,"253 03 06 11 01 = CTD Problar, Sıcaklık, Tuzluluk Ölçerler"]
[null,253,"03","06","11","02",null,"Işık Ölçerler",null,"253 03 06 11 02 = Işık Ölçerler"]
[null,253,"03","06","11","03",null,"Sıvı Sintilasyon Sayaçları",null,"253 03 06 11 03 = Sıvı Sintilasyon Sayaçları"]
[null,253,"03","06","11","04",null,"Toksitite Ölçüm Cihazları ( Bakteriyel-Toxalert )",null,"253 03 06 11 04 = Toksitite Ölçüm Cihazları ( Bakteriyel-Toxalert )"]
[null,253,"03","06","11","05",null,"Deniz Suyu Örnekleyicileri",null,"253 03 06 11 05 = Deniz Suyu Örnekleyicileri"]
[null,253,"03","06","11","06",null,"Akıntı Ölçerler",null,"253 03 06 11 06 = Akıntı Ölçerler"]
[null,253,"03","06","11","07",null,"Seki Diskleri",null,"253 03 06 11 07 = Seki Diskleri"]
[null,253,"03","06","11","08",null,"Analiz Cihazları-Oşinografi",null,"253 03 06 11 08 = Analiz Cihazları-Oşinografi"]
[null,253,"03","06","11","09",null,"Çamur Örnekleyicileri",null,"253 03 06 11 09 = Çamur Örnekleyicileri"]
[null,253,"03","06","11","10",null,"Süzücüler",null,"253 03 06 11 10 = Süzücüler"]
[null,253,"03","06","11","11",null,"Tortu Tayin Cihazları",null,"253 03 06 11 11 = Tortu Tayin Cihazları"]
[null,253,"03","06","11","99",null,"Diğer Deniz Bilimleri ( Oşinografi ) Cihaz ve Aletleri",null,"253 03 06 11 99 = Diğer Deniz Bilimleri ( Oşinografi ) Cihaz ve Aletleri"]
[null,253,"03","06","12",null,null,"Akustik ve Elektro Akustik Cihazlar",null,"253 03 06 12  = Akustik ve Elektro Akustik Cihazlar"]
[null,253,"03","06","12","01",null,"Ses Seviye Ölçerler",null,"253 03 06 12 01 = Ses Seviye Ölçerler"]
[null,253,"03","06","12","02",null,"Transdüserler",null,"253 03 06 12 02 = Transdüserler"]
[null,253,"03","06","12","03",null,"Hidrofonlar",null,"253 03 06 12 03 = Hidrofonlar"]
[null,253,"03","06","12","04",null,"Akustik Kaynaklar",null,"253 03 06 12 04 = Akustik Kaynaklar"]
[null,253,"03","06","12","99",null,"Diğer Akustik ve Elektro Akustik Cihazlar",null,"253 03 06 12 99 = Diğer Akustik ve Elektro Akustik Cihazlar"]
[null,253,"03","06","99",null,null,"Diğer Araştırma ve Üretim Amaçlı Laboratuvar Cihaz ve Aletleri ",null,"253 03 06 99  = Diğer Araştırma ve Üretim Amaçlı Laboratuvar Cihaz ve Aletleri "]
[null,253,"03","07",null,null,null,"Müzik Aletleri ve Aksesuarları",null,"253 03 07   = Müzik Aletleri ve Aksesuarları"]
[null,253,"03","07","01",null,null,"Klavyeli Enstrümanlar",null,"253 03 07 01  = Klavyeli Enstrümanlar"]
[null,253,"03","07","01","01",null,"Piyanolar",null,"253 03 07 01 01 = Piyanolar"]
[null,253,"03","07","01","02",null,"Akordiyonlar",null,"253 03 07 01 02 = Akordiyonlar"]
[null,253,"03","07","01","03",null,"Orglar",null,"253 03 07 01 03 = Orglar"]
[null,253,"03","07","01","04",null,"Çelestalar",null,"253 03 07 01 04 = Çelestalar"]
[null,253,"03","07","01","99",null,"Diğer Klavyeli Enstrümanlar",null,"253 03 07 01 99 = Diğer Klavyeli Enstrümanlar"]
[null,253,"03","07","02",null,null,"Prinç Çalgılar",null,"253 03 07 02  = Prinç Çalgılar"]
[null,253,"03","07","02","01",null,"Trompetler",null,"253 03 07 02 01 = Trompetler"]
[null,253,"03","07","02","02",null,"Trombonlar",null,"253 03 07 02 02 = Trombonlar"]
[null,253,"03","07","02","03",null,"Suzafonlar",null,"253 03 07 02 03 = Suzafonlar"]
[null,253,"03","07","02","04",null,"Saksafonlar",null,"253 03 07 02 04 = Saksafonlar"]
[null,253,"03","07","02","05",null,"Düdükler",null,"253 03 07 02 05 = Düdükler"]
[null,253,"03","07","02","06",null,"Borular",null,"253 03 07 02 06 = Borular"]
[null,253,"03","07","02","07",null,"Alaşımlı Çalgılar",null,"253 03 07 02 07 = Alaşımlı Çalgılar"]
[null,253,"03","07","02","08",null,"Kornolar",null,"253 03 07 02 08 = Kornolar"]
[null,253,"03","07","02","09",null,"Melofonlar",null,"253 03 07 02 09 = Melofonlar"]
[null,253,"03","07","02","10",null,"Alto Kornolar",null,"253 03 07 02 10 = Alto Kornolar"]
[null,253,"03","07","02","11",null,"Bariton Kornolar",null,"253 03 07 02 11 = Bariton Kornolar"]
[null,253,"03","07","02","12",null,"Büğlüler",null,"253 03 07 02 12 = Büğlüler"]
[null,253,"03","07","02","99",null,"Diğer Prinç Çalgılar",null,"253 03 07 02 99 = Diğer Prinç Çalgılar"]
[null,253,"03","07","03",null,null,"Tahtadan Yapılmış Nefesli Çalgılar",null,"253 03 07 03  = Tahtadan Yapılmış Nefesli Çalgılar"]
[null,253,"03","07","03","01",null,"Klarnetler",null,"253 03 07 03 01 = Klarnetler"]
[null,253,"03","07","03","02",null,"Obualar",null,"253 03 07 03 02 = Obualar"]
[null,253,"03","07","03","03",null,"Flütler",null,"253 03 07 03 03 = Flütler"]
[null,253,"03","07","03","04",null,"Küçük Flütler",null,"253 03 07 03 04 = Küçük Flütler"]
[null,253,"03","07","03","05",null,"Kornetler",null,"253 03 07 03 05 = Kornetler"]
[null,253,"03","07","03","06",null,"Tulumlar",null,"253 03 07 03 06 = Tulumlar"]
[null,253,"03","07","03","07",null,"Mızıkalar",null,"253 03 07 03 07 = Mızıkalar"]
[null,253,"03","07","03","08",null,"Kazoolar",null,"253 03 07 03 08 = Kazoolar"]
[null,253,"03","07","03","09",null,"İngiliz Kornoları",null,"253 03 07 03 09 = İngiliz Kornoları"]
[null,253,"03","07","03","10",null,"Okarinalar",null,"253 03 07 03 10 = Okarinalar"]
[null,253,"03","07","03","99",null,"Tahtadan Yapılmış Diğer Nefesli Çalgılar ",null,"253 03 07 03 99 = Tahtadan Yapılmış Diğer Nefesli Çalgılar "]
[null,253,"03","07","04",null,null,"Yaylı ve Telli Çalgılar",null,"253 03 07 04  = Yaylı ve Telli Çalgılar"]
[null,253,"03","07","04","01",null,"Harpsikordlar",null,"253 03 07 04 01 = Harpsikordlar"]
[null,253,"03","07","04","02",null,"Klavikordlar",null,{"$f":"IF(ISTEXT(H2053),CONCATENATE(B2052,\" \",C2052,\" \",D2052,\" \",E2052,\" \",F2052,\" = \",H2052),\"\")","v":"253 03 07 04 02 = Klavikordlar"}]
[null,253,"03","07","04","03",null,"Gitarlar",null,"253 03 07 04 03 = Gitarlar"]
[null,253,"03","07","04","04",null,"Kemanlar",null,"253 03 07 04 04 = Kemanlar"]
[null,253,"03","07","04","05",null,"Arplar",null,"253 03 07 04 05 = Arplar"]
[null,253,"03","07","04","06",null,"Bançolar",null,"253 03 07 04 06 = Bançolar"]
[null,253,"03","07","04","07",null,"Mandolinler",null,"253 03 07 04 07 = Mandolinler"]
[null,253,"03","07","04","08",null,"Viyolonseller",null,"253 03 07 04 08 = Viyolonseller"]
[null,253,"03","07","04","09",null,"Baslar",null,"253 03 07 04 09 = Baslar"]
[null,253,"03","07","04","10",null,"Sazlar",null,"253 03 07 04 10 = Sazlar"]
[null,253,"03","07","04","11",null,"Udlar",null,"253 03 07 04 11 = Udlar"]
[null,253,"03","07","04","12",null,"Kemençeler",null,"253 03 07 04 12 = Kemençeler"]
[null,253,"03","07","04","99",null,"Yaylı ve Telli Diğer Çalgılar ",null,"253 03 07 04 99 = Yaylı ve Telli Diğer Çalgılar "]
[null,253,"03","07","05",null,null,"Vurmalı Çalgılar",null,"253 03 07 05  = Vurmalı Çalgılar"]
[null,253,"03","07","05","01",null,"Ziller",null,"253 03 07 05 01 = Ziller"]
[null,253,"03","07","05","02",null,"Çanlar",null,"253 03 07 05 02 = Çanlar"]
[null,253,"03","07","05","03",null,"Tefler",null,"253 03 07 05 03 = Tefler"]
[null,253,"03","07","05","04",null,"Kastanyetler",null,"253 03 07 05 04 = Kastanyetler"]
[null,253,"03","07","05","05",null,"Davullar ve Trampetler",null,"253 03 07 05 05 = Davullar ve Trampetler"]
[null,253,"03","07","05","06",null,"Ksilifonlar",null,"253 03 07 05 06 = Ksilifonlar"]
[null,253,"03","07","05","07",null,"Vibrafonlar",null,"253 03 07 05 07 = Vibrafonlar"]
[null,253,"03","07","05","08",null,"Dümbelek ve Darbukalar",null,"253 03 07 05 08 = Dümbelek ve Darbukalar"]
[null,253,"03","07","05","09",null,"Marimbalar",null,"253 03 07 05 09 = Marimbalar"]
[null,253,"03","07","05","99",null,"Vurmalı Diğer Çalgılar",null,"253 03 07 05 99 = Vurmalı Diğer Çalgılar"]
[null,253,"03","07","06",null,null,"Müzik Aleti Parçaları ve Aksesuarları",null,"253 03 07 06  = Müzik Aleti Parçaları ve Aksesuarları"]
[null,253,"03","07","06","01",null,"Metronomlar",null,"253 03 07 06 01 = Metronomlar"]
[null,253,"03","07","06","02",null,"Kamışlar",null,"253 03 07 06 02 = Kamışlar"]
[null,253,"03","07","06","03",null,"Akort Anahtarları",null,"253 03 07 06 03 = Akort Anahtarları"]
[null,253,"03","07","06","04",null,"Müzik Aleti Sehpaları veya Nota Sehpaları",null,"253 03 07 06 04 = Müzik Aleti Sehpaları veya Nota Sehpaları"]
[null,253,"03","07","06","05",null,"Yaylı Çalgılar İçin Aksesuarlar",null,"253 03 07 06 05 = Yaylı Çalgılar İçin Aksesuarlar"]
[null,253,"03","07","06","06",null,"Vurmalı Çalgılar İçin Aksesuarlar",null,"253 03 07 06 06 = Vurmalı Çalgılar İçin Aksesuarlar"]
[null,253,"03","07","06","07",null,"Müzik Kutuları veya Mekanizmaları",null,"253 03 07 06 07 = Müzik Kutuları veya Mekanizmaları"]
[null,253,"03","07","06","08",null,"Ağızlıklar",null,"253 03 07 06 08 = Ağızlıklar"]
[null,253,"03","07","06","09",null,"Müzik Aleti Keseleri, Kutuları veya Aksesuaları",null,"253 03 07 06 09 = Müzik Aleti Keseleri, Kutuları veya Aksesuaları"]
[null,253,"03","07","06","10",null,"Susturucular",null,"253 03 07 06 10 = Susturucular"]
[null,253,"03","07","06","12",null,"Orkestra Şefi Çubukları",null,"253 03 07 06 12 = Orkestra Şefi Çubukları"]
[null,253,"03","07","06","99",null,"Diğer Müzik Aletleri ve Aksesuarları",null,"253 03 07 06 99 = Diğer Müzik Aletleri ve Aksesuarları"]
[null,253,"03","07","07",null,null,"Çalgı Setleri",null,"253 03 07 07  = Çalgı Setleri"]
[null,253,"03","07","08",null,null,"Alternatif Sesli Çalgılar",null,"253 03 07 08  = Alternatif Sesli Çalgılar"]
[null,253,"03","07","08","01",null,"Boomwhackers Gümbürtülü Çalgılar",null,"253 03 07 08 01 = Boomwhackers Gümbürtülü Çalgılar"]
[null,253,"03","07","08","02",null,"Ritim Çalgıları",null,"253 03 07 08 02 = Ritim Çalgıları"]
[null,253,"03","07","08","99",null,"Diğer Alternatif Sedli Çalgılar",null,"253 03 07 08 99 = Diğer Alternatif Sedli Çalgılar"]
[null,253,"03","07","09",null,null,"Müzik ve Dans Aksesuarları",null,"253 03 07 09  = Müzik ve Dans Aksesuarları"]
[null,253,"03","07","09","01",null,"Dans Pantalonları",null,"253 03 07 09 01 = Dans Pantalonları"]
[null,253,"03","07","09","02",null,"Ritim veya Ölçü Çubukları",null,"253 03 07 09 02 = Ritim veya Ölçü Çubukları"]
[null,253,"03","07","09","03",null,"Ritim Değnekleri veya Çemberleri",null,"253 03 07 09 03 = Ritim Değnekleri veya Çemberleri"]
[null,253,"03","07","09","99",null,"Diğer Müzik ve Dans Aksesuarları",null,"253 03 07 09 99 = Diğer Müzik ve Dans Aksesuarları"]
[null,253,"03","07","99",null,null,"Diğer Müzik Aletleri ve Aksesuarları",null,"253 03 07 99  = Diğer Müzik Aletleri ve Aksesuarları"]
[null,253,"03","08",null,null,null,"Spor Amaçlı Kullanılan Cihaz ve Aletler",null,"253 03 08   = Spor Amaçlı Kullanılan Cihaz ve Aletler"]
[null,253,"03","08","01",null,null,"Kondisyon Cihazları",null,"253 03 08 01  = Kondisyon Cihazları"]
[null,253,"03","08","01","01",null,"Elektronik Koşu ve Yürüme Bantları",null,"253 03 08 01 01 = Elektronik Koşu ve Yürüme Bantları"]
[null,253,"03","08","01","02",null,"Elektronik Bisikletler",null,"253 03 08 01 02 = Elektronik Bisikletler"]
[null,253,"03","08","01","99",null,"Diğer Kondisyon Cihazları",null,"253 03 08 01 99 = Diğer Kondisyon Cihazları"]
[null,253,"03","08","02",null,null,"Vücut Analiz Cihazları",null,"253 03 08 02  = Vücut Analiz Cihazları"]
[null,253,"03","08","02","01",null,"Yağ Monitörleri",null,"253 03 08 02 01 = Yağ Monitörleri"]
[null,253,"03","08","02","02",null,"Yağ ve Sıvı Analiz Cihazları",null,"253 03 08 02 02 = Yağ ve Sıvı Analiz Cihazları"]
[null,253,"03","08","02","99",null,"Diğer Vucut Analiz Cihazları",null,"253 03 08 02 99 = Diğer Vucut Analiz Cihazları"]
[null,253,"03","08","99",null,null,"Diğer Spor Amaçlı Kullanılan Cihaz ve Aletler",null,"253 03 08 99  = Diğer Spor Amaçlı Kullanılan Cihaz ve Aletler"]
[null,254,null,null,null,null,null,"Taşıtlar Grubu",null,"254     = Taşıtlar Grubu"]
[null,254,"01",null,null,null,null,"Karayolu Taşıtları Grubu",null,"254 01    = Karayolu Taşıtları Grubu"]
[null,254,"01","01",null,null,null,"Otomobiller",null,"254 01 01   = Otomobiller"]
[null,254,"01","01","01",null,null,"Makam Araçları",null,"254 01 01 01  = Makam Araçları"]
[null,254,"01","01","02",null,null,"Hizmet Araçları",null,"254 01 01 02  = Hizmet Araçları"]
[null,254,"01","02",null,null,null,"Yolcu Taşıma Araçları",null,"254 01 02   = Yolcu Taşıma Araçları"]
[null,254,"01","02","01",null,null,"Otobüsler",null,"254 01 02 01  = Otobüsler"]
[null,254,"01","02","02",null,null,"Minibüsler",null,{"$f":"IF(ISTEXT(H2117),CONCATENATE(B2116,\" \",C2116,\" \",D2116,\" \",E2116,\" \",F2116,\" = \",H2116),\"\")","v":"254 01 02 02  = Minibüsler"}]
[null,254,"01","02","03",null,null,"Midibüsler",null,"254 01 02 03  = Midibüsler"]
[null,254,"01","02","04",null,null,"Minivanlar veya Vanlar",null,"254 01 02 04  = Minivanlar veya Vanlar"]
[null,254,"01","02","99",null,null,"Diğer Yolcu Taşıma Araçları",null,"254 01 02 99  = Diğer Yolcu Taşıma Araçları"]
[null,254,"01","03",null,null,null,"Yük Taşıma Araçları",null,"254 01 03   = Yük Taşıma Araçları"]
[null,254,"01","03","01",null,null,"Tırlar ",null,"254 01 03 01  = Tırlar "]
[null,254,"01","03","02",null,null,"Kamyonlar",null,"254 01 03 02  = Kamyonlar"]
[null,254,"01","03","03",null,null,"Kamyonetler",null,"254 01 03 03  = Kamyonetler"]
[null,254,"01","03","04",null,null,"Kargo Kamyonları",null,"254 01 03 04  = Kargo Kamyonları"]
[null,254,"01","03","05",null,null,"Pick-uplar",null,"254 01 03 05  = Pick-uplar"]
[null,254,"01","03","99",null,null,"Diğer Yük Taşıma Araçları",null,"254 01 03 99  = Diğer Yük Taşıma Araçları"]
[null,254,"01","04",null,null,null,"Arazi Taşıtları",null,"254 01 04   = Arazi Taşıtları"]
[null,254,"01","04","01",null,null,"Binek Arazi Taşıtları",null,"254 01 04 01  = Binek Arazi Taşıtları"]
[null,254,"01","04","02",null,null,"Kaptı Kaçtı Arazi Taşıtları",null,"254 01 04 02  = Kaptı Kaçtı Arazi Taşıtları"]
[null,254,"01","04","99",null,null,"Diğer Arazi Taşıtları",null,"254 01 04 99  = Diğer Arazi Taşıtları"]
[null,254,"01","05",null,null,null,"Özel Amaçlı Taşıtlar",null,"254 01 05   = Özel Amaçlı Taşıtlar"]
[null,254,"01","05","01",null,null,"Ambulanslar",null,"254 01 05 01  = Ambulanslar"]
[null,254,"01","05","02",null,null,"Cenaze Araçları",null,"254 01 05 02  = Cenaze Araçları"]
[null,254,"01","05","03",null,null,"İtfaiyeler",null,"254 01 05 03  = İtfaiyeler"]
[null,254,"01","05","04",null,null,"Çekme ve Kurtarma Amaçlı Taşıtlarlar",null,"254 01 05 04  = Çekme ve Kurtarma Amaçlı Taşıtlarlar"]
[null,254,"01","05","05",null,null,"Yol Süpürme ve Yıkama Taşıtları",null,"254 01 05 05  = Yol Süpürme ve Yıkama Taşıtları"]
[null,254,"01","05","06",null,null,"Can Kurtaranlar",null,"254 01 05 06  = Can Kurtaranlar"]
[null,254,"01","05","07",null,null,"Tankerler",null,"254 01 05 07  = Tankerler"]
[null,254,"01","05","08",null,null,"Arazözler",null,"254 01 05 08  = Arazözler"]
[null,254,"01","05","09",null,null,"Vidanjörler",null,"254 01 05 09  = Vidanjörler"]
[null,254,"01","05","10",null,null,"Çöp Kamyonları",null,"254 01 05 10  = Çöp Kamyonları"]
[null,254,"01","05","11",null,null,"Çöp Yıkama Fırınları",null,"254 01 05 11  = Çöp Yıkama Fırınları"]
[null,254,"01","05","12",null,null,"Uydu Sistemleri ve Bilgisayarlar ile Donatılmış Özel Amaçlı Taşıtlar",null,"254 01 05 12  = Uydu Sistemleri ve Bilgisayarlar ile Donatılmış Özel Amaçlı Taşıtlar"]
[null,254,"01","05","99",null,null,"Diğer Özel Amaçlı Taşıtlar",null,"254 01 05 99  = Diğer Özel Amaçlı Taşıtlar"]
[null,254,"01","06",null,null,null,"Mopet ve Motosikletler",null,"254 01 06   = Mopet ve Motosikletler"]
[null,254,"01","06","01",null,null,"Mopetler",null,"254 01 06 01  = Mopetler"]
[null,254,"01","06","02",null,null,"Motosikletler",null,"254 01 06 02  = Motosikletler"]
[null,254,"01","06","03",null,null,"Motorlu Bisikletler",null,"254 01 06 03  = Motorlu Bisikletler"]
[null,254,"01","07",null,null,null,"Motorsuz Kara Araçları",null,"254 01 07   = Motorsuz Kara Araçları"]
[null,254,"01","07","01",null,null,"Bisikletler",null,"254 01 07 01  = Bisikletler"]
[null,254,"01","07","02",null,null,"Römorklar",null,"254 01 07 02  = Römorklar"]
[null,254,"01","07","03",null,null,"Çekili Karavanlar",null,"254 01 07 03  = Çekili Karavanlar"]
[null,254,"01","07","99",null,null,"Diğer Motorsuz Kara Taşıtları",null,"254 01 07 99  = Diğer Motorsuz Kara Taşıtları"]
[null,254,"02",null,null,null,null,"Su ve Deniz Taşıtları Grubu",null,"254 02    = Su ve Deniz Taşıtları Grubu"]
[null,254,"02","01",null,null,null,"Gemiler",null,"254 02 01   = Gemiler"]
[null,254,"02","01","01",null,null,"Uçak Gemileri",null,"254 02 01 01  = Uçak Gemileri"]
[null,254,"02","01","02",null,null,"Balıkçı Gemileri",null,"254 02 01 02  = Balıkçı Gemileri"]
[null,254,"02","01","03",null,null,"Yük Gemileri, Şilepler",null,"254 02 01 03  = Yük Gemileri, Şilepler"]
[null,254,"02","01","04",null,null,"Mavnalar",null,"254 02 01 04  = Mavnalar"]
[null,254,"02","01","05",null,null,"Kruvaziyer",null,"254 02 01 05  = Kruvaziyer"]
[null,254,"02","01","06",null,null,"Kurtarma Gemileri",null,"254 02 01 06  = Kurtarma Gemileri"]
[null,254,"02","01","07",null,null,"Yangın Söndürme Gemileri",null,"254 02 01 07  = Yangın Söndürme Gemileri"]
[null,254,"02","01","08",null,null,"Sismik Gemiler",null,"254 02 01 08  = Sismik Gemiler"]
[null,254,"02","01","99",null,null,"Diğer Gemiler",null,"254 02 01 99  = Diğer Gemiler"]
[null,254,"02","02",null,null,null,"Tankerler",null,"254 02 02   = Tankerler"]
[null,254,"02","03",null,null,null,"Deniz Altılar",null,"254 02 03   = Deniz Altılar"]
[null,254,"02","04",null,null,null,"Römorkörler ve İtici Gemiler",null,"254 02 04   = Römorkörler ve İtici Gemiler"]
[null,254,"02","05",null,null,null,"Yüzer Yapılar",null,"254 02 05   = Yüzer Yapılar"]
[null,254,"02","05","01",null,null,"Yüzer Vinçler",null,"254 02 05 01  = Yüzer Vinçler"]
[null,254,"02","05","02",null,null,"Yüzer Platformlar",null,"254 02 05 02  = Yüzer Platformlar"]
[null,254,"02","05","03",null,null,"Yüzer veya Dalabilen Sondaj ve Üretim Platformları",null,"254 02 05 03  = Yüzer veya Dalabilen Sondaj ve Üretim Platformları"]
[null,254,"02","05","99",null,null,"Diğer Yüzer Yapılar",null,"254 02 05 99  = Diğer Yüzer Yapılar"]
[null,254,"02","06",null,null,null,"Tekneler",null,"254 02 06   = Tekneler"]
[null,254,"02","06","01",null,null,"Balıkçılık Tekneleri",null,"254 02 06 01  = Balıkçılık Tekneleri"]
[null,254,"02","06","02",null,null,"Sürat Tekneleri",null,"254 02 06 02  = Sürat Tekneleri"]
[null,254,"02","06","03",null,null,"Spor Amaçlı Tekneler",null,"254 02 06 03  = Spor Amaçlı Tekneler"]
[null,254,"02","06","04",null,null,"Şişirilebilir Tekneler",null,"254 02 06 04  = Şişirilebilir Tekneler"]
[null,254,"02","06","99",null,null,"Diğer Tekneler",null,"254 02 06 99  = Diğer Tekneler"]
[null,254,"02","07",null,null,null,"Botlar",null,"254 02 07   = Botlar"]
[null,254,"02","07","01",null,null,"Petrol veya Gaz Tankeri Mürettebatı Botu",null,{"$f":"IF(ISTEXT(H2181),CONCATENATE(B2180,\" \",C2180,\" \",D2180,\" \",E2180,\" \",F2180,\" = \",H2180),\"\")","v":"254 02 07 01  = Petrol veya Gaz Tankeri Mürettebatı Botu"}]
[null,254,"02","07","02",null,null,"Motor Botlar",null,"254 02 07 02  = Motor Botlar"]
[null,254,"02","07","99",null,null,"Diğer Botlar",null,"254 02 07 99  = Diğer Botlar"]
[null,254,"02","08",null,null,null,"Yelkenliler",null,"254 02 08   = Yelkenliler"]
[null,254,"02","09",null,null,null,"Kanolar ve Kayıklar",null,"254 02 09   = Kanolar ve Kayıklar"]
[null,254,"02",10,null,null,null,"Yatlar ve Kotralar",null,"254 02 10   = Yatlar ve Kotralar"]
[null,254,"02",11,null,null,null,"Sandallar ve Sallar",null,"254 02 11   = Sandallar ve Sallar"]
[null,254,"03",null,null,null,null,"Hava Taşıtları Grubu",null,"254 03    = Hava Taşıtları Grubu"]
[null,254,"03","01",null,null,null,"Motorlu Hava Taşıtları",null,"254 03 01   = Motorlu Hava Taşıtları"]
[null,254,"03","01","01",null,null,"Uçaklar",null,"254 03 01 01  = Uçaklar"]
[null,254,"03","01","01","01",null,"Sabit Kanatlı Tarım Uçakları",null,"254 03 01 01 01 = Sabit Kanatlı Tarım Uçakları"]
[null,254,"03","01","01","02",null,"Pervaneli Kargo Uçakları",null,"254 03 01 01 02 = Pervaneli Kargo Uçakları"]
[null,254,"03","01","01","03",null,"Deniz Uçakları",null,"254 03 01 01 03 = Deniz Uçakları"]
[null,254,"03","01","01","04",null,"Ticari Pervaneli Yolcu Uçakları",null,"254 03 01 01 04 = Ticari Pervaneli Yolcu Uçakları"]
[null,254,"03","01","01","05",null,"Jet Kargo Uçakları",null,"254 03 01 01 05 = Jet Kargo Uçakları"]
[null,254,"03","01","01","06",null,"Ticari Jet Yolcu Uçakları",null,"254 03 01 01 06 = Ticari Jet Yolcu Uçakları"]
[null,254,"03","01","01","07",null,"Pervaneli Özel Uçaklar veya İş Uçakları",null,"254 03 01 01 07 = Pervaneli Özel Uçaklar veya İş Uçakları"]
[null,254,"03","01","01","08",null,"Jet Özel Uçaklar veya İş Uçakları",null,"254 03 01 01 08 = Jet Özel Uçaklar veya İş Uçakları"]
[null,254,"03","01","01","99",null,"Diğer Uçaklar",null,"254 03 01 01 99 = Diğer Uçaklar"]
[null,254,"03","01","02",null,null,"Helikopterler",null,"254 03 01 02  = Helikopterler"]
[null,254,"03","01","02","01",null,"Yolcu Taşıma Helikopterleri",null,"254 03 01 02 01 = Yolcu Taşıma Helikopterleri"]
[null,254,"03","01","02","02",null,"Kargo Taşıma Helikopterleri",null,"254 03 01 02 02 = Kargo Taşıma Helikopterleri"]
[null,254,"03","01","02","03",null,"Tarım Helikopterleri",null,"254 03 01 02 03 = Tarım Helikopterleri"]
[null,254,"03","01","02","04",null,"Ambulans Helikopter veya Kurtarma Helikopterleri",null,"254 03 01 02 04 = Ambulans Helikopter veya Kurtarma Helikopterleri"]
[null,254,"03","01","02","99",null,"Diğer Helikopterler",null,"254 03 01 02 99 = Diğer Helikopterler"]
[null,254,"03","01","99",null,null,"Diğer Motorlu Hava Taşıtları",null,"254 03 01 99  = Diğer Motorlu Hava Taşıtları"]
[null,254,"03","02",null,null,null,"Motorsuz Hava Taşıtları",null,"254 03 02   = Motorsuz Hava Taşıtları"]
[null,254,"03","02","01",null,null,"Planörler",null,"254 03 02 01  = Planörler"]
[null,254,"03","02","02",null,null,"Balonlar",null,"254 03 02 02  = Balonlar"]
[null,254,"03","02","03",null,null,"Hava Gemileri",null,"254 03 02 03  = Hava Gemileri"]
[null,254,"03","02","99",null,null,"Diğer Motorsuz Hava Taşıtları",null,"254 03 02 99  = Diğer Motorsuz Hava Taşıtları"]
[null,254,"03","03",null,null,null,"Uzay Araçları",null,"254 03 03   = Uzay Araçları"]
[null,254,"03","03","01",null,null,"Uzay Gemileri",null,"254 03 03 01  = Uzay Gemileri"]
[null,254,"03","03","01","01",null,"İnsanlı Uzay Araçları",null,"254 03 03 01 01 = İnsanlı Uzay Araçları"]
[null,254,"03","03","01","02",null,"Uzay Aracı Yapıları",null,"254 03 03 01 02 = Uzay Aracı Yapıları"]
[null,254,"03","03","02",null,null,"Uydular",null,"254 03 03 02  = Uydular"]
[null,254,"03","03","02","01",null,"Haberleşme Uyduları",null,"254 03 03 02 01 = Haberleşme Uyduları"]
[null,254,"03","03","02","02",null,"Hava Uyduları",null,"254 03 03 02 02 = Hava Uyduları"]
[null,254,"03","03","02","03",null,"Bilimsel veya Araştırma Uyduları",null,"254 03 03 02 03 = Bilimsel veya Araştırma Uyduları"]
[null,254,"03","03","02","04",null,"Seyrüsefer Uyduları",null,"254 03 03 02 04 = Seyrüsefer Uyduları"]
[null,254,"03","03","02","05",null,"Yerdurağan Uydular",null,"254 03 03 02 05 = Yerdurağan Uydular"]
[null,254,"03","03","02","06",null,"Alçak Yörünge Uyduları",null,"254 03 03 02 06 = Alçak Yörünge Uyduları"]
[null,254,"03","03","02","07",null,"Güneş Eş Zamanlı Yörünge Uyduları",null,"254 03 03 02 07 = Güneş Eş Zamanlı Yörünge Uyduları"]
[null,254,"03","03","02","08",null,"Jeosenkronize Uydular",null,"254 03 03 02 08 = Jeosenkronize Uydular"]
[null,254,"03","03","02","99",null,"Diğer Uydular",null,"254 03 03 02 99 = Diğer Uydular"]
[null,254,"04",null,null,null,null,"Demiryolu ve Tramvay Taşıtları Grubu",null,"254 04    = Demiryolu ve Tramvay Taşıtları Grubu"]
[null,254,"04","01",null,null,null,"Lokomotifler ve Elektrikli Troleybüsler",null,"254 04 01   = Lokomotifler ve Elektrikli Troleybüsler"]
[null,254,"04","01","01",null,null,"Yük Lokomotifleri",null,"254 04 01 01  = Yük Lokomotifleri"]
[null,254,"04","01","02",null,null,"Yolcu Lokomotifleri",null,"254 04 01 02  = Yolcu Lokomotifleri"]
[null,254,"04","01","03",null,null,"Troleybüsler",null,"254 04 01 03  = Troleybüsler"]
[null,254,"04","01","04",null,null,"Tramvaylar",null,"254 04 01 04  = Tramvaylar"]
[null,254,"04","01","99",null,null,"Diğer Lokomotifler ve Elektrikli Troleybüsler",null,"254 04 01 99  = Diğer Lokomotifler ve Elektrikli Troleybüsler"]
[null,254,"04","02",null,null,null,"Demiryolu Araçları",null,"254 04 02   = Demiryolu Araçları"]
[null,254,"04","02","01",null,null,"Yük Vagonları",null,"254 04 02 01  = Yük Vagonları"]
[null,254,"04","02","02",null,null,"Tanker Vagonları",null,"254 04 02 02  = Tanker Vagonları"]
[null,254,"04","02","03",null,null,"Yolcu Vagonları",null,"254 04 02 03  = Yolcu Vagonları"]
[null,254,"04","02","04",null,null,"Depo Vagonlar",null,"254 04 02 04  = Depo Vagonlar"]
[null,254,"04","02","05",null,null,"Treyler",null,"254 04 02 05  = Treyler"]
[null,254,"04","02","99",null,null,"Diğer Demiryolu Araçları",null,"254 04 02 99  = Diğer Demiryolu Araçları"]
[null,255,null,null,null,null,null,"Demirbaşlar Grubu",null,"255     = Demirbaşlar Grubu"]
[null,255,"01",null,null,null,null,"Döşeme ve Mefruşat Grubu",null,"255 01    = Döşeme ve Mefruşat Grubu"]
[null,255,"01","01",null,null,null,"Döşeme Demirbaşları",null,"255 01 01   = Döşeme Demirbaşları"]
[null,255,"01","01","01",null,null,"Halılar ve Yolluklar",null,"255 01 01 01  = Halılar ve Yolluklar"]
[null,255,"01","01","01","01",null,"İpek Halılar",null,"255 01 01 01 01 = İpek Halılar"]
[null,255,"01","01","01","02",null,"Zemin Halıları",null,{"$f":"IF(ISTEXT(H2245),CONCATENATE(B2244,\" \",C2244,\" \",D2244,\" \",E2244,\" \",F2244,\" = \",H2244),\"\")","v":"255 01 01 01 02 = Zemin Halıları"}]
[null,255,"01","01","01","03",null,"Yün Halılar",null,"255 01 01 01 03 = Yün Halılar"]
[null,255,"01","01","01","04",null,"Pamuklu Halılar",null,"255 01 01 01 04 = Pamuklu Halılar"]
[null,255,"01","01","01","05",null,"Sentetik Halılar",null,"255 01 01 01 05 = Sentetik Halılar"]
[null,255,"01","01","01","06",null,"Örgü Halılar",null,"255 01 01 01 06 = Örgü Halılar"]
[null,255,"01","01","01","07",null,"Yolluklar",null,"255 01 01 01 07 = Yolluklar"]
[null,255,"01","01","01","99",null,"Diğer Halılar ve Yolluklar",null,"255 01 01 01 99 = Diğer Halılar ve Yolluklar"]
[null,255,"01","01","02",null,null,"Mefruşat Ürünleri",null,"255 01 01 02  = Mefruşat Ürünleri"]
[null,255,"01","01","02","01",null,"Yataklar",null,"255 01 01 02 01 = Yataklar"]
[null,255,"01","01","02","02",null,"Yorganlar",null,"255 01 01 02 02 = Yorganlar"]
[null,255,"01","01","02","03",null,"Battaniyeler",null,"255 01 01 02 03 = Battaniyeler"]
[null,255,"01","01","02","04",null,"Yastıklar",null,"255 01 01 02 04 = Yastıklar"]
[null,255,"01","01","02","05",null,"Nevresim Takımları",null,"255 01 01 02 05 = Nevresim Takımları"]
[null,255,"01","01","02","99",null,"Diğer Mefruşat Ürünleri",null,"255 01 01 02 99 = Diğer Mefruşat Ürünleri"]
[null,255,"01","01","03",null,null,"Çadırlar ve Aksesuarları",null,"255 01 01 03  = Çadırlar ve Aksesuarları"]
[null,255,"01","01","03","01",null,"Çadırlar",null,"255 01 01 03 01 = Çadırlar"]
[null,255,"01","01","03","02",null,"Tenteler",null,"255 01 01 03 02 = Tenteler"]
[null,255,"01","01","03","03",null,"Özel Şemsiyeler",null,"255 01 01 03 03 = Özel Şemsiyeler"]
[null,255,"01","01","99",null,null,"Diğer Döşeme Demirbaşları",null,"255 01 01 99  = Diğer Döşeme Demirbaşları"]
[null,255,"01","02",null,null,null,"Temsil ve Tören Demirbaşları",null,"255 01 02   = Temsil ve Tören Demirbaşları"]
[null,255,"01","02","01",null,null,"Bayrak ve Flamalar ile İç Mekan Direkleri",null,"255 01 02 01  = Bayrak ve Flamalar ile İç Mekan Direkleri"]
[null,255,"01","02","02",null,null,"Atatürk Büst, Mask, Pano ve Posterleri",null,"255 01 02 02  = Atatürk Büst, Mask, Pano ve Posterleri"]
[null,255,"01","02","03",null,null,"Atatürk Köşeleri ve Anıtları",null,"255 01 02 03  = Atatürk Köşeleri ve Anıtları"]
[null,255,"01","02","04",null,null,"Atatürk Resimleri",null,"255 01 02 04  = Atatürk Resimleri"]
[null,255,"01","02","05",null,null,"Metal Çelenkler",null,"255 01 02 05  = Metal Çelenkler"]
[null,255,"01","02","06",null,null,"Mehter Takımları",null,"255 01 02 06  = Mehter Takımları"]
[null,255,"01","02","07",null,null,"Bando Takımları",null,"255 01 02 07  = Bando Takımları"]
[null,255,"01","02","08",null,null,"Boru-Trampet Takımları",null,"255 01 02 08  = Boru-Trampet Takımları"]
[null,255,"01","02","99",null,null,"Diğer Temsil ve Tören Demirbaşları",null,"255 01 02 99  = Diğer Temsil ve Tören Demirbaşları"]
[null,255,"01","03",null,null,null,"Koruyucu Giysi ve Malzemeler",null,"255 01 03   = Koruyucu Giysi ve Malzemeler"]
[null,255,"01","03","01",null,null,"Genel Amaçlı Kullanılan Koruyucu Giysi ve Ekipmanlar",null,"255 01 03 01  = Genel Amaçlı Kullanılan Koruyucu Giysi ve Ekipmanlar"]
[null,255,"01","03","01","01",null,"Giysiler",null,"255 01 03 01 01 = Giysiler"]
[null,255,"01","03","01","02",null,"Baş ve Yüz Koruyucular",null,"255 01 03 01 02 = Baş ve Yüz Koruyucular"]
[null,255,"01","03","01","03",null,"El Koruyucular ",null,"255 01 03 01 03 = El Koruyucular "]
[null,255,"01","03","01","04",null,"Ayak Koruyucular",null,"255 01 03 01 04 = Ayak Koruyucular"]
[null,255,"01","03","01","05",null,"Göz Koruyucular",null,"255 01 03 01 05 = Göz Koruyucular"]
[null,255,"01","03","01","06",null,"Solunum Koruyucular",null,"255 01 03 01 06 = Solunum Koruyucular"]
[null,255,"01","03","01","07",null,"Kulak Koruyucular",null,"255 01 03 01 07 = Kulak Koruyucular"]
[null,255,"01","03","01","99",null,"Diğer Genel Amaçlı Kullanılan Koruyucu Giysi ve Ekipmanlar",null,"255 01 03 01 99 = Diğer Genel Amaçlı Kullanılan Koruyucu Giysi ve Ekipmanlar"]
[null,255,"01","03","02",null,null,"Balıkadam Giysileri ve Ekipmanları",null,"255 01 03 02  = Balıkadam Giysileri ve Ekipmanları"]
[null,255,"01","03","02","01",null,"Balıkadam Giysileri ",null,"255 01 03 02 01 = Balıkadam Giysileri "]
[null,255,"01","03","02","02",null,"Paletler",null,"255 01 03 02 02 = Paletler"]
[null,255,"01","03","02","03",null,"Snorkerler",null,"255 01 03 02 03 = Snorkerler"]
[null,255,"01","03","02","04",null,"Solunum Tüpleri",null,"255 01 03 02 04 = Solunum Tüpleri"]
[null,255,"01","03","02","99",null,"Diğer Balıkadam Ekipmanları",null,"255 01 03 02 99 = Diğer Balıkadam Ekipmanları"]
[null,255,"01","03","03",null,null,"Kimyasal Maddelerden Koruyucu Giyisiler",null,"255 01 03 03  = Kimyasal Maddelerden Koruyucu Giyisiler"]
[null,255,"01","03","03","01",null,"Gaz Maskeleri ",null,"255 01 03 03 01 = Gaz Maskeleri "]
[null,255,"01","03","03","02",null,"Data Eldivenler",null,"255 01 03 03 02 = Data Eldivenler"]
[null,255,"01","03","03","03",null,"Koruyucu Kılıf ve Giyisiler",null,"255 01 03 03 03 = Koruyucu Kılıf ve Giyisiler"]
[null,255,"01","03","03","99",null,"Diğer Koruyucu Ekipmanlar",null,"255 01 03 03 99 = Diğer Koruyucu Ekipmanlar"]
[null,255,"01","03","99",null,null,"Diğer Koruyucu Giysi ve Malzemeler",null,"255 01 03 99  = Diğer Koruyucu Giysi ve Malzemeler"]
[null,255,"01","04",null,null,null,"Seyahat, Muhafaza ve Taşıma Amaçlı Demirbaş Niteliğindeki Taşınırlar",null,"255 01 04   = Seyahat, Muhafaza ve Taşıma Amaçlı Demirbaş Niteliğindeki Taşınırlar"]
[null,255,"01","04","01",null,null,"Seyahat Amaçlı Çantalar",null,"255 01 04 01  = Seyahat Amaçlı Çantalar"]
[null,255,"01","04","01","01",null,"Elbise Çantaları",null,"255 01 04 01 01 = Elbise Çantaları"]
[null,255,"01","04","01","02",null,"Bavul Setleri",null,"255 01 04 01 02 = Bavul Setleri"]
[null,255,"01","04","01","03",null,"Tekli Bavullar",null,"255 01 04 01 03 = Tekli Bavullar"]
[null,255,"01","04","01","04",null,"Seyahat Kitleri",null,"255 01 04 01 04 = Seyahat Kitleri"]
[null,255,"01","04","01","99",null,"Diğer Seyahat Amaçlı Çantalar",null,"255 01 04 01 99 = Diğer Seyahat Amaçlı Çantalar"]
[null,255,"01","04","02",null,null,"İş Çantaları",null,"255 01 04 02  = İş Çantaları"]
[null,255,"01","04","02","01",null,"Evrak Çantası",null,"255 01 04 02 01 = Evrak Çantası"]
[null,255,"01","04","02","02",null,"Portföyler",null,"255 01 04 02 02 = Portföyler"]
[null,255,"01","04","02","03",null,"Ekipman Çantaları",null,"255 01 04 02 03 = Ekipman Çantaları"]
[null,255,"01","04","02","04",null,"Bilgisayar Çantaları",null,"255 01 04 02 04 = Bilgisayar Çantaları"]
[null,255,"01","04","02","05",null,"Bond Tipi Çantalar",null,"255 01 04 02 05 = Bond Tipi Çantalar"]
[null,255,"01","04","02","99",null,"Diğer İş Çantaları",null,{"$f":"IF(ISTEXT(H2309),CONCATENATE(B2308,\" \",C2308,\" \",D2308,\" \",E2308,\" \",F2308,\" = \",H2308),\"\")","v":"255 01 04 02 99 = Diğer İş Çantaları"}]
[null,255,"01","04","03",null,null,"Taşıyıcı Arabalar",null,"255 01 04 03  = Taşıyıcı Arabalar"]
[null,255,"01","04","03","01",null,"Dosya Taşıma Arabaları",null,"255 01 04 03 01 = Dosya Taşıma Arabaları"]
[null,255,"01","04","03","02",null,"Dergi, Gazete vb.Taşıma Arabaları",null,"255 01 04 03 02 = Dergi, Gazete vb.Taşıma Arabaları"]
[null,255,"01","04","03","03",null,"Cihaz Taşıma Arabaları",null,"255 01 04 03 03 = Cihaz Taşıma Arabaları"]
[null,255,"01","04","03","04",null,"Tüp, Un ve Şeker Taşıma Arabaları",null,"255 01 04 03 04 = Tüp, Un ve Şeker Taşıma Arabaları"]
[null,255,"01","04","03","05",null,"Çay, Kahve Servisi Arabaları",null,"255 01 04 03 05 = Çay, Kahve Servisi Arabaları"]
[null,255,"01","04","03","06",null,"Takım/Alet Taşıma Arabaları",null,"255 01 04 03 06 = Takım/Alet Taşıma Arabaları"]
[null,255,"01","04","03","07",null,"Kitap Taşıma Arabaları",null,"255 01 04 03 07 = Kitap Taşıma Arabaları"]
[null,255,"01","04","03","99",null,"Diğer Taşıyıcı Arabalar",null,"255 01 04 03 99 = Diğer Taşıyıcı Arabalar"]
[null,255,"01","04","99",null,null,"Seyahat, Muhafaza ve Taşıma Amaçlı Demirbaş Niteliğindeki Diğer Taşınırlar",null,"255 01 04 99  = Seyahat, Muhafaza ve Taşıma Amaçlı Demirbaş Niteliğindeki Diğer Taşınırlar"]
[null,255,"01","05",null,null,null,"Hastanede Kullanılan Demirbaş Niteliğindeki Taşınırlar",null,"255 01 05   = Hastanede Kullanılan Demirbaş Niteliğindeki Taşınırlar"]
[null,255,"01","05","01",null,null,"Ameliyat Masaları",null,"255 01 05 01  = Ameliyat Masaları"]
[null,255,"01","05","02",null,null,"Hasta Muayene Masaları",null,"255 01 05 02  = Hasta Muayene Masaları"]
[null,255,"01","05","02","01",null,"Sabit Ayaklı Hasta Muayene Masaları",null,"255 01 05 02 01 = Sabit Ayaklı Hasta Muayene Masaları"]
[null,255,"01","05","02","02",null,"Katlanır Ayaklı Hasta Muayene Masaları",null,"255 01 05 02 02 = Katlanır Ayaklı Hasta Muayene Masaları"]
[null,255,"01","05","02","03",null,"Çekmeceli veya Dolaplı Hasta Muayene Masaları",null,"255 01 05 02 03 = Çekmeceli veya Dolaplı Hasta Muayene Masaları"]
[null,255,"01","05","02","99",null,"Diğer Hasta Muayene Masaları",null,"255 01 05 02 99 = Diğer Hasta Muayene Masaları"]
[null,255,"01","05","03",null,null,"Hasta Önü Yemek ve Servis Masaları",null,"255 01 05 03  = Hasta Önü Yemek ve Servis Masaları"]
[null,255,"01","05","04",null,null,"Hasta Komidinleri ve Etejerleri",null,"255 01 05 04  = Hasta Komidinleri ve Etejerleri"]
[null,255,"01","05","04","01",null,"Yemek Tablalı Hasta Komidinleri",null,"255 01 05 04 01 = Yemek Tablalı Hasta Komidinleri"]
[null,255,"01","05","04","02",null,"Yemek Tablasız Hasta Komidinleri",null,"255 01 05 04 02 = Yemek Tablasız Hasta Komidinleri"]
[null,255,"01","05","04","99",null,"Diğer Hasta Komidinleri ve Masaları",null,"255 01 05 04 99 = Diğer Hasta Komidinleri ve Masaları"]
[null,255,"01","05","05",null,null,"Hasta Yatakları",null,"255 01 05 05  = Hasta Yatakları"]
[null,255,"01","05","05","01",null,"İki Parçalı Hasta Yatakları",null,"255 01 05 05 01 = İki Parçalı Hasta Yatakları"]
[null,255,"01","05","05","02",null,"Üç Parçalı Hasta Yatakları",null,"255 01 05 05 02 = Üç Parçalı Hasta Yatakları"]
[null,255,"01","05","05","03",null,"Dört Parçalı Hasta Yatakları",null,"255 01 05 05 03 = Dört Parçalı Hasta Yatakları"]
[null,255,"01","05","05","04",null,"Viscoelastik Yataklar",null,"255 01 05 05 04 = Viscoelastik Yataklar"]
[null,255,"01","05","05","05",null,"Su Geçirmez Antibakteriyel Yataklar",null,"255 01 05 05 05 = Su Geçirmez Antibakteriyel Yataklar"]
[null,255,"01","05","05","06",null,"Tıbbi Poliüretan Kılıflı Yataklar",null,"255 01 05 05 06 = Tıbbi Poliüretan Kılıflı Yataklar"]
[null,255,"01","05","05","99",null,"Diğer Hasta Yatakları",null,"255 01 05 05 99 = Diğer Hasta Yatakları"]
[null,255,"01","05","06",null,null,"Hasta ve Yoğun Bakım Karyaloları",null,"255 01 05 06  = Hasta ve Yoğun Bakım Karyaloları"]
[null,255,"01","05","06","01",null,"Çocuk Karyolaları",null,"255 01 05 06 01 = Çocuk Karyolaları"]
[null,255,"01","05","06","02",null,"Yetişkin Karyolaları",null,"255 01 05 06 02 = Yetişkin Karyolaları"]
[null,255,"01","05","06","03",null,"Yoğun Bakım Karyolaları",null,"255 01 05 06 03 = Yoğun Bakım Karyolaları"]
[null,255,"01","05","07",null,null,"Hasta Sedyeleri",null,"255 01 05 07  = Hasta Sedyeleri"]
[null,255,"01","05","07","01",null,"Hasta Yıkama Sedyeleri",null,"255 01 05 07 01 = Hasta Yıkama Sedyeleri"]
[null,255,"01","05","07","02",null,"Standart Sedyeler",null,"255 01 05 07 02 = Standart Sedyeler"]
[null,255,"01","05","07","03",null,"Tekerlekli Sedyeler",null,"255 01 05 07 03 = Tekerlekli Sedyeler"]
[null,255,"01","05","07","04",null,"Ambulans Sedyeleri",null,"255 01 05 07 04 = Ambulans Sedyeleri"]
[null,255,"01","05","07","05",null,"Hasta Transfer Sedyeleri",null,"255 01 05 07 05 = Hasta Transfer Sedyeleri"]
[null,255,"01","05","07","06",null,"Fonksiyonel Sedyeler",null,"255 01 05 07 06 = Fonksiyonel Sedyeler"]
[null,255,"01","05","07","07",null,"Portatif Sedyeler",null,"255 01 05 07 07 = Portatif Sedyeler"]
[null,255,"01","05","07","08",null,"Vakum Sedyeler",null,"255 01 05 07 08 = Vakum Sedyeler"]
[null,255,"01","05","07","09",null,"Faraş (Kaşık) Sedyeler",null,"255 01 05 07 09 = Faraş (Kaşık) Sedyeler"]
[null,255,"01","05","07","99",null,"Diğer Hasta Sedyeleri",null,"255 01 05 07 99 = Diğer Hasta Sedyeleri"]
[null,255,"01","05","08",null,null,"Bebek Kodları",null,"255 01 05 08  = Bebek Kodları"]
[null,255,"01","05","09",null,null,"Paravanlar",null,"255 01 05 09  = Paravanlar"]
[null,255,"01","05","09","01",null,"İkili Paravanlar",null,"255 01 05 09 01 = İkili Paravanlar"]
[null,255,"01","05","09","02",null,"Üçlü Paravanlar",null,"255 01 05 09 02 = Üçlü Paravanlar"]
[null,255,"01","05","09","03",null,"Dörtlü Paravanlar",null,"255 01 05 09 03 = Dörtlü Paravanlar"]
[null,255,"01","05","09","99",null,"Diğer Paravanlar",null,"255 01 05 09 99 = Diğer Paravanlar"]
[null,255,"01","05","10",null,null,"İlaç, Tedavi ve Pansuman Arabaları",null,"255 01 05 10  = İlaç, Tedavi ve Pansuman Arabaları"]
[null,255,"01","05","10","01",null,"Pansuman Arabası ",null,"255 01 05 10 01 = Pansuman Arabası "]
[null,255,"01","05","10","02",null,"Malzeme Taşıma Arabası",null,"255 01 05 10 02 = Malzeme Taşıma Arabası"]
[null,255,"01","05","10","03",null,"Tedavi Arabası",null,"255 01 05 10 03 = Tedavi Arabası"]
[null,255,"01","05","10","04",null,"Acil Müdahale ve Tedavi Arabası",null,"255 01 05 10 04 = Acil Müdahale ve Tedavi Arabası"]
[null,255,"01","05","10","05",null,"Acil Yardım Pansuman ve İnfüzyon Arabası",null,"255 01 05 10 05 = Acil Yardım Pansuman ve İnfüzyon Arabası"]
[null,255,"01","05","10","06",null,"Genel Amaçlı Tedavi Arabası",null,"255 01 05 10 06 = Genel Amaçlı Tedavi Arabası"]
[null,255,"01","05","10","07",null,"Hastane İlaç Arabaları",null,"255 01 05 10 07 = Hastane İlaç Arabaları"]
[null,255,"01","05","10","08",null,"Narkoz Arabaları",null,"255 01 05 10 08 = Narkoz Arabaları"]
[null,255,"01","05","10","99",null,"Diğer İlaç, Tedavi ve Pansuman Arabaları",null,"255 01 05 10 99 = Diğer İlaç, Tedavi ve Pansuman Arabaları"]
[null,255,"01","05","11",null,null,"Eğitim Maketleri",null,"255 01 05 11  = Eğitim Maketleri"]
[null,255,"01","05","12",null,null,"Morg Üniteleri",null,"255 01 05 12  = Morg Üniteleri"]
[null,255,"01","05","13",null,null,"Serum Askılıkları",null,{"$f":"IF(ISTEXT(H2373),CONCATENATE(B2372,\" \",C2372,\" \",D2372,\" \",E2372,\" \",F2372,\" = \",H2372),\"\")","v":"255 01 05 13  = Serum Askılıkları"}]
[null,255,"01","05","14",null,null,"Sandalye ve Tabureler",null,"255 01 05 14  = Sandalye ve Tabureler"]
[null,255,"01","05","14","01",null,"Fonksiyonel Hasta Taşıma Sandalyeleri",null,"255 01 05 14 01 = Fonksiyonel Hasta Taşıma Sandalyeleri"]
[null,255,"01","05","14","02",null,"Tekerlikli Hasta Taşıma Sandalyeleri",null,"255 01 05 14 02 = Tekerlikli Hasta Taşıma Sandalyeleri"]
[null,255,"01","05","14","03",null,"Tekerlekli Sandalyeler",null,"255 01 05 14 03 = Tekerlekli Sandalyeler"]
[null,255,"01","05","14","04",null,"Sırtlıklı Doktor Tabureleri",null,"255 01 05 14 04 = Sırtlıklı Doktor Tabureleri"]
[null,255,"01","05","14","05",null,"Doktor Tabureleri",null,"255 01 05 14 05 = Doktor Tabureleri"]
[null,255,"01","05","14","99",null,"Diğer Sandalye ve Tabureler",null,"255 01 05 14 99 = Diğer Sandalye ve Tabureler"]
[null,255,"01","05","15",null,null,"Özel Amaçlı Koltuklar",null,"255 01 05 15  = Özel Amaçlı Koltuklar"]
[null,255,"01","05","15","01",null,"Diyaliz Koltukları",null,"255 01 05 15 01 = Diyaliz Koltukları"]
[null,255,"01","05","15","02",null,"Kan Alma Koltukları",null,"255 01 05 15 02 = Kan Alma Koltukları"]
[null,255,"01","05","15","03",null,"Dişçilikte Kullanılan Koltuklar",null,"255 01 05 15 03 = Dişçilikte Kullanılan Koltuklar"]
[null,255,"01","05","15","99",null,"Diğer Özel Amaçlı Koltuklar",null,"255 01 05 15 99 = Diğer Özel Amaçlı Koltuklar"]
[null,255,"01","05","16",null,null,"Hastane Tipi Buzdolapları ve Dolaplar",null,"255 01 05 16  = Hastane Tipi Buzdolapları ve Dolaplar"]
[null,255,"01","05","16","01",null,"Derin Dondurucular",null,"255 01 05 16 01 = Derin Dondurucular"]
[null,255,"01","05","16","02",null,"Kan Dolapları",null,"255 01 05 16 02 = Kan Dolapları"]
[null,255,"01","05","16","03",null,"Kit Saklama Dolapları",null,"255 01 05 16 03 = Kit Saklama Dolapları"]
[null,255,"01","05","16","04",null,"İlaç Dolapları",null,"255 01 05 16 04 = İlaç Dolapları"]
[null,255,"01","05","16","05",null,"Alet Dolapları",null,"255 01 05 16 05 = Alet Dolapları"]
[null,255,"01","05","16","99",null,"Diğer Hastane Tipi Buzdolapları ve Dolaplar",null,"255 01 05 16 99 = Diğer Hastane Tipi Buzdolapları ve Dolaplar"]
[null,255,"01","05","99",null,null,"Hastanede Kullanılan Demirbaş Niteliğindeki Diğer Taşınırlar",null,"255 01 05 99  = Hastanede Kullanılan Demirbaş Niteliğindeki Diğer Taşınırlar"]
[null,255,"02",null,null,null,null,"Büro Makineleri Grubu",null,"255 02    = Büro Makineleri Grubu"]
[null,255,"02","01",null,null,null,"Bilgisayarlar ve Sunucular",null,"255 02 01   = Bilgisayarlar ve Sunucular"]
[null,255,"02","01","01",null,null,"Bilgisayarlar ve Ekipmanları",null,"255 02 01 01  = Bilgisayarlar ve Ekipmanları"]
[null,255,"02","01","01","01",null,"Masaüstü Bilgisayarlar",null,"255 02 01 01 01 = Masaüstü Bilgisayarlar"]
[null,255,"02","01","01","01","01","Bilgisayar Kasaları",null,"255 02 01 01 01 = Bilgisayar Kasaları"]
[null,255,"02","01","01","01","02","Thin Client (İnce İstemci) ",null,"255 02 01 01 01 = Thin Client (İnce İstemci) "]
[null,255,"02","01","01","01","03","Ekranlar",null,"255 02 01 01 01 = Ekranlar"]
[null,255,"02","01","01","02",null,"Dizüstü Bilgisayarlar",null,"255 02 01 01 02 = Dizüstü Bilgisayarlar"]
[null,255,"02","01","01","03",null,"Tablet Bilgisayarlar",null,"255 02 01 01 03 = Tablet Bilgisayarlar"]
[null,255,"02","01","01","04",null,"Cep Bilgisayarları",null,"255 02 01 01 04 = Cep Bilgisayarları"]
[null,255,"02","01","01","05",null,"All in One/ Tümleşik Bilgisayarlar",null,"255 02 01 01 05 = All in One/ Tümleşik Bilgisayarlar"]
[null,255,"02","01","01","99",null,"Diğer Bilgisayarlar",null,"255 02 01 01 99 = Diğer Bilgisayarlar"]
[null,255,"02","01","02",null,null,"Bilgisayar Sunucu Kasaları ve Ekipmanları",null,"255 02 01 02  = Bilgisayar Sunucu Kasaları ve Ekipmanları"]
[null,255,"02","01","02","01",null,"Kule Sunucular",null,"255 02 01 02 01 = Kule Sunucular"]
[null,255,"02","01","02","02",null,"Blade Sunucular",null,"255 02 01 02 02 = Blade Sunucular"]
[null,255,"02","01","02","03",null,"Raf Sunucular",null,"255 02 01 02 03 = Raf Sunucular"]
[null,255,"02","01","02","04",null,"Data Kasaları ile Sunucu ve Ağ Cihazı Kabinleri",null,"255 02 01 02 04 = Data Kasaları ile Sunucu ve Ağ Cihazı Kabinleri"]
[null,255,"02","01","02","99",null,"Diğer Bilgisayar Sunucu Kasaları ve Ekipmanları",null,"255 02 01 02 99 = Diğer Bilgisayar Sunucu Kasaları ve Ekipmanları"]
[null,255,"02","01","03",null,null,"Bilgisayar Destekli Cihazlar",null,"255 02 01 03  = Bilgisayar Destekli Cihazlar"]
[null,255,"02","01","03","01",null,"Elektronik Ajandalar ",null,"255 02 01 03 01 = Elektronik Ajandalar "]
[null,255,"02","01","03","02",null,"Küçük İstemciler",null,"255 02 01 03 02 = Küçük İstemciler"]
[null,255,"02","01","03","03",null,"Anaçatı Konsolu veya Programlanamayan Uçbirimler",null,"255 02 01 03 03 = Anaçatı Konsolu veya Programlanamayan Uçbirimler"]
[null,255,"02","01","03","04",null,"Giysi Bilgisayar Cihazları",null,"255 02 01 03 04 = Giysi Bilgisayar Cihazları"]
[null,255,"02","01","03","05",null,"Anaçatı Bilgisayar",null,"255 02 01 03 05 = Anaçatı Bilgisayar"]
[null,255,"02","01","03","99",null,"Diğer Bilgisayar Destekli Cihazlar",null,"255 02 01 03 99 = Diğer Bilgisayar Destekli Cihazlar"]
[null,255,"02","02",null,null,null,"Bilgisayar Çevre Birimleri  ",null,"255 02 02   = Bilgisayar Çevre Birimleri  "]
[null,255,"02","02","01",null,null,"Yazıcılar ve Okuyucular",null,"255 02 02 01  = Yazıcılar ve Okuyucular"]
[null,255,"02","02","01","01",null,"Nokta Vuruşlu (Matris) Yazıcılar",null,"255 02 02 01 01 = Nokta Vuruşlu (Matris) Yazıcılar"]
[null,255,"02","02","01","02",null,"Mürekkep Püskürtmeli (Deskjet)Yazıcılar",null,"255 02 02 01 02 = Mürekkep Püskürtmeli (Deskjet)Yazıcılar"]
[null,255,"02","02","01","03",null,"Lazer Yazıcılar",null,"255 02 02 01 03 = Lazer Yazıcılar"]
[null,255,"02","02","01","04",null,"Plotter Yazıcılar",null,"255 02 02 01 04 = Plotter Yazıcılar"]
[null,255,"02","02","01","05",null,"Termal Yazıcılar",null,"255 02 02 01 05 = Termal Yazıcılar"]
[null,255,"02","02","01","06",null,"İnkjet Yazıcılar",null,"255 02 02 01 06 = İnkjet Yazıcılar"]
[null,255,"02","02","01","07",null,"Portatif Yazıcılar",null,"255 02 02 01 07 = Portatif Yazıcılar"]
[null,255,"02","02","01","08",null,"Çok Fonksiyonlu Yazıcılar",null,"255 02 02 01 08 = Çok Fonksiyonlu Yazıcılar"]
[null,255,"02","02","01","09",null,"Uçak Bileti veya Biniş Kartı (ATB) Yazıcıları",null,"255 02 02 01 09 = Uçak Bileti veya Biniş Kartı (ATB) Yazıcıları"]
[null,255,"02","02","01","10",null,"Satış Fişi (POS) Yazıcıları",null,"255 02 02 01 10 = Satış Fişi (POS) Yazıcıları"]
[null,255,"02","02","01","11",null,"Etiket Yazıcıları ve Okuyucuları",null,"255 02 02 01 11 = Etiket Yazıcıları ve Okuyucuları"]
[null,255,"02","02","01","12",null,"Harici CD ve DVD Yazıcıları ve Okuyucuları",null,"255 02 02 01 12 = Harici CD ve DVD Yazıcıları ve Okuyucuları"]
[null,255,"02","02","01","13",null,"Barkod Yazıcılar ve Okuyucular, Optik Okuyucular",null,"255 02 02 01 13 = Barkod Yazıcılar ve Okuyucular, Optik Okuyucular"]
[null,255,"02","02","01","99",null,"Diğer Yazıcılar ve Okuyucular",null,"255 02 02 01 99 = Diğer Yazıcılar ve Okuyucular"]
[null,255,"02","02","02",null,null,"Tarayıcılar",null,"255 02 02 02  = Tarayıcılar"]
[null,255,"02","02","02","01",null,"El Tarayıcıları",null,"255 02 02 02 01 = El Tarayıcıları"]
[null,255,"02","02","02","02",null,"Masaüstü Tarayıcılar",null,{"$f":"IF(ISTEXT(H2437),CONCATENATE(B2436,\" \",C2436,\" \",D2436,\" \",E2436,\" \",F2436,\" = \",H2436),\"\")","v":"255 02 02 02 02 = Masaüstü Tarayıcılar"}]
[null,255,"02","02","02","03",null,"Paralel Porttan Tarayıcılar",null,"255 02 02 02 03 = Paralel Porttan Tarayıcılar"]
[null,255,"02","02","02","04",null,"USB Tarayıcılar",null,"255 02 02 02 04 = USB Tarayıcılar"]
[null,255,"02","02","02","99",null,"Diğer Tarayıcılar",null,"255 02 02 02 99 = Diğer Tarayıcılar"]
[null,255,"02","02","03",null,null,"Çiziciler",null,"255 02 02 03  = Çiziciler"]
[null,255,"02","02","03","01",null,"Termal Çiziciler",null,"255 02 02 03 01 = Termal Çiziciler"]
[null,255,"02","02","03","02",null,"Recorderpik Çiziciler",null,"255 02 02 03 02 = Recorderpik Çiziciler"]
[null,255,"02","02","03","99",null,"Diğer Çiziciler",null,"255 02 02 03 99 = Diğer Çiziciler"]
[null,255,"02","02","04",null,null,"Yedekleme Cihazları",null,"255 02 02 04  = Yedekleme Cihazları"]
[null,255,"02","02","05",null,null,"Klavye, Monitör ve Fare Çoklayıcıları (KVM)",null,"255 02 02 05  = Klavye, Monitör ve Fare Çoklayıcıları (KVM)"]
[null,255,"02","02","99",null,null,"Diğer  Bilgisayar Çevre Birimleri  ",null,"255 02 02 99  = Diğer  Bilgisayar Çevre Birimleri  "]
[null,255,"02","03",null,null,null,"Teksir ve Çoğaltma Makineleri",null,"255 02 03   = Teksir ve Çoğaltma Makineleri"]
[null,255,"02","03","01",null,null,"Fotokopi Makineleri",null,"255 02 03 01  = Fotokopi Makineleri"]
[null,255,"02","03","02",null,null,"Faksimile Makineleri",null,"255 02 03 02  = Faksimile Makineleri"]
[null,255,"02","03","03",null,null,"Çok Amaçlı Makineler",null,"255 02 03 03  = Çok Amaçlı Makineler"]
[null,255,"02","03","04",null,null,"Dijital Göndericiler",null,"255 02 03 04  = Dijital Göndericiler"]
[null,255,"02","03","05",null,null,"Teksir Makineleri",null,"255 02 03 05  = Teksir Makineleri"]
[null,255,"02","03","06",null,null,"Faxswitch Makineleri",null,"255 02 03 06  = Faxswitch Makineleri"]
[null,255,"02","03","99",null,null,"Diğer Teksir ve Çoğaltma Makineleri",null,"255 02 03 99  = Diğer Teksir ve Çoğaltma Makineleri"]
[null,255,"02","04",null,null,null,"Haberleşme Cihazları",null,"255 02 04   = Haberleşme Cihazları"]
[null,255,"02","04","01",null,null,"Telefonlar",null,"255 02 04 01  = Telefonlar"]
[null,255,"02","04","01","01",null,"Sabit Telefonlar",null,"255 02 04 01 01 = Sabit Telefonlar"]
[null,255,"02","04","01","02",null,"Telsiz Telefonlar",null,"255 02 04 01 02 = Telsiz Telefonlar"]
[null,255,"02","04","01","03",null,"Telsizler",null,"255 02 04 01 03 = Telsizler"]
[null,255,"02","04","01","04",null,"CepTelefonları ",null,"255 02 04 01 04 = CepTelefonları "]
[null,255,"02","04","01","05",null,"Araç Telefonları",null,"255 02 04 01 05 = Araç Telefonları"]
[null,255,"02","04","01","06",null,"IP Telefonlar",null,"255 02 04 01 06 = IP Telefonlar"]
[null,255,"02","04","01","07",null,"Çağrı Cihazları",null,"255 02 04 01 07 = Çağrı Cihazları"]
[null,255,"02","04","01","08",null,"Santraller",null,"255 02 04 01 08 = Santraller"]
[null,255,"02","04","01","09",null,"Çağrı Kayıt ve Takip Sistemleri",null,"255 02 04 01 09 = Çağrı Kayıt ve Takip Sistemleri"]
[null,255,"02","04","01","10",null,"Uydu Telefonları ",null,"255 02 04 01 10 = Uydu Telefonları "]
[null,255,"02","04","01","99",null,"Diğer Telefonlar",null,"255 02 04 01 99 = Diğer Telefonlar"]
[null,255,"02","04","02",null,null,"Faks Cihazları ",null,"255 02 04 02  = Faks Cihazları "]
[null,255,"02","04","03",null,null,"Network Cihazları",null,"255 02 04 03  = Network Cihazları"]
[null,255,"02","04","03","01",null,"Modemler (SDH ve Erişim Cihazları)",null,"255 02 04 03 01 = Modemler (SDH ve Erişim Cihazları)"]
[null,255,"02","04","03","02",null,"Swichler (Anahtarlar)",null,"255 02 04 03 02 = Swichler (Anahtarlar)"]
[null,255,"02","04","03","03",null,"Hublar",null,"255 02 04 03 03 = Hublar"]
[null,255,"02","04","03","04",null,"Routerler (Yönlendirici Cihazlar)",null,"255 02 04 03 04 = Routerler (Yönlendirici Cihazlar)"]
[null,255,"02","04","03","05",null,"İletişim Ağ Cihazları ",null,"255 02 04 03 05 = İletişim Ağ Cihazları "]
[null,255,"02","04","03","06",null,"Çok Fonksiyonlu Network Cihazları",null,"255 02 04 03 06 = Çok Fonksiyonlu Network Cihazları"]
[null,255,"02","04","03","07",null,"İletişim Çeviricileri",null,"255 02 04 03 07 = İletişim Çeviricileri"]
[null,255,"02","04","03","08",null,"Firewall Cihazları",null,"255 02 04 03 08 = Firewall Cihazları"]
[null,255,"02","04","03","99",null,"Diğer Network Cihazları",null,"255 02 04 03 99 = Diğer Network Cihazları"]
[null,255,"02","04","99",null,null,"Diğer Haberleşme Cihazları",null,"255 02 04 99  = Diğer Haberleşme Cihazları"]
[null,255,"02","05",null,null,null,"Ses, Görüntü ve Sunum Cihazları",null,"255 02 05   = Ses, Görüntü ve Sunum Cihazları"]
[null,255,"02","05","01",null,null,"Sunum Cihazları ve Aksesuarları",null,"255 02 05 01  = Sunum Cihazları ve Aksesuarları"]
[null,255,"02","05","01","01",null,"Projektörler (Projeksiyon Cihazları)",null,"255 02 05 01 01 = Projektörler (Projeksiyon Cihazları)"]
[null,255,"02","05","01","02",null,"Tepegözler (Slayt Cihazları)",null,"255 02 05 01 02 = Tepegözler (Slayt Cihazları)"]
[null,255,"02","05","01","03",null,"Epediyaskoplar",null,"255 02 05 01 03 = Epediyaskoplar"]
[null,255,"02","05","01","04",null,"Smartboardlar",null,"255 02 05 01 04 = Smartboardlar"]
[null,255,"02","05","01","05",null,"Sunum Işık Kutuları",null,"255 02 05 01 05 = Sunum Işık Kutuları"]
[null,255,"02","05","01","06",null,"Projeksiyon Ekranları",null,"255 02 05 01 06 = Projeksiyon Ekranları"]
[null,255,"02","05","01","07",null,"Projeksiyon Perdeleri",null,"255 02 05 01 07 = Projeksiyon Perdeleri"]
[null,255,"02","05","01","99",null,"Diğer Sunum Cihazları ve Ekipmanları",null,"255 02 05 01 99 = Diğer Sunum Cihazları ve Ekipmanları"]
[null,255,"02","05","02",null,null,"Ses ve Görüntü Cihaz ve Aletleri",null,"255 02 05 02  = Ses ve Görüntü Cihaz ve Aletleri"]
[null,255,"02","05","02","01",null,"Müzik Çalarlar ve Kaydediciler ile Donanımları",null,"255 02 05 02 01 = Müzik Çalarlar ve Kaydediciler ile Donanımları"]
[null,255,"02","05","02","02",null,"Televizyonlar",null,"255 02 05 02 02 = Televizyonlar"]
[null,255,"02","05","02","03",null,"Videolar",null,"255 02 05 02 03 = Videolar"]
[null,255,"02","05","02","99",null,"Diğer Ses ve Görüntü Cihaz ve Aletleri",null,"255 02 05 02 99 = Diğer Ses ve Görüntü Cihaz ve Aletleri"]
[null,255,"02","05","03",null,null,"Ses ve Görüntü Hazırlama ve Dizgi Cihaz ve Aletleri",null,"255 02 05 03  = Ses ve Görüntü Hazırlama ve Dizgi Cihaz ve Aletleri"]
[null,255,"02","05","03","01",null,"Lecterna ve Ses Sistemleri ve Donanımları",null,"255 02 05 03 01 = Lecterna ve Ses Sistemleri ve Donanımları"]
[null,255,"02","05","03","01","01","Desteksiz Lecternler",null,"255 02 05 03 01 = Desteksiz Lecternler"]
[null,255,"02","05","03","01","02","Masa Üstü Lecternleri",null,"255 02 05 03 01 = Masa Üstü Lecternleri"]
[null,255,"02","05","03","01","03","Tokmaklar veya Vurma Blokları",null,"255 02 05 03 01 = Tokmaklar veya Vurma Blokları"]
[null,255,"02","05","03","01","04","Lecternler İçin Aydınlatma, Güç Kaynağı veya Veri Elemanları ",null,{"$f":"IF(ISTEXT(H2501),CONCATENATE(B2500,\" \",C2500,\" \",D2500,\" \",E2500,\" \",F2500,\" = \",H2500),\"\")","v":"255 02 05 03 01 = Lecternler İçin Aydınlatma, Güç Kaynağı veya Veri Elemanları "}]
[null,255,"02","05","03","01","99","Diğer Lecterna ve Ses Sistemleri ve Donanımları",null,"255 02 05 03 01 = Diğer Lecterna ve Ses Sistemleri ve Donanımları"]
[null,255,"02","05","03","02",null,"İşitsel Sunum ve Dizgi Ekipmanları ve Donanımları",null,"255 02 05 03 02 = İşitsel Sunum ve Dizgi Ekipmanları ve Donanımları"]
[null,255,"02","05","03","02","01","Yardımcı Dinleme Cihazları",null,"255 02 05 03 02 = Yardımcı Dinleme Cihazları"]
[null,255,"02","05","03","02","02","Ses Bağlantı Kutusu",null,"255 02 05 03 02 = Ses Bağlantı Kutusu"]
[null,255,"02","05","03","02","03","Dinleme Merkezleri",null,"255 02 05 03 02 = Dinleme Merkezleri"]
[null,255,"02","05","03","02","04","Ses Karıştıma Konsolları ",null,"255 02 05 03 02 = Ses Karıştıma Konsolları "]
[null,255,"02","05","03","02","05","Genel Yayın Sistemleri",null,"255 02 05 03 02 = Genel Yayın Sistemleri"]
[null,255,"02","05","03","02","99","Diğer İşitsel Sunum ve Dizgi Ekipmanları ve Donanımları",null,"255 02 05 03 02 = Diğer İşitsel Sunum ve Dizgi Ekipmanları ve Donanımları"]
[null,255,"02","05","03","03",null,"Video ve Ekipmanı ile İşitsel Sunum Ekipmanları ve Kontrol Sistemleri",null,"255 02 05 03 03 = Video ve Ekipmanı ile İşitsel Sunum Ekipmanları ve Kontrol Sistemleri"]
[null,255,"02","05","03","03","01","Medya Kontrol Sistemleri",null,"255 02 05 03 03 = Medya Kontrol Sistemleri"]
[null,255,"02","05","03","03","02","Tarama Dönüştürücüleri",null,"255 02 05 03 03 = Tarama Dönüştürücüleri"]
[null,255,"02","05","03","03","03","Video Düzenleyiciler ",null,"255 02 05 03 03 = Video Düzenleyiciler "]
[null,255,"02","05","03","03","04","Uzaktan Öğrenim Sistemleri",null,"255 02 05 03 03 = Uzaktan Öğrenim Sistemleri"]
[null,255,"02","05","03","03","05","Arabirimler",null,"255 02 05 03 03 = Arabirimler"]
[null,255,"02","05","03","03","06","Aydınlatma Kontrolleri",null,"255 02 05 03 03 = Aydınlatma Kontrolleri"]
[null,255,"02","05","03","03","07","Televizyon Bağlantı Aksesuarları",null,"255 02 05 03 03 = Televizyon Bağlantı Aksesuarları"]
[null,255,"02","05","03","03","08","Görsel Sunucular",null,"255 02 05 03 03 = Görsel Sunucular"]
[null,255,"02","05","03","03","99","Diğer Video ve Ekipmanı ile İşitsel Sunum Ekipmanları ve Kontrol Sistemleri",null,"255 02 05 03 03 = Diğer Video ve Ekipmanı ile İşitsel Sunum Ekipmanları ve Kontrol Sistemleri"]
[null,255,"02","05","03","04",null,"Konferans Ekipmanları",null,"255 02 05 03 04 = Konferans Ekipmanları"]
[null,255,"02","05","03","04","01","Audio Konferans Sistemleri",null,"255 02 05 03 04 = Audio Konferans Sistemleri"]
[null,255,"02","05","03","04","02","Video Konferans Sistemleri",null,"255 02 05 03 04 = Video Konferans Sistemleri"]
[null,255,"02","05","03","04","03","Müzik ve Anons Sistemleri",null,"255 02 05 03 04 = Müzik ve Anons Sistemleri"]
[null,255,"02","05","03","04","99","Diğer Konferans Ekipmanları",null,"255 02 05 03 04 = Diğer Konferans Ekipmanları"]
[null,255,"02","05","03","05",null,"Mikrofilm Ekipmanları",null,"255 02 05 03 05 = Mikrofilm Ekipmanları"]
[null,255,"02","05","03","05","01","Mikrofiş veya Mikrofilm Görüntüleyicileri",null,"255 02 05 03 05 = Mikrofiş veya Mikrofilm Görüntüleyicileri"]
[null,255,"02","05","03","05","02","Mikrofiş Okuyucu Yazıcıları ",null,"255 02 05 03 05 = Mikrofiş Okuyucu Yazıcıları "]
[null,255,"02","05","03","05","99","Diğer Mikrofilm Ekipmanları",null,"255 02 05 03 05 = Diğer Mikrofilm Ekipmanları"]
[null,255,"02","05","03","06",null,"Anons ve Müzik Yayın Cihazları",null,"255 02 05 03 06 = Anons ve Müzik Yayın Cihazları"]
[null,255,"02","05","03","06","01","Megafonlar",null,"255 02 05 03 06 = Megafonlar"]
[null,255,"02","05","03","06","02","Mikrofonlar",null,"255 02 05 03 06 = Mikrofonlar"]
[null,255,"02","05","03","06","03","Hoparlörler",null,"255 02 05 03 06 = Hoparlörler"]
[null,255,"02","05","03","06","04","Amfiler",null,"255 02 05 03 06 = Amfiler"]
[null,255,"02","05","03","06","05","Kablosuz Mikrofon Alıcı Verici Sistemleri",null,"255 02 05 03 06 = Kablosuz Mikrofon Alıcı Verici Sistemleri"]
[null,255,"02","05","03","06","99","Diğer Anons ve Müzik Yayın Cihazları",null,"255 02 05 03 06 = Diğer Anons ve Müzik Yayın Cihazları"]
[null,255,"02","05","03","07",null,"Uydu Sistemleri",null,"255 02 05 03 07 = Uydu Sistemleri"]
[null,255,"02","05","03","07","01","Uydu Alıcıları",null,"255 02 05 03 07 = Uydu Alıcıları"]
[null,255,"02","05","03","07","02","Bina Sistemleri",null,"255 02 05 03 07 = Bina Sistemleri"]
[null,255,"02","05","03","07","03","Yön Bulma Cihazları",null,"255 02 05 03 07 = Yön Bulma Cihazları"]
[null,255,"02","05","03","07","04","GPRS Cihazları",null,"255 02 05 03 07 = GPRS Cihazları"]
[null,255,"02","05","03","07","99","Diğer Uydu Sistemleri",null,"255 02 05 03 07 = Diğer Uydu Sistemleri"]
[null,255,"02","05","03","99",null,"Diğerleri",null,"255 02 05 03 99 = Diğerleri"]
[null,255,"02","05","04",null,null,"Filme Alma, Fotoğraflama ve Gözlem Cihazları ve Aletleri",null,"255 02 05 04  = Filme Alma, Fotoğraflama ve Gözlem Cihazları ve Aletleri"]
[null,255,"02","05","04","01",null,"Kameralar",null,"255 02 05 04 01 = Kameralar"]
[null,255,"02","05","04","01","01","Sabit Kameralar",null,"255 02 05 04 01 = Sabit Kameralar"]
[null,255,"02","05","04","01","02","Sürekli Çekim Kameraları",null,"255 02 05 04 01 = Sürekli Çekim Kameraları"]
[null,255,"02","05","04","01","03","Tek Çekimlik Kameralar",null,"255 02 05 04 01 = Tek Çekimlik Kameralar"]
[null,255,"02","05","04","01","04","Dijital Kameralar",null,"255 02 05 04 01 = Dijital Kameralar"]
[null,255,"02","05","04","01","05","Sinema Çekim Kameraları",null,"255 02 05 04 01 = Sinema Çekim Kameraları"]
[null,255,"02","05","04","01","06","Video Konferans Kameraları",null,"255 02 05 04 01 = Video Konferans Kameraları"]
[null,255,"02","05","04","01","07","Aerial Kameraları",null,"255 02 05 04 01 = Aerial Kameraları"]
[null,255,"02","05","04","01","08","Hızlı Kameralar",null,"255 02 05 04 01 = Hızlı Kameralar"]
[null,255,"02","05","04","01","09","Sualtı Kameraları",null,"255 02 05 04 01 = Sualtı Kameraları"]
[null,255,"02","05","04","01","10","Ofset Kameraları ",null,"255 02 05 04 01 = Ofset Kameraları "]
[null,255,"02","05","04","01",11,"Fotokopi Kameraları",null,"255 02 05 04 01 = Fotokopi Kameraları"]
[null,255,"02","05","04","01",12,"Analog Ses ve Görüntü Kaydediciler",null,"255 02 05 04 01 = Analog Ses ve Görüntü Kaydediciler"]
[null,255,"02","05","04","01",13,"Dijital Ses ve Görüntü Kaydediciler",null,"255 02 05 04 01 = Dijital Ses ve Görüntü Kaydediciler"]
[null,255,"02","05","04","01",14,"Doküman Kameraları",null,"255 02 05 04 01 = Doküman Kameraları"]
[null,255,"02","05","04","01",15,"Kamera Takımları",null,"255 02 05 04 01 = Kamera Takımları"]
[null,255,"02","05","04","01",16,"Düşük Işıkta Çekim Yapan Kameralar",null,"255 02 05 04 01 = Düşük Işıkta Çekim Yapan Kameralar"]
[null,255,"02","05","04","01",17,"İnternet Kameraları",null,"255 02 05 04 01 = İnternet Kameraları"]
[null,255,"02","05","04","01","18","Gece Görüş Kameraları",null,"255 02 05 04 01 = Gece Görüş Kameraları"]
[null,255,"02","05","04","01",99,"Diğer Kameralar",null,"255 02 05 04 01 = Diğer Kameralar"]
[null,255,"02","05","04","02",null,"Fotoğraf Makinelerı",null,"255 02 05 04 02 = Fotoğraf Makinelerı"]
[null,255,"02","05","04","03",null,"Gözlem Cihaz ve Aletleri",null,{"$f":"IF(ISTEXT(H2565),CONCATENATE(B2564,\" \",C2564,\" \",D2564,\" \",E2564,\" \",F2564,\" = \",H2564),\"\")","v":"255 02 05 04 03 = Gözlem Cihaz ve Aletleri"}]
[null,255,"02","05","04","03","01","Teleskoplar",null,"255 02 05 04 03 = Teleskoplar"]
[null,255,"02","05","04","03","02","Dürbünler",null,"255 02 05 04 03 = Dürbünler"]
[null,255,"02","05","04","03","99","Diğer Gözlem Cihaz ve Aletleri",null,"255 02 05 04 03 = Diğer Gözlem Cihaz ve Aletleri"]
[null,255,"02","05","04","04",null,"Filme Alma, Fotoğraflama ve Gözlem Cihaz Ekipmanları",null,"255 02 05 04 04 = Filme Alma, Fotoğraflama ve Gözlem Cihaz Ekipmanları"]
[null,255,"02","05","04","99",null,"Diğer Filme Alma , Fotoğraflama ve Gözlem Cihazları ve Aletleri",null,"255 02 05 04 99 = Diğer Filme Alma , Fotoğraflama ve Gözlem Cihazları ve Aletleri"]
[null,255,"02","05","99",null,null,"Diğer Ses, Görüntü ve Sunum Cihazları",null,"255 02 05 99  = Diğer Ses, Görüntü ve Sunum Cihazları"]
[null,255,"02","06",null,null,null,"Aydınlatma Cihazları",null,"255 02 06   = Aydınlatma Cihazları"]
[null,255,"02","06","01",null,null,"Genel Aydınlatma Araçları ",null,"255 02 06 01  = Genel Aydınlatma Araçları "]
[null,255,"02","06","01","01",null,"Avizeler",null,"255 02 06 01 01 = Avizeler"]
[null,255,"02","06","01","02",null,"Masa ve Yer Lambaları",null,"255 02 06 01 02 = Masa ve Yer Lambaları"]
[null,255,"02","06","99",null,null,"Diğer Aydınlatma Cihazları",null,"255 02 06 99  = Diğer Aydınlatma Cihazları"]
[null,255,"02","99",null,null,null,"Diğer Büro Makineleri ve Aletleri Grubu",null,"255 02 99   = Diğer Büro Makineleri ve Aletleri Grubu"]
[null,255,"02","99","01",null,null,"Hesaplama Makineleri",null,"255 02 99 01  = Hesaplama Makineleri"]
[null,255,"02","99","01","01",null,"Hesap Makineleri",null,"255 02 99 01 01 = Hesap Makineleri"]
[null,255,"02","99","01","02",null,"Toplama Makineler",null,"255 02 99 01 02 = Toplama Makineler"]
[null,255,"02","99","01","03",null,"Yazar Kasalar",null,"255 02 99 01 03 = Yazar Kasalar"]
[null,255,"02","99","01","99",null,"Diğer Hesaplama Makineleri",null,"255 02 99 01 99 = Diğer Hesaplama Makineleri"]
[null,255,"02","99","02",null,null,"Havayı Isıtma, Soğutma, Havalandırma ve Nemlendirme Cihazları ve Aletleri",null,"255 02 99 02  = Havayı Isıtma, Soğutma, Havalandırma ve Nemlendirme Cihazları ve Aletleri"]
[null,255,"02","99","02","01",null,"Sobalar",null,"255 02 99 02 01 = Sobalar"]
[null,255,"02","99","02","02",null,"Radyatörler",null,"255 02 99 02 02 = Radyatörler"]
[null,255,"02","99","02","03",null,"Katalitikler",null,"255 02 99 02 03 = Katalitikler"]
[null,255,"02","99","02","04",null,"İnfrared Isıtıcılar",null,"255 02 99 02 04 = İnfrared Isıtıcılar"]
[null,255,"02","99","02","05",null,"Klimalar",null,"255 02 99 02 05 = Klimalar"]
[null,255,"02","99","02","06",null,"Vantilatörler",null,"255 02 99 02 06 = Vantilatörler"]
[null,255,"02","99","02","07",null,"Hava Kurutma ve Nemlendirme Cihazları",null,"255 02 99 02 07 = Hava Kurutma ve Nemlendirme Cihazları"]
[null,255,"02","99","02","99",null,"Diğer Isıtma, Soğutma, Havalandırma ve Nemlendirme Cihazları ve Aletleri",null,"255 02 99 02 99 = Diğer Isıtma, Soğutma, Havalandırma ve Nemlendirme Cihazları ve Aletleri"]
[null,255,"02","99","03",null,null,"İmha Makineleri",null,"255 02 99 03  = İmha Makineleri"]
[null,255,"02","99","03","01",null,"Kaset veya Band Öğütücüleri",null,"255 02 99 03 01 = Kaset veya Band Öğütücüleri"]
[null,255,"02","99","03","02",null,"Evrak İmha Makineleri",null,"255 02 99 03 02 = Evrak İmha Makineleri"]
[null,255,"02","99","03","03",null,"CD İmha Edici Makineler",null,"255 02 99 03 03 = CD İmha Edici Makineler"]
[null,255,"02","99","03","99",null,"Diğer İmha Makineleri",null,"255 02 99 03 99 = Diğer İmha Makineleri"]
[null,255,"02","99","04",null,null,"Yazı Makineleri ve Donanımları",null,"255 02 99 04  = Yazı Makineleri ve Donanımları"]
[null,255,"02","99","04","01",null,"Daktilolar",null,"255 02 99 04 01 = Daktilolar"]
[null,255,"02","99","04","01","01","Mekanik Yazı Makineleri",null,"255 02 99 04 01 = Mekanik Yazı Makineleri"]
[null,255,"02","99","04","01","02","Eletronik Yazı Makineleri",null,"255 02 99 04 01 = Eletronik Yazı Makineleri"]
[null,255,"02","99","04","01","03","Portatif Yazı Makineleri",null,"255 02 99 04 01 = Portatif Yazı Makineleri"]
[null,255,"02","99","04","02",null,"Stenotip Makineleri",null,"255 02 99 04 02 = Stenotip Makineleri"]
[null,255,"02","99","04","03",null,"Dikte, İmla Makineleri",null,"255 02 99 04 03 = Dikte, İmla Makineleri"]
[null,255,"02","99","04","04",null,"Kelime İşleyicileri",null,"255 02 99 04 04 = Kelime İşleyicileri"]
[null,255,"02","99","04","99",null,"Diğer Yazı Makineleri ve Donanımları",null,"255 02 99 04 99 = Diğer Yazı Makineleri ve Donanımları"]
[null,255,"02","99","05",null,null,"Bağlama ve Laminasyon Makineleri",null,"255 02 99 05  = Bağlama ve Laminasyon Makineleri"]
[null,255,"02","99","05","01",null,"Laminatörler",null,"255 02 99 05 01 = Laminatörler"]
[null,255,"02","99","05","99",null,"Diğer Bağlama ve Laminasyon Makineleri",null,"255 02 99 05 99 = Diğer Bağlama ve Laminasyon Makineleri"]
[null,255,"02","99","06",null,null,"Çek Düzenleme ve Yazma Makineleri",null,"255 02 99 06  = Çek Düzenleme ve Yazma Makineleri"]
[null,255,"02","99","06","01",null,"Çek Düzenleme Makineleri",null,"255 02 99 06 01 = Çek Düzenleme Makineleri"]
[null,255,"02","99","06","02",null,"Çek Yazma Makineleri",null,"255 02 99 06 02 = Çek Yazma Makineleri"]
[null,255,"02","99","07",null,null,"Baskı Amacıyla Kullanılan Aletler ve Aksesuarları",null,"255 02 99 07  = Baskı Amacıyla Kullanılan Aletler ve Aksesuarları"]
[null,255,"02","99","07","01",null,"Mühürler",null,"255 02 99 07 01 = Mühürler"]
[null,255,"02","99","07","02",null,"Soğuk Damgalar",null,"255 02 99 07 02 = Soğuk Damgalar"]
[null,255,"02","99","07","99",null,"Diğer Baskı Amacıyla Kullanılan Aletler ve Aksesuarları",null,"255 02 99 07 99 = Diğer Baskı Amacıyla Kullanılan Aletler ve Aksesuarları"]
[null,255,"03",null,null,null,null,"Mobilyalar Grubu",null,"255 03    = Mobilyalar Grubu"]
[null,255,"03","01",null,null,null,"Büro Mobilyaları",null,"255 03 01   = Büro Mobilyaları"]
[null,255,"03","01","01",null,null,"Dolaplar",null,"255 03 01 01  = Dolaplar"]
[null,255,"03","01","01","01",null,"Dosya Dolapları",null,"255 03 01 01 01 = Dosya Dolapları"]
[null,255,"03","01","01","02",null,"ModülerTip Dolaplar",null,"255 03 01 01 02 = ModülerTip Dolaplar"]
[null,255,"03","01","01","03",null,"Arşiv Tipi Volanlı Dolaplar",null,"255 03 01 01 03 = Arşiv Tipi Volanlı Dolaplar"]
[null,255,"03","01","01","04",null,"Soyunma Dolapları",null,"255 03 01 01 04 = Soyunma Dolapları"]
[null,255,"03","01","01","05",null,"Malzeme/Alet Dolapları",null,"255 03 01 01 05 = Malzeme/Alet Dolapları"]
[null,255,"03","01","01","06",null,"Kartoteks Dolapları",null,"255 03 01 01 06 = Kartoteks Dolapları"]
[null,255,"03","01","01","07",null,"Harita Plan Dolapları",null,"255 03 01 01 07 = Harita Plan Dolapları"]
[null,255,"03","01","01","08",null,"Tezgah Dolapları",null,"255 03 01 01 08 = Tezgah Dolapları"]
[null,255,"03","01","01","09",null,"Masa Üstü Düzenleyici Dolapları",null,"255 03 01 01 09 = Masa Üstü Düzenleyici Dolapları"]
[null,255,"03","01","01","10",null,"Vitrinler",null,"255 03 01 01 10 = Vitrinler"]
[null,255,"03","01","01","11",null,"Kitaplıklar",null,{"$f":"IF(ISTEXT(H2629),CONCATENATE(B2628,\" \",C2628,\" \",D2628,\" \",E2628,\" \",F2628,\" = \",H2628),\"\")","v":"255 03 01 01 11 = Kitaplıklar"}]
[null,255,"03","01","01","12",null,"Malzeme Ayırma ve Düzenleme Raf ve Ranzaları",null,"255 03 01 01 12 = Malzeme Ayırma ve Düzenleme Raf ve Ranzaları"]
[null,255,"03","01","01","13",null,"Veri Klasörü Rafları",null,"255 03 01 01 13 = Veri Klasörü Rafları"]
[null,255,"03","01","01","99",null,"Diğer Dolaplar",null,"255 03 01 01 99 = Diğer Dolaplar"]
[null,255,"03","01","02",null,null,"Masalar ",null,"255 03 01 02  = Masalar "]
[null,255,"03","01","02","01",null,"Bilgisayar Masaları",null,"255 03 01 02 01 = Bilgisayar Masaları"]
[null,255,"03","01","02","02",null,"Toplantı Masaları",null,"255 03 01 02 02 = Toplantı Masaları"]
[null,255,"03","01","02","03",null,"Çalışma Masaları",null,"255 03 01 02 03 = Çalışma Masaları"]
[null,255,"03","01","02","04",null,"Panel Masalar",null,"255 03 01 02 04 = Panel Masalar"]
[null,255,"03","01","02","05",null,"Orta Masaları",null,"255 03 01 02 05 = Orta Masaları"]
[null,255,"03","01","02","06",null,"Yemek Masaları",null,"255 03 01 02 06 = Yemek Masaları"]
[null,255,"03","01","02","07",null,"Çizim Masaları",null,"255 03 01 02 07 = Çizim Masaları"]
[null,255,"03","01","02","08",null,"Printer Masaları",null,"255 03 01 02 08 = Printer Masaları"]
[null,255,"03","01","02","09",null,"Daktilo Masaları",null,"255 03 01 02 09 = Daktilo Masaları"]
[null,255,"03","01","02","10",null,"Portatif Masalar",null,"255 03 01 02 10 = Portatif Masalar"]
[null,255,"03","01","02","99",null,"Diğer Masalar",null,"255 03 01 02 99 = Diğer Masalar"]
[null,255,"03","01","03",null,null,"Koltuklar",null,"255 03 01 03  = Koltuklar"]
[null,255,"03","01","03","01",null,"Çalışma Koltukları",null,"255 03 01 03 01 = Çalışma Koltukları"]
[null,255,"03","01","03","02",null,"Misafir Koltukları",null,"255 03 01 03 02 = Misafir Koltukları"]
[null,255,"03","01","03","03",null,"Bekleme Koltukları",null,"255 03 01 03 03 = Bekleme Koltukları"]
[null,255,"03","01","03","99",null,"Diğer Koltuklar",null,"255 03 01 03 99 = Diğer Koltuklar"]
[null,255,"03","01","04",null,null,"Sandalyeler",null,"255 03 01 04  = Sandalyeler"]
[null,255,"03","01","04","01",null,"Klasik Tip Sandalyeler",null,"255 03 01 04 01 = Klasik Tip Sandalyeler"]
[null,255,"03","01","04","02",null,"İstiflenebilen Sandalyeler",null,"255 03 01 04 02 = İstiflenebilen Sandalyeler"]
[null,255,"03","01","04","03",null,"Portatif Sandalyeler",null,"255 03 01 04 03 = Portatif Sandalyeler"]
[null,255,"03","01","04","04",null,"Ayakta Çalışma Destekli Sandalyeler",null,"255 03 01 04 04 = Ayakta Çalışma Destekli Sandalyeler"]
[null,255,"03","01","04","05",null,"Konferans/Seminer Tipi Sandalyeler",null,"255 03 01 04 05 = Konferans/Seminer Tipi Sandalyeler"]
[null,255,"03","01","04","06",null,"Müzisyen Sandalyeleri",null,"255 03 01 04 06 = Müzisyen Sandalyeleri"]
[null,255,"03","01","04","07",null,"Banklar",null,"255 03 01 04 07 = Banklar"]
[null,255,"03","01","04","99",null,"Diğer Sandalyeler",null,"255 03 01 04 99 = Diğer Sandalyeler"]
[null,255,"03","01","05",null,null,"Tabureler",null,"255 03 01 05  = Tabureler"]
[null,255,"03","01","05","01",null,"Metal Tabureler",null,"255 03 01 05 01 = Metal Tabureler"]
[null,255,"03","01","05","02",null,"Ahşap Tabureler",null,"255 03 01 05 02 = Ahşap Tabureler"]
[null,255,"03","01","05","03",null,"Portatif Tabureler",null,"255 03 01 05 03 = Portatif Tabureler"]
[null,255,"03","01","05","99",null,"Diğer Tabureler",null,"255 03 01 05 99 = Diğer Tabureler"]
[null,255,"03","01","06",null,null,"Portmantolar",null,"255 03 01 06  = Portmantolar"]
[null,255,"03","01","06","01",null,"Ahşap Portmantolar",null,"255 03 01 06 01 = Ahşap Portmantolar"]
[null,255,"03","01","06","02",null,"Madeni Portmantolar",null,"255 03 01 06 02 = Madeni Portmantolar"]
[null,255,"03","01","07",null,null,"Sehpalar",null,"255 03 01 07  = Sehpalar"]
[null,255,"03","01","08",null,null,"Etajerler ve Kesonlar",null,"255 03 01 08  = Etajerler ve Kesonlar"]
[null,255,"03","01","09",null,null,"Panolar",null,"255 03 01 09  = Panolar"]
[null,255,"03","01","10",null,null,"Kasalar",null,"255 03 01 10  = Kasalar"]
[null,255,"03","01","10","01",null,"Para Kasaları",null,"255 03 01 10 01 = Para Kasaları"]
[null,255,"03","01","10","02",null,"Emanet Saklama Kasaları",null,"255 03 01 10 02 = Emanet Saklama Kasaları"]
[null,255,"03","01","10","99",null,"Diğer Kasalar",null,"255 03 01 10 99 = Diğer Kasalar"]
[null,255,"03","01","11",null,null,"Panel Sistemleri",null,"255 03 01 11  = Panel Sistemleri"]
[null,255,"03","01","11","01",null,"Panel Sistemi Ekranları",null,"255 03 01 11 01 = Panel Sistemi Ekranları"]
[null,255,"03","01","11","02",null,"Panel Sistemi Muhafaza Dolapları",null,"255 03 01 11 02 = Panel Sistemi Muhafaza Dolapları"]
[null,255,"03","01","11","03",null,"Panel Sistemi Düzenleme Dolapları",null,"255 03 01 11 03 = Panel Sistemi Düzenleme Dolapları"]
[null,255,"03","01","11","04",null,"Panel Sistemleri İçin Çalışma Yüzeyleri",null,"255 03 01 11 04 = Panel Sistemleri İçin Çalışma Yüzeyleri"]
[null,255,"03","01","11","05",null,"Panel Sistemleri İçin Işıklandırma, Güç veya Veri Elemanları",null,"255 03 01 11 05 = Panel Sistemleri İçin Işıklandırma, Güç veya Veri Elemanları"]
[null,255,"03","01","11","99",null,"Diğer Panel Sistemleri",null,"255 03 01 11 99 = Diğer Panel Sistemleri"]
[null,255,"03","01","12",null,null,"Bankolar",null,"255 03 01 12  = Bankolar"]
[null,255,"03","01","99",null,null,"Diğer Büro Mobilyaları",null,"255 03 01 99  = Diğer Büro Mobilyaları"]
[null,255,"03","02",null,null,null,"Misafirhane, Konaklama ve Barınma Amaçlı Mobilyalar",null,"255 03 02   = Misafirhane, Konaklama ve Barınma Amaçlı Mobilyalar"]
[null,255,"03","02","01",null,null,"Yatma Amaçlı Mobilyalar",null,"255 03 02 01  = Yatma Amaçlı Mobilyalar"]
[null,255,"03","02","01","01",null,"Karyalolar",null,"255 03 02 01 01 = Karyalolar"]
[null,255,"03","02","01","02",null,"Ranzalar",null,"255 03 02 01 02 = Ranzalar"]
[null,255,"03","02","01","03",null,"Somyalar",null,"255 03 02 01 03 = Somyalar"]
[null,255,"03","02","01","04",null,"Bazalar",null,"255 03 02 01 04 = Bazalar"]
[null,255,"03","02","01","99",null,"Diğer Yatma Amaçlı Mobilyalar",null,"255 03 02 01 99 = Diğer Yatma Amaçlı Mobilyalar"]
[null,255,"03","02","02",null,null,"Oturma ve Dinlenme Amaçlı Mobilyalar",null,"255 03 02 02  = Oturma ve Dinlenme Amaçlı Mobilyalar"]
[null,255,"03","02","02","01",null,"Çekyatlar",null,"255 03 02 02 01 = Çekyatlar"]
[null,255,"03","02","02","02",null,"Kanepeler",null,"255 03 02 02 02 = Kanepeler"]
[null,255,"03","02","02","03",null,"Koltuk Takımları",null,{"$f":"IF(ISTEXT(H2693),CONCATENATE(B2692,\" \",C2692,\" \",D2692,\" \",E2692,\" \",F2692,\" = \",H2692),\"\")","v":"255 03 02 02 03 = Koltuk Takımları"}]
[null,255,"03","02","02","99",null,"Diğer Oturma ve Dinlenme Amaçlı Mobilyalar",null,"255 03 02 02 99 = Diğer Oturma ve Dinlenme Amaçlı Mobilyalar"]
[null,255,"03","02","03",null,null,"Teşhir Amaçlı Mobilyalar",null,"255 03 02 03  = Teşhir Amaçlı Mobilyalar"]
[null,255,"03","02","04",null,null,"Asma ve Muhafaza Amaçlı Mobilyalar",null,"255 03 02 04  = Asma ve Muhafaza Amaçlı Mobilyalar"]
[null,255,"03","02","04","01",null,"Gardroplar",null,"255 03 02 04 01 = Gardroplar"]
[null,255,"03","02","04","02",null,"Vestiyerler",null,"255 03 02 04 02 = Vestiyerler"]
[null,255,"03","02","04","03",null,"Diğer Misafirhane Mobilyaları",null,"255 03 02 04 03 = Diğer Misafirhane Mobilyaları"]
[null,255,"03","02","04","04",null,"Komidinler",null,"255 03 02 04 04 = Komidinler"]
[null,255,"03","02","04","99",null,"Diğer Asma ve Muhafaza Amaçlı Mobilyalar",null,"255 03 02 04 99 = Diğer Asma ve Muhafaza Amaçlı Mobilyalar"]
[null,255,"03","02","99",null,null,"Misafirhane, Konaklama ve Barınma Amaçlı Diğer Mobilyalar",null,"255 03 02 99  = Misafirhane, Konaklama ve Barınma Amaçlı Diğer Mobilyalar"]
[null,255,"03","03",null,null,null,"Kafeterya ve Yemekhane Mobilyaları",null,"255 03 03   = Kafeterya ve Yemekhane Mobilyaları"]
[null,255,"03","03","01",null,null,"Masalar",null,"255 03 03 01  = Masalar"]
[null,255,"03","03","01","01",null,"Kombine Bank ve Masalar",null,"255 03 03 01 01 = Kombine Bank ve Masalar"]
[null,255,"03","03","01","02",null,"Kombine Tabure ve Masalar",null,"255 03 03 01 02 = Kombine Tabure ve Masalar"]
[null,255,"03","03","01","03",null,"Kombine Sandalye ve Masalar",null,"255 03 03 01 03 = Kombine Sandalye ve Masalar"]
[null,255,"03","03","01","04",null,"Hareket Edebilen Masalar",null,"255 03 03 01 04 = Hareket Edebilen Masalar"]
[null,255,"03","03","01","05",null,"Yemek Masaları",null,"255 03 03 01 05 = Yemek Masaları"]
[null,255,"03","03","01","06",null,"Kokteyl Masaları",null,"255 03 03 01 06 = Kokteyl Masaları"]
[null,255,"03","03","01","99",null,"Diğer Masalar",null,"255 03 03 01 99 = Diğer Masalar"]
[null,255,"03","03","02",null,null,"Yemek Sandalyeleri",null,"255 03 03 02  = Yemek Sandalyeleri"]
[null,255,"03","03","03",null,null,"Klasik ve Katlanabilir İskemleler ",null,"255 03 03 03  = Klasik ve Katlanabilir İskemleler "]
[null,255,"03","03","04",null,null,"Yemek Servis Arabaları",null,"255 03 03 04  = Yemek Servis Arabaları"]
[null,255,"03","03","99",null,null,"Kafeterya ve Yemekhanede Kullanılan Diğer Mobilyalar",null,"255 03 03 99  = Kafeterya ve Yemekhanede Kullanılan Diğer Mobilyalar"]
[null,255,"03","04",null,null,null,"Bebek ve Çocuk Mobilyası ve Aksesuarları",null,"255 03 04   = Bebek ve Çocuk Mobilyası ve Aksesuarları"]
[null,255,"03","04","01",null,null,"Bebek Arabaları",null,"255 03 04 01  = Bebek Arabaları"]
[null,255,"03","04","02",null,null,"Çocuk Karyolası veya Oyun Kafesi veya Aksesuarları ",null,"255 03 04 02  = Çocuk Karyolası veya Oyun Kafesi veya Aksesuarları "]
[null,255,"03","04","03",null,null,"Araba Koltukları",null,"255 03 04 03  = Araba Koltukları"]
[null,255,"03","04","04",null,null,"Mama Sandalyesi veya Aksesuarları",null,"255 03 04 04  = Mama Sandalyesi veya Aksesuarları"]
[null,255,"03","04","05",null,null,"Ana Kucakları",null,"255 03 04 05  = Ana Kucakları"]
[null,255,"03","04","06",null,null,"Bebek Banyo Küvetleri",null,"255 03 04 06  = Bebek Banyo Küvetleri"]
[null,255,"03","04","07",null,null,"Beşikler",null,"255 03 04 07  = Beşikler"]
[null,255,"03","04","08",null,null,"Alt Değiştirme Takımları veya Aksesuarları",null,"255 03 04 08  = Alt Değiştirme Takımları veya Aksesuarları"]
[null,255,"03","04","99",null,null,"Diğer Bebek ve Çocuk Mobilyası ve Aksesuarları",null,"255 03 04 99  = Diğer Bebek ve Çocuk Mobilyası ve Aksesuarları"]
[null,255,"03","05",null,null,null,"Seminer ve Sunum Amaçlı Ürünler",null,"255 03 05   = Seminer ve Sunum Amaçlı Ürünler"]
[null,255,"03","05","01",null,null,"Kürsüler",null,"255 03 05 01  = Kürsüler"]
[null,255,"03","05","02",null,null,"Yazı Tahtaları ",null,"255 03 05 02  = Yazı Tahtaları "]
[null,255,"03","05","99",null,null,"Seminer ve Sunum Amaçlı Diğer Ürünler",null,"255 03 05 99  = Seminer ve Sunum Amaçlı Diğer Ürünler"]
[null,255,"04",null,null,null,null,"Beslenme/Gıda ve Mutfak Demirbaşları Grubu",null,"255 04    = Beslenme/Gıda ve Mutfak Demirbaşları Grubu"]
[null,255,"04","01",null,null,null,"Yemek Hazırlama Ekipmanları",null,"255 04 01   = Yemek Hazırlama Ekipmanları"]
[null,255,"04","01","01",null,null,"Pişirme Setleri",null,"255 04 01 01  = Pişirme Setleri"]
[null,255,"04","01","01","01",null,"Tencereler",null,"255 04 01 01 01 = Tencereler"]
[null,255,"04","01","01","02",null,"Tavalar",null,"255 04 01 01 02 = Tavalar"]
[null,255,"04","01","01","03",null,"Çaydanlıklar",null,"255 04 01 01 03 = Çaydanlıklar"]
[null,255,"04","01","01","04",null,"Izgaralar",null,"255 04 01 01 04 = Izgaralar"]
[null,255,"04","01","01","05",null,"Benmariler",null,"255 04 01 01 05 = Benmariler"]
[null,255,"04","01","01","06",null,"Sıçrama Önleyici Araçlar",null,"255 04 01 01 06 = Sıçrama Önleyici Araçlar"]
[null,255,"04","01","01","07",null,"Barbeküler",null,"255 04 01 01 07 = Barbeküler"]
[null,255,"04","01","01","99",null,"Diğer Pişirme Setleri",null,"255 04 01 01 99 = Diğer Pişirme Setleri"]
[null,255,"04","01","02",null,null,"Fırın Setleri",null,"255 04 01 02  = Fırın Setleri"]
[null,255,"04","01","02","01",null,"Fırın Tepsileri",null,"255 04 01 02 01 = Fırın Tepsileri"]
[null,255,"04","01","02","02",null,"Kek veya Pasta Kalıpları",null,"255 04 01 02 02 = Kek veya Pasta Kalıpları"]
[null,255,"04","01","02","03",null,"Fırın Tavaları",null,"255 04 01 02 03 = Fırın Tavaları"]
[null,255,"04","01","02","04",null,"Fırın Kalıpları",null,"255 04 01 02 04 = Fırın Kalıpları"]
[null,255,"04","01","02","05",null,"Pizza Tepsileri",null,"255 04 01 02 05 = Pizza Tepsileri"]
[null,255,"04","01","02","06",null,"Tortilla Pişiriciler",null,"255 04 01 02 06 = Tortilla Pişiriciler"]
[null,255,"04","01","02","07",null,"Muffin Kalıpları",null,"255 04 01 02 07 = Muffin Kalıpları"]
[null,255,"04","01","02","99",null,"Diğer Fırın Setleri",null,"255 04 01 02 99 = Diğer Fırın Setleri"]
[null,255,"04","01","99",null,null,"Diğer Yemek Hazırlama Ekipmanları",null,"255 04 01 99  = Diğer Yemek Hazırlama Ekipmanları"]
[null,255,"05",null,null,null,null,"Canlı Demirbaşlar Grubu",null,"255 05    = Canlı Demirbaşlar Grubu"]
[null,255,"05","01",null,null,null,"Çiftlik Hayvanları",null,"255 05 01   = Çiftlik Hayvanları"]
[null,255,"05","01","01",null,null,"Büyükbaş Hayvanlar",null,"255 05 01 01  = Büyükbaş Hayvanlar"]
[null,255,"05","01","02",null,null,"Küçükbaş Hayvanlar",null,"255 05 01 02  = Küçükbaş Hayvanlar"]
[null,255,"05","01","03",null,null,"Kuşlar ve Kümes Hayvanları",null,"255 05 01 03  = Kuşlar ve Kümes Hayvanları"]
[null,255,"05","01","04",null,null,"Atlar ve Eşekler",null,"255 05 01 04  = Atlar ve Eşekler"]
[null,255,"05","01","99",null,null,"Diğer Çiftlik Hayvanları ve Ekipmanları",null,{"$f":"IF(ISTEXT(H2757),CONCATENATE(B2756,\" \",C2756,\" \",D2756,\" \",E2756,\" \",F2756,\" = \",H2756),\"\")","v":"255 05 01 99  = Diğer Çiftlik Hayvanları ve Ekipmanları"}]
[null,255,"05","02",null,null,null,"Hizmet Amaçlı Hayvanlar",null,"255 05 02   = Hizmet Amaçlı Hayvanlar"]
[null,255,"05","02","01",null,null,"Köpekler",null,"255 05 02 01  = Köpekler"]
[null,255,"05","02","02",null,null,"Atlar ve Eşekler",null,"255 05 02 02  = Atlar ve Eşekler"]
[null,255,"05","02","99",null,null,"Diğer Hizmet Amaçlı Hayvanlar ve Ekipmanları",null,"255 05 02 99  = Diğer Hizmet Amaçlı Hayvanlar ve Ekipmanları"]
[null,255,"05","03",null,null,null,"Gösteri Amaçlı Hayvanlar",null,"255 05 03   = Gösteri Amaçlı Hayvanlar"]
[null,255,"05","03","01",null,null,"Küçükbaş Hayvanlar",null,"255 05 03 01  = Küçükbaş Hayvanlar"]
[null,255,"05","03","02",null,null,"Kümes Hayvanları",null,"255 05 03 02  = Kümes Hayvanları"]
[null,255,"05","03","03",null,null,"Vahşi Hayvanlar",null,"255 05 03 03  = Vahşi Hayvanlar"]
[null,255,"05","03","04",null,null,"Suda Yaşayan Canlılar",null,"255 05 03 04  = Suda Yaşayan Canlılar"]
[null,255,"05","03","05",null,null,"Evcil Hayvanlar",null,"255 05 03 05  = Evcil Hayvanlar"]
[null,255,"05","03","06",null,null,"Sürüngenler",null,"255 05 03 06  = Sürüngenler"]
[null,255,"05","03","07",null,null,"Kemirgenler",null,"255 05 03 07  = Kemirgenler"]
[null,255,"05","03","08",null,null,"Böcekler",null,"255 05 03 08  = Böcekler"]
[null,255,"05","03","09",null,null,"Atlar ve Eşekler",null,"255 05 03 09  = Atlar ve Eşekler"]
[null,255,"05","03","99",null,null,"Diğer Gösteri Amaçlı Hayvanlar ve Ekipmanları",null,"255 05 03 99  = Diğer Gösteri Amaçlı Hayvanlar ve Ekipmanları"]
[null,255,"05","04",null,null,null,"Koruma Altına Alınan Hayvanlar",null,"255 05 04   = Koruma Altına Alınan Hayvanlar"]
[null,255,"05","04","01",null,null,"Suda Yaşayan Canlılar",null,"255 05 04 01  = Suda Yaşayan Canlılar"]
[null,255,"05","04","02",null,null,"Vahşi Hayvanlar",null,"255 05 04 02  = Vahşi Hayvanlar"]
[null,255,"05","04","03",null,null,"Evcil Hayvanlar",null,"255 05 04 03  = Evcil Hayvanlar"]
[null,255,"05","04","04",null,null,"Sürüngenler",null,"255 05 04 04  = Sürüngenler"]
[null,255,"05","04","05",null,null,"Kemirgenler",null,"255 05 04 05  = Kemirgenler"]
[null,255,"05","04","06",null,null,"Böcekler",null,"255 05 04 06  = Böcekler"]
[null,255,"05","04","99",null,null,"Diğer Koruma Altına Alınan Hayvanlar ve Ekipmanları",null,"255 05 04 99  = Diğer Koruma Altına Alınan Hayvanlar ve Ekipmanları"]
[null,255,"06",null,null,null,null,"Tarihi veya Sanat Değeri Olan Demirbaşlar Grubu",null,"255 06    = Tarihi veya Sanat Değeri Olan Demirbaşlar Grubu"]
[null,255,"06","01",null,null,null,"Etnografik Eserler",null,"255 06 01   = Etnografik Eserler"]
[null,255,"06","02",null,null,null,"Arkeolojik Eserler",null,"255 06 02   = Arkeolojik Eserler"]
[null,255,"06","03",null,null,null,"Geleneksel Türk Süslemeleri",null,"255 06 03   = Geleneksel Türk Süslemeleri"]
[null,255,"06","04",null,null,null,"Güzel Sanat Eserleri",null,"255 06 04   = Güzel Sanat Eserleri"]
[null,255,"06","04","01",null,null,"Tablolar",null,"255 06 04 01  = Tablolar"]
[null,255,"06","04","02",null,null,"Heykeller",null,"255 06 04 02  = Heykeller"]
[null,255,"06","04","03",null,null,"Büstler",null,"255 06 04 03  = Büstler"]
[null,255,"06","04","04",null,null,"Figürler",null,"255 06 04 04  = Figürler"]
[null,255,"06","04","05",null,null,"Gravürler",null,"255 06 04 05  = Gravürler"]
[null,255,"06","04","06",null,null,"Albüm Bütünlüğü Sağlanmış Fotoğraflar",null,"255 06 04 06  = Albüm Bütünlüğü Sağlanmış Fotoğraflar"]
[null,255,"06","04","99",null,null,"Diğer Güzel Sanat Eserleri",null,"255 06 04 99  = Diğer Güzel Sanat Eserleri"]
[null,255,"06","05",null,null,null,"Kitap, Belge, El Yazmaları ve Nadir Eserler",null,"255 06 05   = Kitap, Belge, El Yazmaları ve Nadir Eserler"]
[null,255,"06","06",null,null,null,"Para, Pul, Sikke ve Madalyonlar",null,"255 06 06   = Para, Pul, Sikke ve Madalyonlar"]
[null,255,"06","07",null,null,null,"Tabletler",null,"255 06 07   = Tabletler"]
[null,255,"06","08",null,null,null,"Mühür ve Mühür Baskıları",null,"255 06 08   = Mühür ve Mühür Baskıları"]
[null,255,"06","09",null,null,null,"Arşiv Vesikaları",null,"255 06 09   = Arşiv Vesikaları"]
[null,255,"06","10",null,null,null,"Fosiller",null,"255 06 10   = Fosiller"]
[null,255,"07",null,null,null,null,"Kütüphane Demirbaşları Grubu",null,"255 07    = Kütüphane Demirbaşları Grubu"]
[null,255,"07","01",null,null,null,"Kütüphane Mobilyaları",null,"255 07 01   = Kütüphane Mobilyaları"]
[null,255,"07","01","01",null,null,"Kütüphane Masaları",null,"255 07 01 01  = Kütüphane Masaları"]
[null,255,"07","01","01","01",null,"Okuma Masaları",null,"255 07 01 01 01 = Okuma Masaları"]
[null,255,"07","01","01","02",null,"Halk Erişim Masaları",null,"255 07 01 01 02 = Halk Erişim Masaları"]
[null,255,"07","01","01","03",null,"Kitap Ödünç Alma-Verme ve Kütüphane Görevlisi Masaları  ",null,"255 07 01 01 03 = Kitap Ödünç Alma-Verme ve Kütüphane Görevlisi Masaları  "]
[null,255,"07","01","02",null,null,"Kütüphane Stantları",null,"255 07 01 02  = Kütüphane Stantları"]
[null,255,"07","01","02","01",null,"Sözlük Standları",null,"255 07 01 02 01 = Sözlük Standları"]
[null,255,"07","01","02","02",null,"Bağımsız Dönen Standlar",null,"255 07 01 02 02 = Bağımsız Dönen Standlar"]
[null,255,"07","01","03",null,null,"Kütüphane Üniteleri",null,"255 07 01 03  = Kütüphane Üniteleri"]
[null,255,"07","01","03","01",null,"Kitap Tarama Üniteleri",null,"255 07 01 03 01 = Kitap Tarama Üniteleri"]
[null,255,"07","01","03","02",null,"Kart Katalog Üniteleri",null,"255 07 01 03 02 = Kart Katalog Üniteleri"]
[null,255,"07","01","04",null,null,"Kitap İade Kutuları ve Döşeme Bankları",null,"255 07 01 04  = Kitap İade Kutuları ve Döşeme Bankları"]
[null,255,"07","01","04","01",null,"Kitap İade Kutuları",null,"255 07 01 04 01 = Kitap İade Kutuları"]
[null,255,"07","01","04","02",null,"Döşeme Banklar",null,"255 07 01 04 02 = Döşeme Banklar"]
[null,255,"07","01","05",null,null,"Kitap Büfeleri ve Çanta Asma Rafları",null,"255 07 01 05  = Kitap Büfeleri ve Çanta Asma Rafları"]
[null,255,"07","01","05","01",null,"Kitap Büfeleri",null,"255 07 01 05 01 = Kitap Büfeleri"]
[null,255,"07","01","05","02",null,"Kitaplıklar",null,"255 07 01 05 02 = Kitaplıklar"]
[null,255,"07","01","05","03",null,"Çanta Asma Rafları",null,"255 07 01 05 03 = Çanta Asma Rafları"]
[null,255,"07","01","99",null,null,"Diğer Kütüphane Mobilyaları",null,"255 07 01 99  = Diğer Kütüphane Mobilyaları"]
[null,255,"07","02",null,null,null,"Basılı Yayınlar",null,"255 07 02   = Basılı Yayınlar"]
[null,255,"07","02","01",null,null,"Kitaplar",null,"255 07 02 01  = Kitaplar"]
[null,255,"07","02","01","01",null,"Ansiklopediler",null,{"$f":"IF(ISTEXT(H2821),CONCATENATE(B2820,\" \",C2820,\" \",D2820,\" \",E2820,\" \",F2820,\" = \",H2820),\"\")","v":"255 07 02 01 01 = Ansiklopediler"}]
[null,255,"07","02","01","02",null,"Sözlükler",null,"255 07 02 01 02 = Sözlükler"]
[null,255,"07","02","01","03",null,"Atlaslar",null,"255 07 02 01 03 = Atlaslar"]
[null,255,"07","02","01","04",null,"Nadir Eserler (El Yazması Olmayanlar) [Bu kod kaldırılmıştır. Bu kodda izlenen taşınırlar 255.06.05 kodunda izlenecektir.]",null,"255 07 02 01 04 = Nadir Eserler (El Yazması Olmayanlar) [Bu kod kaldırılmıştır. Bu kodda izlenen taşınırlar 255.06.05 kodunda izlenecektir.]"]
[null,255,"07","02","01","05",null,"Mevzuat Kitapları",null,"255 07 02 01 05 = Mevzuat Kitapları"]
[null,255,"07","02","01","06",null,"Diğer Kitaplar",null,"255 07 02 01 06 = Diğer Kitaplar"]
[null,255,"07","02","02",null,null,"Süreli Yayınlar",null,"255 07 02 02  = Süreli Yayınlar"]
[null,255,"07","02","02","01",null,"Dergiler ",null,"255 07 02 02 01 = Dergiler "]
[null,255,"07","02","02","02",null,"Gazeteler ",null,"255 07 02 02 02 = Gazeteler "]
[null,255,"07","02","02","99",null,"Diğer Süreli Yayınlar",null,"255 07 02 02 99 = Diğer Süreli Yayınlar"]
[null,255,"07","02","03",null,null,"Tezler ve Araştırma Çalışmaları ",null,"255 07 02 03  = Tezler ve Araştırma Çalışmaları "]
[null,255,"07","02","04",null,null,"Harita, Grafik, Plan ve Paftalar",null,"255 07 02 04  = Harita, Grafik, Plan ve Paftalar"]
[null,255,"07","02","05",null,null,"Notalar",null,"255 07 02 05  = Notalar"]
[null,255,"07","02","06",null,null,"Arşivlenen Kütüphane Meteryalleri (Mektuplar, Tutanaklar v.b.)",null,"255 07 02 06  = Arşivlenen Kütüphane Meteryalleri (Mektuplar, Tutanaklar v.b.)"]
[null,255,"07","02","07",null,null,"El Yazmaları ( Bu kod kaldırılmıştır. Bu kodda izlenen taşınırlar 255.06.05 kodunda izlenecektir.)",null,"255 07 02 07  = El Yazmaları ( Bu kod kaldırılmıştır. Bu kodda izlenen taşınırlar 255.06.05 kodunda izlenecektir.)"]
[null,255,"07","02","99",null,null,"Diğer Basılı Yayınlar ",null,"255 07 02 99  = Diğer Basılı Yayınlar "]
[null,255,"07","03",null,null,null,"Görsel ve İşitsel Kaynaklar",null,"255 07 03   = Görsel ve İşitsel Kaynaklar"]
[null,255,"07","03","01",null,null,"Sinema Filmleri",null,"255 07 03 01  = Sinema Filmleri"]
[null,255,"07","03","02",null,null,"Film Şeritleri",null,"255 07 03 02  = Film Şeritleri"]
[null,255,"07","03","03",null,null,"Mikrofişler",null,"255 07 03 03  = Mikrofişler"]
[null,255,"07","03","04",null,null,"Slaytlar",null,"255 07 03 04  = Slaytlar"]
[null,255,"07","03","05",null,null,"Video Kasetleri",null,"255 07 03 05  = Video Kasetleri"]
[null,255,"07","03","06",null,null,"Ses Kasetleri ve Makaraları",null,"255 07 03 06  = Ses Kasetleri ve Makaraları"]
[null,255,"07","03","07",null,null,"CD'ler ve DVD'ler",null,"255 07 03 07  = CD'ler ve DVD'ler"]
[null,255,"07","03","08",null,null,"Tablolar",null,"255 07 03 08  = Tablolar"]
[null,255,"07","03","99",null,null,"Diğer Görsel ve İşitsel Kaynaklar",null,"255 07 03 99  = Diğer Görsel ve İşitsel Kaynaklar"]
[null,255,"07","04",null,null,null,"Bilgi Saklama Üniteleri ",null,"255 07 04   = Bilgi Saklama Üniteleri "]
[null,255,"08",null,null,null,null,"Eğitim Demirbaşları Grubu",null,"255 08    = Eğitim Demirbaşları Grubu"]
[null,255,"08","01",null,null,null,"Eğitim Mobilyaları ve Donanımları",null,"255 08 01   = Eğitim Mobilyaları ve Donanımları"]
[null,255,"08","01","01",null,null,"Genel Eğitim Tesisi Donanımları ve Sınıf Mobilyaları",null,"255 08 01 01  = Genel Eğitim Tesisi Donanımları ve Sınıf Mobilyaları"]
[null,255,"08","01","01","01",null,"Sıralar ",null,"255 08 01 01 01 = Sıralar "]
[null,255,"08","01","01","02",null,"Masalar",null,"255 08 01 01 02 = Masalar"]
[null,255,"08","01","01","99",null,"Diğer Genel Eğitim Tesisi Donanımları ve Sınıf Mobilyaları",null,"255 08 01 01 99 = Diğer Genel Eğitim Tesisi Donanımları ve Sınıf Mobilyaları"]
[null,255,"08","01","99",null,null,"Diğer Eğitim Mobilyaları ve Donanımları",null,"255 08 01 99  = Diğer Eğitim Mobilyaları ve Donanımları"]
[null,255,"08","02",null,null,null,"Öğrenmeyi Kolaylaştırıcı Ekipmanlar",null,"255 08 02   = Öğrenmeyi Kolaylaştırıcı Ekipmanlar"]
[null,255,"08","02","01",null,null,"Alfabe Beceri Malzemeleri ve Kaynakları",null,"255 08 02 01  = Alfabe Beceri Malzemeleri ve Kaynakları"]
[null,255,"08","02","01","02",null,"Harfler ve  Ekipmanları",null,"255 08 02 01 02 = Harfler ve  Ekipmanları"]
[null,255,"08","02","01","99",null,"Diğer Alfabe Beceri Malzemeleri ve Kaynakları",null,"255 08 02 01 99 = Diğer Alfabe Beceri Malzemeleri ve Kaynakları"]
[null,255,"08","02","02",null,null,"Kelime Öğretici Kaynak Malzemeler veya Aksesuarlar",null,"255 08 02 02  = Kelime Öğretici Kaynak Malzemeler veya Aksesuarlar"]
[null,255,"08","02","02","01",null,"Konuşma Aynaları",null,"255 08 02 02 01 = Konuşma Aynaları"]
[null,255,"08","02","02","02",null,"Heceleme İçin Kaynak Malzemeler",null,"255 08 02 02 02 = Heceleme İçin Kaynak Malzemeler"]
[null,255,"08","02","02","04",null,"Kelime Yapılandırıcı Ekipmanlar",null,"255 08 02 02 04 = Kelime Yapılandırıcı Ekipmanlar"]
[null,255,"08","02","02","99",null,"Diğer Kelime Öğretici Kaynak Malzemeler veya Aksesuarları",null,"255 08 02 02 99 = Diğer Kelime Öğretici Kaynak Malzemeler veya Aksesuarları"]
[null,255,"08","02","03",null,null,"Başlangıç Matematiği İle Sayı Saymayı Öğretici Kaynaklar ve Aksesuarları",null,"255 08 02 03  = Başlangıç Matematiği İle Sayı Saymayı Öğretici Kaynaklar ve Aksesuarları"]
[null,255,"08","02","03","01",null,"Sayı Sayma Araçları ",null,"255 08 02 03 01 = Sayı Sayma Araçları "]
[null,255,"08","02","03","03",null,"Matematik Öğretme Ekipmanları",null,"255 08 02 03 03 = Matematik Öğretme Ekipmanları"]
[null,255,"08","02","04",null,null,"Temel Matematik Çalışmaları ve Numaralandırma Kaynakları ve Materyalleri",null,"255 08 02 04  = Temel Matematik Çalışmaları ve Numaralandırma Kaynakları ve Materyalleri"]
[null,255,"08","02","04","01",null,"Temel Çalışma Modelleri",null,"255 08 02 04 01 = Temel Çalışma Modelleri"]
[null,255,"08","02","04","02",null,"Yazı Masası İçin Sayı Bantları",null,"255 08 02 04 02 = Yazı Masası İçin Sayı Bantları"]
[null,255,"08","02","04","03",null,"Yüzlük Çizelgeler veya Tahtalar",null,"255 08 02 04 03 = Yüzlük Çizelgeler veya Tahtalar"]
[null,255,"08","02","04","04",null,"Yüzlük Sayı Tabletleri",null,"255 08 02 04 04 = Yüzlük Sayı Tabletleri"]
[null,255,"08","02","04","05",null,"Sayı Ekipmanları",null,"255 08 02 04 05 = Sayı Ekipmanları"]
[null,255,"08","02","04","06",null,"Sayı Dizileri",null,"255 08 02 04 06 = Sayı Dizileri"]
[null,255,"08","02","04","07",null,"Domino Oyunları",null,"255 08 02 04 07 = Domino Oyunları"]
[null,255,"08","02","04","99",null,"Diğer Temel Matematik Çalışmaları ve Numaralandırma Kaynakları ve Materyalleri",null,"255 08 02 04 99 = Diğer Temel Matematik Çalışmaları ve Numaralandırma Kaynakları ve Materyalleri"]
[null,255,"08","02","05",null,null,"Olasılık veya Şans Verileri veya Sorun Çözmek İçin Öğretmen Malzemeleri",null,"255 08 02 05  = Olasılık veya Şans Verileri veya Sorun Çözmek İçin Öğretmen Malzemeleri"]
[null,255,"08","02","05","01",null,"İki Taraflı Fişler veya Markalar",null,"255 08 02 05 01 = İki Taraflı Fişler veya Markalar"]
[null,255,"08","02","05","02",null,"Zar Setleri",null,"255 08 02 05 02 = Zar Setleri"]
[null,255,"08","02","05","03",null,"Yorum Yapmayı Öğretici Kalıplar",null,"255 08 02 05 03 = Yorum Yapmayı Öğretici Kalıplar"]
[null,255,"08","02","05","04",null,"Yorumlama Aktivitesi Kartları",null,"255 08 02 05 04 = Yorumlama Aktivitesi Kartları"]
[null,255,"08","02","05","05",null,"Grafikli Yer Örtüleri",null,"255 08 02 05 05 = Grafikli Yer Örtüleri"]
[null,255,"08","02","05","06",null,"Mantık Oyunları",null,"255 08 02 05 06 = Mantık Oyunları"]
[null,255,"08","02","05","07",null,"Yorumlama Setleri veya Ekipmanları",null,"255 08 02 05 07 = Yorumlama Setleri veya Ekipmanları"]
[null,255,"08","02","05","08",null,"Problem Çözme Kartları",null,"255 08 02 05 08 = Problem Çözme Kartları"]
[null,255,"08","02","05","99",null,"Diğer Olasılık veya Şans Verileri veya Sorun Çözmek İçin Öğretmen Malzemeleri",null,{"$f":"IF(ISTEXT(H2885),CONCATENATE(B2884,\" \",C2884,\" \",D2884,\" \",E2884,\" \",F2884,\" = \",H2884),\"\")","v":"255 08 02 05 99 = Diğer Olasılık veya Şans Verileri veya Sorun Çözmek İçin Öğretmen Malzemeleri"}]
[null,255,"08","02","06",null,null,"Modelleme veya Eşleştirme veya Analitik Düşünmeyi Sağlayıcı Kaynak Materyaller",null,"255 08 02 06  = Modelleme veya Eşleştirme veya Analitik Düşünmeyi Sağlayıcı Kaynak Materyaller"]
[null,255,"08","02","06","02",null,"Model Blokları",null,"255 08 02 06 02 = Model Blokları"]
[null,255,"08","02","06","03",null,"Model Blok Aktivitesi veya Model Kartlar",null,"255 08 02 06 03 = Model Blok Aktivitesi veya Model Kartlar"]
[null,255,"08","02","06","04",null,"Model Blok Oyunları veya Aktivite Setleri",null,"255 08 02 06 04 = Model Blok Oyunları veya Aktivite Setleri"]
[null,255,"08","02","06","05",null,"Model Blok Çıkartmaları",null,"255 08 02 06 05 = Model Blok Çıkartmaları"]
[null,255,"08","02","06","06",null,"Model Blok Aynaları",null,"255 08 02 06 06 = Model Blok Aynaları"]
[null,255,"08","02","06","07",null,"Model Blok Çizelgeleri veya Posterleri",null,"255 08 02 06 07 = Model Blok Çizelgeleri veya Posterleri"]
[null,255,"08","02","06","08",null,"Birbirine Geçen Bloklar",null,"255 08 02 06 08 = Birbirine Geçen Bloklar"]
[null,255,"08","02","06","09",null,"Birbirine Geçen Blok Aktivitesi veya Model Kartları",null,"255 08 02 06 09 = Birbirine Geçen Blok Aktivitesi veya Model Kartları"]
[null,255,"08","02","06","10",null,"Birbirine Geçen Blok Aktivite Setleri",null,"255 08 02 06 10 = Birbirine Geçen Blok Aktivite Setleri"]
[null,255,"08","02","06","12",null,"Tangram Aktivitesi veya Model Kartlar",null,"255 08 02 06 12 = Tangram Aktivitesi veya Model Kartlar"]
[null,255,"08","02","06","13",null,"Tangram Yap Bozu Aktivite Setleri",null,"255 08 02 06 13 = Tangram Yap Bozu Aktivite Setleri"]
[null,255,"08","02","06","14",null,"Tangram Yap Bozları",null,"255 08 02 06 14 = Tangram Yap Bozları"]
[null,255,"08","02","06","16",null,"Pentominoes Oyunları",null,"255 08 02 06 16 = Pentominoes Oyunları"]
[null,255,"08","02","06","17",null,"Pentominoes Oyunu Aktivitesi Setleri",null,"255 08 02 06 17 = Pentominoes Oyunu Aktivitesi Setleri"]
[null,255,"08","02","06","99",null,"Diğer Modelleme veya Eşleştirme veya Analitik Düşünmeyi Sağlayıcı Kaynak Materyaller",null,"255 08 02 06 99 = Diğer Modelleme veya Eşleştirme veya Analitik Düşünmeyi Sağlayıcı Kaynak Materyaller"]
[null,255,"08","02","07",null,null,"Test Materyalleri",null,"255 08 02 07  = Test Materyalleri"]
[null,255,"08","02","08",null,null,"Para ve Zamanla İlgili Öğretmen Malzemesi",null,"255 08 02 08  = Para ve Zamanla İlgili Öğretmen Malzemesi"]
[null,255,"08","02","08","02",null,"Manyetik Paralar",null,"255 08 02 08 02 = Manyetik Paralar"]
[null,255,"08","02","08","03",null,"Para Yap Bozları",null,"255 08 02 08 03 = Para Yap Bozları"]
[null,255,"08","02","08","04",null,"Bozuk Para Bankası",null,"255 08 02 08 04 = Bozuk Para Bankası"]
[null,255,"08","02","08","05",null,"Para Oyunları veya Setleri",null,"255 08 02 08 05 = Para Oyunları veya Setleri"]
[null,255,"08","02","08","06",null,"Saati Öğrenme Aktiviteleri veya Kaynak Kitaplar",null,"255 08 02 08 06 = Saati Öğrenme Aktiviteleri veya Kaynak Kitaplar"]
[null,255,"08","02","08","07",null,"Kauçuk Saat Pulları",null,"255 08 02 08 07 = Kauçuk Saat Pulları"]
[null,255,"08","02","08","08",null,"Saat Setleri",null,"255 08 02 08 08 = Saat Setleri"]
[null,255,"08","02","08","99",null,"Diğer Para ve Zamanla İlgili Öğretmen Malzemesi",null,"255 08 02 08 99 = Diğer Para ve Zamanla İlgili Öğretmen Malzemesi"]
[null,255,"08","02","09",null,null,"Parçalara Ayırma, Pentominoes Oyunu ve Ondalıklı Sayıları Öğretme",null,"255 08 02 09  = Parçalara Ayırma, Pentominoes Oyunu ve Ondalıklı Sayıları Öğretme"]
[null,255,"08","02","09","01",null,"Parça Çember veya Kareler",null,"255 08 02 09 01 = Parça Çember veya Kareler"]
[null,255,"08","02","09","02",null,"Ondalıklı Kareler",null,"255 08 02 09 02 = Ondalıklı Kareler"]
[null,255,"08","02","09","04",null,"Parçalara Ayırma Çubukları",null,"255 08 02 09 04 = Parçalara Ayırma Çubukları"]
[null,255,"08","02","09","05",null,"Parçalara Ayırma Grafikleri",null,"255 08 02 09 05 = Parçalara Ayırma Grafikleri"]
[null,255,"08","02","09","06",null,"Parçalara Ayırma Zarları",null,"255 08 02 09 06 = Parçalara Ayırma Zarları"]
[null,255,"08","02","09","07",null,"Parçalara Ayırma Oyunları",null,"255 08 02 09 07 = Parçalara Ayırma Oyunları"]
[null,255,"08","02","09","08",null,"Parçalara Ayırma Setleri",null,"255 08 02 09 08 = Parçalara Ayırma Setleri"]
[null,255,"08","02","09","09",null,"Parçalara Ayırma Tabletleri",null,"255 08 02 09 09 = Parçalara Ayırma Tabletleri"]
[null,255,"08","02","09","10",null,"Parçalara Ayırma Diskleri",null,"255 08 02 09 10 = Parçalara Ayırma Diskleri"]
[null,255,"08","02","09","12",null,"Pentominoes Model Kartları",null,"255 08 02 09 12 = Pentominoes Model Kartları"]
[null,255,"08","02","09","99",null,"Diğer Parçalara Ayırma, Pentominoes Oyunu ve Ondalıklı Sayıları Öğretme",null,"255 08 02 09 99 = Diğer Parçalara Ayırma, Pentominoes Oyunu ve Ondalıklı Sayıları Öğretme"]
[null,255,"08","02","10",null,null,"Coğrafya ve Harita Bilgisi Kaynakları ve Aksesuarları",null,"255 08 02 10  = Coğrafya ve Harita Bilgisi Kaynakları ve Aksesuarları"]
[null,255,"08","02","10","01",null,"Coğrafya Çizelgeleri veya Posterleri",null,"255 08 02 10 01 = Coğrafya Çizelgeleri veya Posterleri"]
[null,255,"08","02","10","03",null,"Coğrafya Referans Kılavuzları",null,"255 08 02 10 03 = Coğrafya Referans Kılavuzları"]
[null,255,"08","02","10","04",null,"Harita Çizmeye Yardımcı Aletler",null,"255 08 02 10 04 = Harita Çizmeye Yardımcı Aletler"]
[null,255,"08","02","10","05",null,"Harita Şablon Setleri",null,"255 08 02 10 05 = Harita Şablon Setleri"]
[null,255,"08","02","10","06",null,"Portatif Duvar Haritaları",null,"255 08 02 10 06 = Portatif Duvar Haritaları"]
[null,255,"08","02","10","08",null,"Harita Ölçücüleri",null,"255 08 02 10 08 = Harita Ölçücüleri"]
[null,255,"08","02","10","09",null,"Harita Öğretme Yardımcıları veya Materyalleri",null,"255 08 02 10 09 = Harita Öğretme Yardımcıları veya Materyalleri"]
[null,255,"08","02","10","99",null,"Diğer Coğrafya ve Harita Bilgisi Kaynakları ve Aksesuarları",null,"255 08 02 10 99 = Diğer Coğrafya ve Harita Bilgisi Kaynakları ve Aksesuarları"]
[null,255,"08","02","11",null,null,"Yaşayan Organizmalar ve Korunmuş Örnekler ve Onlarla ilişkili Malzemeler",null,"255 08 02 11  = Yaşayan Organizmalar ve Korunmuş Örnekler ve Onlarla ilişkili Malzemeler"]
[null,255,"08","02","11","01",null,"Amfibi Modelleri",null,"255 08 02 11 01 = Amfibi Modelleri"]
[null,255,"08","02","11","02",null,"Kültür Kitleri ve Materyaller",null,"255 08 02 11 02 = Kültür Kitleri ve Materyaller"]
[null,255,"08","02","11","03",null,"Parçalara Ayırma Setleri veya Malzemeleri",null,"255 08 02 11 03 = Parçalara Ayırma Setleri veya Malzemeleri"]
[null,255,"08","02","11","04",null,"Biyosferler",null,"255 08 02 11 04 = Biyosferler"]
[null,255,"08","02","11","05",null,"Biyoloji Deneyi Kitleri veya Malzemeleri",null,"255 08 02 11 05 = Biyoloji Deneyi Kitleri veya Malzemeleri"]
[null,255,"08","02","11","06",null,"Korunmuş Yaşam Döngüsü Türleri",null,"255 08 02 11 06 = Korunmuş Yaşam Döngüsü Türleri"]
[null,255,"08","02","11","07",null,"Biyoloji Referanslı Klavuzlar",null,"255 08 02 11 07 = Biyoloji Referanslı Klavuzlar"]
[null,255,"08","02","11","08",null,"İskelet, Kemik veya Kabuk Örnekleri",null,"255 08 02 11 08 = İskelet, Kemik veya Kabuk Örnekleri"]
[null,255,"08","02","11","09",null,"Biyoloji Çalışma veya Aktivite Setleri",null,"255 08 02 11 09 = Biyoloji Çalışma veya Aktivite Setleri"]
[null,255,"08","02","11","10",null,"Biyoloji Çizelgeleri veya Posterleri",null,"255 08 02 11 10 = Biyoloji Çizelgeleri veya Posterleri"]
[null,255,"08","02","11","11",null,"Korunmuş Bitki Gövdesi veya Organ Türleri",null,"255 08 02 11 11 = Korunmuş Bitki Gövdesi veya Organ Türleri"]
[null,255,"08","02","11","12",null,"Biyoloji Aktivite veya Fotoğraf Kartları",null,"255 08 02 11 12 = Biyoloji Aktivite veya Fotoğraf Kartları"]
[null,255,"08","02","11","13",null,"Bitki Yaşam Döngüsü Türleri",null,"255 08 02 11 13 = Bitki Yaşam Döngüsü Türleri"]
[null,255,"08","02","11","14",null,"Hayvan Vücudu veya Vücut Parçası veya Organ Türleri",null,"255 08 02 11 14 = Hayvan Vücudu veya Vücut Parçası veya Organ Türleri"]
[null,255,"08","02","11","15",null,"Ekosistem Gösterisi",null,"255 08 02 11 15 = Ekosistem Gösterisi"]
[null,255,"08","02","11","16",null,"İnsan Bedeni veya Vücut Parçası veya Organ Türleri",null,{"$f":"IF(ISTEXT(H2949),CONCATENATE(B2948,\" \",C2948,\" \",D2948,\" \",E2948,\" \",F2948,\" = \",H2948),\"\")","v":"255 08 02 11 16 = İnsan Bedeni veya Vücut Parçası veya Organ Türleri"}]
[null,255,"08","02","11","17",null,"Anatomi Çizelgeleri veya Setleri",null,"255 08 02 11 17 = Anatomi Çizelgeleri veya Setleri"]
[null,255,"08","02","11","99",null,"Diğer Yaşayan Organizmalar ve Korunmuş Örnekler ve Onlarla ilişkili Malzemeler",null,"255 08 02 11 99 = Diğer Yaşayan Organizmalar ve Korunmuş Örnekler ve Onlarla ilişkili Malzemeler"]
[null,255,"08","02","12",null,null,"Biyoteknoloji , Biyokimya, Genetik ve Mikrobiyoloji ile ilgili Materyaller",null,"255 08 02 12  = Biyoteknoloji , Biyokimya, Genetik ve Mikrobiyoloji ile ilgili Materyaller"]
[null,255,"08","02","12","01",null,"Deoksiribonükleikasit DNA Modelleri",null,"255 08 02 12 01 = Deoksiribonükleikasit DNA Modelleri"]
[null,255,"08","02","12","02",null,"Deoksiribonükleikasit DNA Deney Kitleri",null,"255 08 02 12 02 = Deoksiribonükleikasit DNA Deney Kitleri"]
[null,255,"08","02","12","03",null,"Genetik Bilimi Kitleri",null,"255 08 02 12 03 = Genetik Bilimi Kitleri"]
[null,255,"08","02","12","04",null,"Bakterileri Öğretme Setleri",null,"255 08 02 12 04 = Bakterileri Öğretme Setleri"]
[null,255,"08","02","12","05",null,"Bakterileri Test Etme Malzemeleri",null,"255 08 02 12 05 = Bakterileri Test Etme Malzemeleri"]
[null,255,"08","02","12","06",null,"Enzimoloji Setleri veya Malzemeleri",null,"255 08 02 12 06 = Enzimoloji Setleri veya Malzemeleri"]
[null,255,"08","02","12","07",null,"Proteinleri Test Etme Stleri veya Malzemeleri",null,"255 08 02 12 07 = Proteinleri Test Etme Stleri veya Malzemeleri"]
[null,255,"08","02","12","99",null,"Diğer Biyoteknoloji , Biyokimya, Genetik ve Mikrobiyoloji ile ilgili Materyaller",null,"255 08 02 12 99 = Diğer Biyoteknoloji , Biyokimya, Genetik ve Mikrobiyoloji ile ilgili Materyaller"]
[null,255,"08","02","13",null,null,"Beden Sistemleri ve İlgili Materyaller",null,"255 08 02 13  = Beden Sistemleri ve İlgili Materyaller"]
[null,255,"08","02","13","01",null,"İnsan Bedeni veya Vücut Parçası veya Organ Modelleri",null,"255 08 02 13 01 = İnsan Bedeni veya Vücut Parçası veya Organ Modelleri"]
[null,255,"08","02","13","02",null,"Hücre Modelleri",null,"255 08 02 13 02 = Hücre Modelleri"]
[null,255,"08","02","13","03",null,"Hücre Yapısını Öğretici Kitler",null,"255 08 02 13 03 = Hücre Yapısını Öğretici Kitler"]
[null,255,"08","02","13","04",null,"Vücut Sistemlerini Öğretme Setleri",null,"255 08 02 13 04 = Vücut Sistemlerini Öğretme Setleri"]
[null,255,"08","02","13","05",null,"Vücut Sistemlerini Öğretme Yardımcıları",null,"255 08 02 13 05 = Vücut Sistemlerini Öğretme Yardımcıları"]
[null,255,"08","02","13","06",null,"Bitki Gövdesi veya Paçası veya Organ Modelleri",null,"255 08 02 13 06 = Bitki Gövdesi veya Paçası veya Organ Modelleri"]
[null,255,"08","02","13","07",null,"Hayvan Vücudu veya Vücut Parçası veya Organ Modelleri",null,"255 08 02 13 07 = Hayvan Vücudu veya Vücut Parçası veya Organ Modelleri"]
[null,255,"08","02","13","99",null,"Diğer Beden Sistemleri ve İlgili Materyaller",null,"255 08 02 13 99 = Diğer Beden Sistemleri ve İlgili Materyaller"]
[null,255,"08","02","14",null,null,"Jeoloji ve Yer Bilimi",null,"255 08 02 14  = Jeoloji ve Yer Bilimi"]
[null,255,"08","02","14","01",null,"Taş Numune Setleri",null,"255 08 02 14 01 = Taş Numune Setleri"]
[null,255,"08","02","14","02",null,"Taş Numuneleri",null,"255 08 02 14 02 = Taş Numuneleri"]
[null,255,"08","02","14","03",null,"Fosiller",null,"255 08 02 14 03 = Fosiller"]
[null,255,"08","02","14","04",null,"Jeolojik Oluşum Modelleri",null,"255 08 02 14 04 = Jeolojik Oluşum Modelleri"]
[null,255,"08","02","14","05",null,"Fosil Modelleri",null,"255 08 02 14 05 = Fosil Modelleri"]
[null,255,"08","02","14","06",null,"Jeoloji Araçları ve Alanları",null,"255 08 02 14 06 = Jeoloji Araçları ve Alanları"]
[null,255,"08","02","14","07",null,"Jeoloji Çalışma Setleri",null,"255 08 02 14 07 = Jeoloji Çalışma Setleri"]
[null,255,"08","02","14","99",null,"Diğer Jeoloji ve Yer Bilimi Materyalleri",null,"255 08 02 14 99 = Diğer Jeoloji ve Yer Bilimi Materyalleri"]
[null,255,"08","02","15",null,null,"Kimya, Elektrokimya ve Mikrokimya",null,"255 08 02 15  = Kimya, Elektrokimya ve Mikrokimya"]
[null,255,"08","02","15","01",null,"Periyodik Tablo Posterleri veya Not Tahtaları",null,"255 08 02 15 01 = Periyodik Tablo Posterleri veya Not Tahtaları"]
[null,255,"08","02","15","02",null,"Tüketici Analizi Setleri",null,"255 08 02 15 02 = Tüketici Analizi Setleri"]
[null,255,"08","02","15","03",null,"Kimya Sınıfı Setleri",null,"255 08 02 15 03 = Kimya Sınıfı Setleri"]
[null,255,"08","02","15","04",null,"Kimya Gösteri Setleri",null,"255 08 02 15 04 = Kimya Gösteri Setleri"]
[null,255,"08","02","15","05",null,"Atomik Modeller",null,"255 08 02 15 05 = Atomik Modeller"]
[null,255,"08","02","15","06",null,"Moleküler Modeller",null,"255 08 02 15 06 = Moleküler Modeller"]
[null,255,"08","02","15","07",null,"Elektrokimyasal Gösteri Araçları",null,"255 08 02 15 07 = Elektrokimyasal Gösteri Araçları"]
[null,255,"08","02","15","08",null,"Elektrokimyasal Setler",null,"255 08 02 15 08 = Elektrokimyasal Setler"]
[null,255,"08","02","15","09",null,"Yakıt Hücreleri",null,"255 08 02 15 09 = Yakıt Hücreleri"]
[null,255,"08","02","15","10",null,"Mikrokimya Araçları",null,"255 08 02 15 10 = Mikrokimya Araçları"]
[null,255,"08","02","15","99",null,"Diğer Kimya, Elektrokimya ve Mikrokimya Materyalleri",null,"255 08 02 15 99 = Diğer Kimya, Elektrokimya ve Mikrokimya Materyalleri"]
[null,255,"08","02","16",null,null,"Mekanik Fizik Materyalleri",null,"255 08 02 16  = Mekanik Fizik Materyalleri"]
[null,255,"08","02","16","01",null,"Yerçekimi Modelleri veya Model Setleri",null,"255 08 02 16 01 = Yerçekimi Modelleri veya Model Setleri"]
[null,255,"08","02","16","02",null,"Eğik Düzlemler",null,"255 08 02 16 02 = Eğik Düzlemler"]
[null,255,"08","02","16","03",null,"Sürtünme Apareyleri",null,"255 08 02 16 03 = Sürtünme Apareyleri"]
[null,255,"08","02","16","04",null,"Fizik Arabaları",null,"255 08 02 16 04 = Fizik Arabaları"]
[null,255,"08","02","16","05",null,"Sarkaç Apareyleri",null,"255 08 02 16 05 = Sarkaç Apareyleri"]
[null,255,"08","02","16","06",null,"Döndürme Gücü Apareyleri",null,"255 08 02 16 06 = Döndürme Gücü Apareyleri"]
[null,255,"08","02","16","07",null,"İtici Apareyler",null,"255 08 02 16 07 = İtici Apareyler"]
[null,255,"08","02","16","08",null,"Fizik Deneyi Masaları",null,"255 08 02 16 08 = Fizik Deneyi Masaları"]
[null,255,"08","02","16","09",null,"Hava Apareyleri",null,"255 08 02 16 09 = Hava Apareyleri"]
[null,255,"08","02","16","10",null,"Işık veya Fotoğraf Apareyleri",null,"255 08 02 16 10 = Işık veya Fotoğraf Apareyleri"]
[null,255,"08","02","16","99",null,"Diğer Mekanik Fizik Materyalleri",null,"255 08 02 16 99 = Diğer Mekanik Fizik Materyalleri"]
[null,255,"08","02","17",null,null,"Enerji ve Güç Fiziği Materyalleri",null,"255 08 02 17  = Enerji ve Güç Fiziği Materyalleri"]
[null,255,"08","02","17","01",null,"Güneş Işınlarını Toplayan Araçlar",null,"255 08 02 17 01 = Güneş Işınlarını Toplayan Araçlar"]
[null,255,"08","02","17","02",null,"Güneş Işını İçin Setler",null,"255 08 02 17 02 = Güneş Işını İçin Setler"]
[null,255,"08","02","17","03",null,"Enerjiyi Gösteren Setler",null,"255 08 02 17 03 = Enerjiyi Gösteren Setler"]
[null,255,"08","02","17","04",null,"Enerji Sınıf Setleri",null,"255 08 02 17 04 = Enerji Sınıf Setleri"]
[null,255,"08","02","17","05",null,"Maddeyi Gösteren Setler",null,"255 08 02 17 05 = Maddeyi Gösteren Setler"]
[null,255,"08","02","17","06",null,"Madde Sınıf Setleri",null,"255 08 02 17 06 = Madde Sınıf Setleri"]
[null,255,"08","02","17","07",null,"Monometreler",null,"255 08 02 17 07 = Monometreler"]
[null,255,"08","02","17","08",null,"Gaz Difüzyonu Apareyleri",null,"255 08 02 17 08 = Gaz Difüzyonu Apareyleri"]
[null,255,"08","02","17","99",null,"Diğer Enerji ve Güç Fiziği Materyalleri",null,"255 08 02 17 99 = Diğer Enerji ve Güç Fiziği Materyalleri"]
[null,255,"08","02","18",null,null,"Dalga ve Ses Fiziği Materyalleri",null,{"$f":"IF(ISTEXT(H3013),CONCATENATE(B3012,\" \",C3012,\" \",D3012,\" \",E3012,\" \",F3012,\" = \",H3012),\"\")","v":"255 08 02 18  = Dalga ve Ses Fiziği Materyalleri"}]
[null,255,"08","02","18","01",null,"Dalga Jeneratörleri",null,"255 08 02 18 01 = Dalga Jeneratörleri"]
[null,255,"08","02","18","02",null,"Dalga Tankları",null,"255 08 02 18 02 = Dalga Tankları"]
[null,255,"08","02","18","03",null,"Dalga Kaynakları",null,"255 08 02 18 03 = Dalga Kaynakları"]
[null,255,"08","02","18","04",null,"Dalgayı Gösteren Setler",null,"255 08 02 18 04 = Dalgayı Gösteren Setler"]
[null,255,"08","02","18","05",null,"Ayarlama Maşaları",null,"255 08 02 18 05 = Ayarlama Maşaları"]
[null,255,"08","02","18","06",null,"Frekans Göstericileri",null,"255 08 02 18 06 = Frekans Göstericileri"]
[null,255,"08","02","18","07",null,"Rezonans Apareyleri",null,"255 08 02 18 07 = Rezonans Apareyleri"]
[null,255,"08","02","18","08",null,"Ses Ölçerler",null,"255 08 02 18 08 = Ses Ölçerler"]
[null,255,"08","02","18","09",null,"Dalga Apareyleri",null,"255 08 02 18 09 = Dalga Apareyleri"]
[null,255,"08","02","18","10",null,"Spektroskopları",null,"255 08 02 18 10 = Spektroskopları"]
[null,255,"08","02","18","11",null,"Dalga Boyu Çizelgeleri",null,"255 08 02 18 11 = Dalga Boyu Çizelgeleri"]
[null,255,"08","02","18","12",null,"Işık Gösterici Setler",null,"255 08 02 18 12 = Işık Gösterici Setler"]
[null,255,"08","02","18","13",null,"Renk Çizelgeleri ve Numuneleri",null,"255 08 02 18 13 = Renk Çizelgeleri ve Numuneleri"]
[null,255,"08","02","18","14",null,"Radyometreler",null,"255 08 02 18 14 = Radyometreler"]
[null,255,"08","02","18","15",null,"Yansıma veya Işığı Kırma Apareyleri",null,"255 08 02 18 15 = Yansıma veya Işığı Kırma Apareyleri"]
[null,255,"08","02","18","16",null,"Optik Setler veya Kitler",null,"255 08 02 18 16 = Optik Setler veya Kitler"]
[null,255,"08","02","18","99",null,"Diğer Dalga ve Ses Fiziği Materyalleri",null,"255 08 02 18 99 = Diğer Dalga ve Ses Fiziği Materyalleri"]
[null,255,"08","02","19",null,null,"Elektriksel Fizik Materyelleri",null,"255 08 02 19  = Elektriksel Fizik Materyelleri"]
[null,255,"08","02","19","01",null,"Van de Graff Jeneratörleri",null,"255 08 02 19 01 = Van de Graff Jeneratörleri"]
[null,255,"08","02","19","02",null,"Elektroskoplar",null,"255 08 02 19 02 = Elektroskoplar"]
[null,255,"08","02","19","03",null,"Elektrostatik Setler",null,"255 08 02 19 03 = Elektrostatik Setler"]
[null,255,"08","02","19","04",null,"Elektrik Setleri",null,"255 08 02 19 04 = Elektrik Setleri"]
[null,255,"08","02","19","05",null,"Elektrik Gösterici Panolar",null,"255 08 02 19 05 = Elektrik Gösterici Panolar"]
[null,255,"08","02","19","06",null,"Batarya Takımları",null,"255 08 02 19 06 = Batarya Takımları"]
[null,255,"08","02","19","07",null,"Elle Çalıştırılan Jeneratörler",null,"255 08 02 19 07 = Elle Çalıştırılan Jeneratörler"]
[null,255,"08","02","19","08",null,"Elektromanyetik Apareyler",null,"255 08 02 19 08 = Elektromanyetik Apareyler"]
[null,255,"08","02","19","09",null,"Mıknatıslık Apareyleri ",null,"255 08 02 19 09 = Mıknatıslık Apareyleri "]
[null,255,"08","02","19","10",null,"Elektromanyetizmalar",null,"255 08 02 19 10 = Elektromanyetizmalar"]
[null,255,"08","02","19","99",null,"Diğer Elektriksel Fizik Materyelleri",null,"255 08 02 19 99 = Diğer Elektriksel Fizik Materyelleri"]
[null,255,"08","02","20",null,null,"Nükleer Fizik Materyalleri",null,"255 08 02 20  = Nükleer Fizik Materyalleri"]
[null,255,"08","02","20","01",null,"Radyoaktivite Setleri",null,"255 08 02 20 01 = Radyoaktivite Setleri"]
[null,255,"08","02","20","02",null,"Gayger Sayacları",null,"255 08 02 20 02 = Gayger Sayacları"]
[null,255,"08","02","20","03",null,"Elektron Apareyleri",null,"255 08 02 20 03 = Elektron Apareyleri"]
[null,255,"08","02","20","04",null,"Radyasyon Uyarıcı İşaretler",null,"255 08 02 20 04 = Radyasyon Uyarıcı İşaretler"]
[null,255,"08","02","20","05",null,"Nükleer Fizik Diyapozitifleri",null,"255 08 02 20 05 = Nükleer Fizik Diyapozitifleri"]
[null,255,"08","02","20","06",null,"Nükleer Fizik Çizelgeleri",null,"255 08 02 20 06 = Nükleer Fizik Çizelgeleri"]
[null,255,"08","02","20","99",null,"Diğer Nükleer Fizik Materyalleri",null,"255 08 02 20 99 = Diğer Nükleer Fizik Materyalleri"]
[null,255,"08","02","21",null,null,"Roket Bilimi ve Uçuş Materyalleri ve Malzemeleri",null,"255 08 02 21  = Roket Bilimi ve Uçuş Materyalleri ve Malzemeleri"]
[null,255,"08","02","21","01",null,"Roket Setleri",null,"255 08 02 21 01 = Roket Setleri"]
[null,255,"08","02","21","02",null,"Fırlatma Apareyleri",null,"255 08 02 21 02 = Fırlatma Apareyleri"]
[null,255,"08","02","21","03",null,"İrtifa Ölçme Cihazları",null,"255 08 02 21 03 = İrtifa Ölçme Cihazları"]
[null,255,"08","02","21","04",null,"Uçak Kitleri",null,"255 08 02 21 04 = Uçak Kitleri"]
[null,255,"08","02","21","99",null,"Diğer Roket Bilimi ve Uçuş Materyalleri ve Malzemeleri",null,"255 08 02 21 99 = Diğer Roket Bilimi ve Uçuş Materyalleri ve Malzemeleri"]
[null,255,"08","02","22",null,null,"Otomotiv Eğitim Seti",null,"255 08 02 22  = Otomotiv Eğitim Seti"]
[null,255,"08","02","23",null,null,"Elektrik Eğitim Setleri",null,"255 08 02 23  = Elektrik Eğitim Setleri"]
[null,255,"08","02","24",null,null,"Binicilik Eğitiminde Kullanılan Demirbaşlar ",null,"255 08 02 24  = Binicilik Eğitiminde Kullanılan Demirbaşlar "]
[null,255,"08","02","25",null,null,"Kuaförlük Eğitiminde Kullanılan Demirbaşlar",null,"255 08 02 25  = Kuaförlük Eğitiminde Kullanılan Demirbaşlar"]
[null,255,"08","02","99",null,null,"Öğrenmeyi Kolaylaştırıcı Diğer  Ekipmanlar",null,"255 08 02 99  = Öğrenmeyi Kolaylaştırıcı Diğer  Ekipmanlar"]
[null,255,"08","03",null,null,null,"Derslik Süslemeleri",null,"255 08 03   = Derslik Süslemeleri"]
[null,255,"08","03","01",null,null,"Derslik Haritaları veya Derslik Posterleri",null,"255 08 03 01  = Derslik Haritaları veya Derslik Posterleri"]
[null,255,"08","03","01","01",null,"Panolara Asılacak Paketler",null,"255 08 03 01 01 = Panolara Asılacak Paketler"]
[null,255,"08","03","01","02",null,"Derslik Çizelgeleri ",null,"255 08 03 01 02 = Derslik Çizelgeleri "]
[null,255,"08","03","01","03",null,"Deslik Posterler veya Setleri",null,"255 08 03 01 03 = Deslik Posterler veya Setleri"]
[null,255,"08","03","01","04",null,"Herşeyi Kendin Yap Posterleri",null,"255 08 03 01 04 = Herşeyi Kendin Yap Posterleri"]
[null,255,"08","03","01","05",null,"Çizelge Tutturaçları veya Aksesuarları",null,"255 08 03 01 05 = Çizelge Tutturaçları veya Aksesuarları"]
[null,255,"08","03","01","99",null,"Diğer Derslik Haritaları veya Derslik Posterleri",null,"255 08 03 01 99 = Diğer Derslik Haritaları veya Derslik Posterleri"]
[null,255,"08","03","99",null,null,"Diğer Derslik Süslemeleri",null,"255 08 03 99  = Diğer Derslik Süslemeleri"]
[null,255,"08","04",null,null,null,"Okul Bahçesi ve Oyun Demirbaşları",null,"255 08 04   = Okul Bahçesi ve Oyun Demirbaşları"]
[null,255,"08","04","01",null,null,"Kaydıraklar",null,"255 08 04 01  = Kaydıraklar"]
[null,255,"08","04","02",null,null,"Tahterevalliler",null,"255 08 04 02  = Tahterevalliler"]
[null,255,"08","04","03",null,null,"Salıncaklar",null,"255 08 04 03  = Salıncaklar"]
[null,255,"08","04","04",null,null,"Şezlonglar",null,"255 08 04 04  = Şezlonglar"]
[null,255,"08","04","99",null,null,"Diğer Okul Bahçesi ve Oyun Demirbaşları",null,"255 08 04 99  = Diğer Okul Bahçesi ve Oyun Demirbaşları"]
[null,255,"09",null,null,null,null,"Spor Amaçlı Kullanılan Demirbaşlar Grubu",null,{"$f":"IF(ISTEXT(H3077),CONCATENATE(B3076,\" \",C3076,\" \",D3076,\" \",E3076,\" \",F3076,\" = \",H3076),\"\")","v":"255 09    = Spor Amaçlı Kullanılan Demirbaşlar Grubu"}]
[null,255,"09","01",null,null,null,"Doğa Sporlarında Kullanılan Demirbaşlar",null,"255 09 01   = Doğa Sporlarında Kullanılan Demirbaşlar"]
[null,255,"09","01","01",null,null,"Avcılık, Dağcılık ve Kamp Demirbaşları",null,"255 09 01 01  = Avcılık, Dağcılık ve Kamp Demirbaşları"]
[null,255,"09","01","01","01",null,"Balık Tutma Ekipmanları",null,"255 09 01 01 01 = Balık Tutma Ekipmanları"]
[null,255,"09","01","01","02",null,"Tırmanma Ekipmanları",null,"255 09 01 01 02 = Tırmanma Ekipmanları"]
[null,255,"09","01","01","03",null,"Konaklama Ekipmanları",null,"255 09 01 01 03 = Konaklama Ekipmanları"]
[null,255,"09","01","01","04",null,"Pusulalar",null,"255 09 01 01 04 = Pusulalar"]
[null,255,"09","01","01","05",null,"Fenerler",null,"255 09 01 01 05 = Fenerler"]
[null,255,"09","01","01","06",null,"Termos ve Mataralar",null,"255 09 01 01 06 = Termos ve Mataralar"]
[null,255,"09","01","01","07",null,"Kamp Gereçleri",null,"255 09 01 01 07 = Kamp Gereçleri"]
[null,255,"09","01","01","08",null,"Uyku Tulumları",null,"255 09 01 01 08 = Uyku Tulumları"]
[null,255,"09","01","01","09",null,"Şişme Yataklar",null,"255 09 01 01 09 = Şişme Yataklar"]
[null,255,"09","01","01","10",null,"Çadırlar",null,"255 09 01 01 10 = Çadırlar"]
[null,255,"09","01","01","99",null,"Diğer Avcılık, Dağcılık ve Kamp Demirbaşları",null,"255 09 01 01 99 = Diğer Avcılık, Dağcılık ve Kamp Demirbaşları"]
[null,255,"09","01","02",null,null,"Su Sporları",null,"255 09 01 02  = Su Sporları"]
[null,255,"09","01","02","01",null,"Şamandıralar",null,"255 09 01 02 01 = Şamandıralar"]
[null,255,"09","01","02","02",null,"Vinsörfler",null,"255 09 01 02 02 = Vinsörfler"]
[null,255,"09","01","02","03",null,"Sörfler",null,"255 09 01 02 03 = Sörfler"]
[null,255,"09","01","02","99",null,"Diğer Su Sporları Demirbaşları",null,"255 09 01 02 99 = Diğer Su Sporları Demirbaşları"]
[null,255,"09","01","03",null,null,"Kayak Sporu Demirbaşları",null,"255 09 01 03  = Kayak Sporu Demirbaşları"]
[null,255,"09","01","03","01",null,"Kayak Takımları",null,"255 09 01 03 01 = Kayak Takımları"]
[null,255,"09","01","03","02",null,"Kar Gözlükleri",null,"255 09 01 03 02 = Kar Gözlükleri"]
[null,255,"09","01","03","99",null,"Diğer Kayak Sporu Demirbaşları",null,"255 09 01 03 99 = Diğer Kayak Sporu Demirbaşları"]
[null,255,"09","01","04",null,null,"Okçuluk",null,"255 09 01 04  = Okçuluk"]
[null,255,"09","01","99",null,null,"Doğa Sporlarında Kullanılan Diğer  Demirbaşlar",null,"255 09 01 99  = Doğa Sporlarında Kullanılan Diğer  Demirbaşlar"]
[null,255,"09","02",null,null,null,"Salon Sporlarında Kullanılan Demirbaşlar",null,"255 09 02   = Salon Sporlarında Kullanılan Demirbaşlar"]
[null,255,"09","02","01",null,null,"Kondisyon Amaçlı Aletler",null,"255 09 02 01  = Kondisyon Amaçlı Aletler"]
[null,255,"09","02","01","01",null,"Mekanik Koşu ve Yürüme Bantları",null,"255 09 02 01 01 = Mekanik Koşu ve Yürüme Bantları"]
[null,255,"09","02","01","02",null,"Mekanik Bisikletler",null,"255 09 02 01 02 = Mekanik Bisikletler"]
[null,255,"09","02","01","03",null,"Mekanik Kürekler",null,"255 09 02 01 03 = Mekanik Kürekler"]
[null,255,"09","02","01","04",null,"Ağırlık Sehpaları",null,"255 09 02 01 04 = Ağırlık Sehpaları"]
[null,255,"09","02","01","05",null,"Mekik Sehpaları",null,"255 09 02 01 05 = Mekik Sehpaları"]
[null,255,"09","02","01","06",null,"Mekik Aletleri",null,"255 09 02 01 06 = Mekik Aletleri"]
[null,255,"09","02","01","07",null,"Step Tahtaları",null,"255 09 02 01 07 = Step Tahtaları"]
[null,255,"09","02","01","10",null,"Düz Sehpalar",null,"255 09 02 01 10 = Düz Sehpalar"]
[null,255,"09","02","01","11",null,"Yer Minderleri",null,"255 09 02 01 11 = Yer Minderleri"]
[null,255,"09","02","01","12",null,"Jimnastik Sopaları",null,"255 09 02 01 12 = Jimnastik Sopaları"]
[null,255,"09","02","01","13",null,"Karın Bölgesi Jimnastik Aletleri",null,"255 09 02 01 13 = Karın Bölgesi Jimnastik Aletleri"]
[null,255,"09","02","01","14",null,"Butterfly Jimnastik Aletleri",null,"255 09 02 01 14 = Butterfly Jimnastik Aletleri"]
[null,255,"09","02","01","15",null,"Barfiksler",null,"255 09 02 01 15 = Barfiksler"]
[null,255,"09","02","01","99",null,"Diğer Kondisyon Amaçlı Aletler",null,"255 09 02 01 99 = Diğer Kondisyon Amaçlı Aletler"]
[null,255,"09","02","02",null,null,"Egzersiz Aletleri",null,"255 09 02 02  = Egzersiz Aletleri"]
[null,255,"09","02","02","01",null,"Zıplama Topları",null,"255 09 02 02 01 = Zıplama Topları"]
[null,255,"09","02","02","02",null,"Masaj Topları",null,"255 09 02 02 02 = Masaj Topları"]
[null,255,"09","02","02","03",null,"Ağırlık Topları",null,"255 09 02 02 03 = Ağırlık Topları"]
[null,255,"09","02","02","04",null,"Egzersiz Topları",null,"255 09 02 02 04 = Egzersiz Topları"]
[null,255,"09","02","02","05",null,"Atlama İpleri",null,"255 09 02 02 05 = Atlama İpleri"]
[null,255,"09","02","02","06",null,"Yaylar",null,"255 09 02 02 06 = Yaylar"]
[null,255,"09","02","02","07",null,"Dambıllar",null,"255 09 02 02 07 = Dambıllar"]
[null,255,"09","02","02","99",null,"Diğer Egzersiz Aletleri",null,"255 09 02 02 99 = Diğer Egzersiz Aletleri"]
[null,255,"09","02","03",null,null,"Güreş Sporunda Kullanılan Demirbaşlar",null,"255 09 02 03  = Güreş Sporunda Kullanılan Demirbaşlar"]
[null,255,"09","02","04",null,null,"Hentbol Sporunda Kullanılan Demirbaşlar",null,"255 09 02 04  = Hentbol Sporunda Kullanılan Demirbaşlar"]
[null,255,"09","02","05",null,null,"Basketbol Sporunda Kullanılan Demirbaşlar",null,"255 09 02 05  = Basketbol Sporunda Kullanılan Demirbaşlar"]
[null,255,"09","02","06",null,null,"Voleybol Sporunda Kullanılan Demirbaşlar",null,"255 09 02 06  = Voleybol Sporunda Kullanılan Demirbaşlar"]
[null,255,"09","02","07",null,null,"Tenis ve Squash Sporunda Kullanılan Demirbaşlar",null,"255 09 02 07  = Tenis ve Squash Sporunda Kullanılan Demirbaşlar"]
[null,255,"09","02","08",null,null,"Masa Tenisi Sporunda Kullanılan Demirbaşlar",null,"255 09 02 08  = Masa Tenisi Sporunda Kullanılan Demirbaşlar"]
[null,255,"09","02","09",null,null,"Bilardo Sporunda Kullanılan Demirbaşlar",null,"255 09 02 09  = Bilardo Sporunda Kullanılan Demirbaşlar"]
[null,255,"09","02","10",null,null,"Halter Sporunda Kullanılan Demirbaşlar",null,"255 09 02 10  = Halter Sporunda Kullanılan Demirbaşlar"]
[null,255,"09","02","11",null,null,"Eskrim Sporunda Kullanılan Demirbaşlar",null,"255 09 02 11  = Eskrim Sporunda Kullanılan Demirbaşlar"]
[null,255,"09","02","12",null,null,"Boks Sporunda Kullanılan Demirbaşlar",null,"255 09 02 12  = Boks Sporunda Kullanılan Demirbaşlar"]
[null,255,"09","02","99",null,null,"Salon Sporlarında Kullanılan Diğer Demirbaşlar",null,"255 09 02 99  = Salon Sporlarında Kullanılan Diğer Demirbaşlar"]
[null,255,"09","03",null,null,null,"Saha Sporlarında Kullanılan Demirbaşlar",null,"255 09 03   = Saha Sporlarında Kullanılan Demirbaşlar"]
[null,255,"09","03","01",null,null,"Atıcılık  Cihaz ve Aletleri",null,"255 09 03 01  = Atıcılık  Cihaz ve Aletleri"]
[null,255,"09","03","01","01",null,"Silahlar",null,"255 09 03 01 01 = Silahlar"]
[null,255,"09","03","01","02",null,"Plak Fırlatma Makineleri",null,{"$f":"IF(ISTEXT(H3141),CONCATENATE(B3140,\" \",C3140,\" \",D3140,\" \",E3140,\" \",F3140,\" = \",H3140),\"\")","v":"255 09 03 01 02 = Plak Fırlatma Makineleri"}]
[null,255,"09","03","01","03",null,"Hedef Makineleri",null,"255 09 03 01 03 = Hedef Makineleri"]
[null,255,"09","03","01","04",null,"Trap Makineleri",null,"255 09 03 01 04 = Trap Makineleri"]
[null,255,"09","03","01","05",null,"Hedef Taşıyıcı Makineleri",null,"255 09 03 01 05 = Hedef Taşıyıcı Makineleri"]
[null,255,"09","03","01","06",null,"Tüfek Ağırlığı Ölçme Aletleri",null,"255 09 03 01 06 = Tüfek Ağırlığı Ölçme Aletleri"]
[null,255,"09","03","01","07",null,"Atış Zamanlama Cihazları",null,"255 09 03 01 07 = Atış Zamanlama Cihazları"]
[null,255,"09","03","01","08",null,"Tüfek Yatış Kontrol Aletleri",null,"255 09 03 01 08 = Tüfek Yatış Kontrol Aletleri"]
[null,255,"09","03","01","09",null,"Diğer Atıcılık Malzemeleri",null,"255 09 03 01 09 = Diğer Atıcılık Malzemeleri"]
[null,255,"09","03","02",null,null,"Atletizm Cihaz ve Aletleri",null,"255 09 03 02  = Atletizm Cihaz ve Aletleri"]
[null,255,"09","03","02","01",null,"Ciritler",null,"255 09 03 02 01 = Ciritler"]
[null,255,"09","03","02","02",null,"Çıtalar",null,"255 09 03 02 02 = Çıtalar"]
[null,255,"09","03","02","03",null,"Sırıklar",null,"255 09 03 02 03 = Sırıklar"]
[null,255,"09","03","02","04",null,"Çekiçler",null,"255 09 03 02 04 = Çekiçler"]
[null,255,"09","03","02","05",null,"Gülleler",null,"255 09 03 02 05 = Gülleler"]
[null,255,"09","03","02","06",null,"Diskler",null,"255 09 03 02 06 = Diskler"]
[null,255,"09","03","02","07",null,"Labutlar",null,"255 09 03 02 07 = Labutlar"]
[null,255,"09","03","02","08",null,"Çemberler",null,"255 09 03 02 08 = Çemberler"]
[null,255,"09","03","02","09",null,"Minderler",null,"255 09 03 02 09 = Minderler"]
[null,255,"09","03","02","11",null,"Paralel Barlar",null,"255 09 03 02 11 = Paralel Barlar"]
[null,255,"09","03","02","13",null,"Tramplenler",null,"255 09 03 02 13 = Tramplenler"]
[null,255,"09","03","02","14",null,"Trambolinler",null,"255 09 03 02 14 = Trambolinler"]
[null,255,"09","03","02","15",null,"Atlama ve Kulplu Beygirleri",null,"255 09 03 02 15 = Atlama ve Kulplu Beygirleri"]
[null,255,"09","03","02","16",null,"Jimnastik Kasaları",null,"255 09 03 02 16 = Jimnastik Kasaları"]
[null,255,"09","03","02","17",null,"Müsabaka Çıkış Takozları",null,"255 09 03 02 17 = Müsabaka Çıkış Takozları"]
[null,255,"09","03","02","18",null,"Sırık Ölçme Aletleri",null,"255 09 03 02 18 = Sırık Ölçme Aletleri"]
[null,255,"09","03","02","19",null,"Foto Finish Cihazları",null,"255 09 03 02 19 = Foto Finish Cihazları"]
[null,255,"09","03","02","20",null,"Rüzgar Ölçme Aletleri",null,"255 09 03 02 20 = Rüzgar Ölçme Aletleri"]
[null,255,"09","03","02","21",null,"Ayarlı Engeller",null,"255 09 03 02 21 = Ayarlı Engeller"]
[null,255,"09","03","02","22",null,"Diğer Atletizm Cihaz ve Aletleri",null,"255 09 03 02 22 = Diğer Atletizm Cihaz ve Aletleri"]
[null,255,"09","03","03",null,null,"Tenis",null,"255 09 03 03  = Tenis"]
[null,255,"09","03","04",null,null,"Futbol",null,"255 09 03 04  = Futbol"]
[null,255,"09","03","99",null,null,"Saha Sporlarında Kullanılan Diğer Demirbaşlar",null,"255 09 03 99  = Saha Sporlarında Kullanılan Diğer Demirbaşlar"]
[null,255,"09","99",null,null,null,"Diğer Spor Amaçlı Kullanılan Demirbaşlar",null,"255 09 99   = Diğer Spor Amaçlı Kullanılan Demirbaşlar"]
[null,255,"09","99","01",null,null,"Spor Ölçüm Cihazları",null,"255 09 99 01  = Spor Ölçüm Cihazları"]
[null,255,"09","99","01","01",null,"Kalorimetreler",null,"255 09 99 01 01 = Kalorimetreler"]
[null,255,"09","99","01","02",null,"Kronometreler",null,"255 09 99 01 02 = Kronometreler"]
[null,255,"09","99","01","03",null,"Pedometre/Kalorimetreler",null,"255 09 99 01 03 = Pedometre/Kalorimetreler"]
[null,255,"09","99","01","04",null,"Nabız Ölçme Aletleri",null,"255 09 99 01 04 = Nabız Ölçme Aletleri"]
[null,255,"09","99","01","99",null,"Diğer Spor Ölçüm Cİhazları",null,"255 09 99 01 99 = Diğer Spor Ölçüm Cİhazları"]
[null,255,"09","99","02",null,null,"Çeşitli Spor Ekipmanları",null,"255 09 99 02  = Çeşitli Spor Ekipmanları"]
[null,255,"09","99","03",null,null,"Oyun Takımları",null,"255 09 99 03  = Oyun Takımları"]
[null,255,10,null,null,null,null,"Güvenlik, Kontrol ve Tedbir Amaçlı Demirbaşlar Grubu",null,"255 10    = Güvenlik, Kontrol ve Tedbir Amaçlı Demirbaşlar Grubu"]
[null,255,10,"01",null,null,null,"Güvenlik ve Korunma Amaçlı Araçlar",null,"255 10 01   = Güvenlik ve Korunma Amaçlı Araçlar"]
[null,255,10,"01","01",null,null,"Silahlar",null,"255 10 01 01  = Silahlar"]
[null,255,10,"01","03",null,null,"Çelik Yelekler",null,"255 10 01 03  = Çelik Yelekler"]
[null,255,"10","01","99",null,null,"Güvenlik ve Korunma Amaçlı Diğer Araçlar",null,"255 10 01 99  = Güvenlik ve Korunma Amaçlı Diğer Araçlar"]
[null,255,10,"02",null,null,null,"Kontrol ve Güvenlik Sistemleri",null,"255 10 02   = Kontrol ve Güvenlik Sistemleri"]
[null,255,10,"02","01",null,null,"Saatler",null,"255 10 02 01  = Saatler"]
[null,255,10,"02","01","01",null,"Kart Basma Saatleri",null,"255 10 02 01 01 = Kart Basma Saatleri"]
[null,255,10,"02","01","02",null,"Bekçi Kontrol Saatleri",null,"255 10 02 01 02 = Bekçi Kontrol Saatleri"]
[null,255,10,"02","01","03",null,"Evrak Takip Saatleri",null,"255 10 02 01 03 = Evrak Takip Saatleri"]
[null,255,10,"02","01","99",null,"Diğer Saatler",null,"255 10 02 01 99 = Diğer Saatler"]
[null,255,10,"02","02",null,null,"Geçiş Sistemleri",null,"255 10 02 02  = Geçiş Sistemleri"]
[null,255,10,"02","02","01",null,"Turnikeli Geçiş Sistemleri",null,"255 10 02 02 01 = Turnikeli Geçiş Sistemleri"]
[null,255,10,"02","02","02",null,"Kart Okuyucular",null,"255 10 02 02 02 = Kart Okuyucular"]
[null,255,10,"02","02","03",null,"Parmak İzi Sistemleri",null,"255 10 02 02 03 = Parmak İzi Sistemleri"]
[null,255,10,"02","02","04",null,"Trafik Bariyer ve Otopark Sistemleri",null,"255 10 02 02 04 = Trafik Bariyer ve Otopark Sistemleri"]
[null,255,10,"02","02","05",null,"Plastik Kart Baskı Sistemleri",null,"255 10 02 02 05 = Plastik Kart Baskı Sistemleri"]
[null,255,10,"02","02","99",null,"Diğer Geçiş Sistemleri",null,"255 10 02 02 99 = Diğer Geçiş Sistemleri"]
[null,255,10,"02","03",null,null,"Dedektörler ve Sensörler ",null,"255 10 02 03  = Dedektörler ve Sensörler "]
[null,255,10,"02","03","01",null,"Metal Kapı Dedektörleri",null,"255 10 02 03 01 = Metal Kapı Dedektörleri"]
[null,255,10,"02","03","02",null,"El Tipi Metal Dedektörleri",null,"255 10 02 03 02 = El Tipi Metal Dedektörleri"]
[null,255,10,"02","03","03",null,"Dış Alan Dedektörleri",null,"255 10 02 03 03 = Dış Alan Dedektörleri"]
[null,255,10,"02","03","04",null,"Manyetik Kapı Dedektörleri",null,"255 10 02 03 04 = Manyetik Kapı Dedektörleri"]
[null,255,10,"02","03","05",null,"Sıcaklık Dedektörleri",null,{"$f":"IF(ISTEXT(H3205),CONCATENATE(B3204,\" \",C3204,\" \",D3204,\" \",E3204,\" \",F3204,\" = \",H3204),\"\")","v":"255 10 02 03 05 = Sıcaklık Dedektörleri"}]
[null,255,10,"02","03","06",null,"Duman Dedektörleri",null,"255 10 02 03 06 = Duman Dedektörleri"]
[null,255,10,"02","03","07",null,"Gaz Dedektörleri",null,"255 10 02 03 07 = Gaz Dedektörleri"]
[null,255,10,"02","03","08",null,"Optik Dedektörler",null,"255 10 02 03 08 = Optik Dedektörler"]
[null,255,10,"02","03","09",null,"Yanıcı Gaz Algılayıcı Dedektörler",null,"255 10 02 03 09 = Yanıcı Gaz Algılayıcı Dedektörler"]
[null,255,10,"02","03","10",null,"Sahte Para Dedektörleri",null,"255 10 02 03 10 = Sahte Para Dedektörleri"]
[null,255,10,"02","03","11",null,"Araç Altı İnceleme Dedektörleri",null,"255 10 02 03 11 = Araç Altı İnceleme Dedektörleri"]
[null,255,10,"02","03","99",null,"Diğer Dedektörler ve Sensörler",null,"255 10 02 03 99 = Diğer Dedektörler ve Sensörler"]
[null,255,10,"02","04",null,null,"Hırsız Alarm Sistemleri",null,"255 10 02 04  = Hırsız Alarm Sistemleri"]
[null,255,10,"02","05",null,null,"Güvenlik Kamera Sistemleri",null,"255 10 02 05  = Güvenlik Kamera Sistemleri"]
[null,255,10,"02","05","01",null,"Dijital Kayıt Sistemleri",null,"255 10 02 05 01 = Dijital Kayıt Sistemleri"]
[null,255,10,"02","05","02",null,"Görüntü/Ses Alıcılar",null,"255 10 02 05 02 = Görüntü/Ses Alıcılar"]
[null,255,10,"02","05","03",null,"Görüntü/Ses Göndericiler",null,"255 10 02 05 03 = Görüntü/Ses Göndericiler"]
[null,255,10,"02","05","04",null,"Görüntü Monitörleri",null,"255 10 02 05 04 = Görüntü Monitörleri"]
[null,255,10,"02","05","99",null,"Diğer Güvenlik Kamera Sistemleri",null,"255 10 02 05 99 = Diğer Güvenlik Kamera Sistemleri"]
[null,255,10,"02","06",null,null,"Uzaktan Kumanda Sistemleri",null,"255 10 02 06  = Uzaktan Kumanda Sistemleri"]
[null,255,10,"02","07",null,null,"Erişim Kontrol Sistemleri",null,"255 10 02 07  = Erişim Kontrol Sistemleri"]
[null,255,"10","02","99",null,null,"Diğer Kontrol ve Güvenlik Sistemleri",null,"255 10 02 99  = Diğer Kontrol ve Güvenlik Sistemleri"]
[null,255,10,"03",null,null,null,"Yangın Söndürme ve Tedbir Cihaz ve Araçları",null,"255 10 03   = Yangın Söndürme ve Tedbir Cihaz ve Araçları"]
[null,255,10,"03","01",null,null,"Yangın Söndürmede Kullanılan Cihazlar",null,"255 10 03 01  = Yangın Söndürmede Kullanılan Cihazlar"]
[null,255,10,"03","01","01",null,"Yangın Söndürme Cihazları",null,"255 10 03 01 01 = Yangın Söndürme Cihazları"]
[null,255,10,"03","01","02",null,"Yangın İkaz Cihazları",null,"255 10 03 01 02 = Yangın İkaz Cihazları"]
[null,255,10,"03","01","03",null,"Yangın Söndürme Sistemleri",null,"255 10 03 01 03 = Yangın Söndürme Sistemleri"]
[null,255,10,"03","01","99",null,"Yangın Söndürmede Kullanılan Diğer Cihazlar",null,"255 10 03 01 99 = Yangın Söndürmede Kullanılan Diğer Cihazlar"]
[null,255,10,"03","02",null,null,"Yangın Söndürmede Kullanılan Araçlar",null,"255 10 03 02  = Yangın Söndürmede Kullanılan Araçlar"]
[null,255,10,"03","02","01",null,"Yaygın Dolapları",null,"255 10 03 02 01 = Yaygın Dolapları"]
[null,255,10,"03","02","02",null,"Uyarıcı Levhalar",null,"255 10 03 02 02 = Uyarıcı Levhalar"]
[null,255,10,"03","02","99",null,"Yangın Söndürmede Kullanılan Diğer Araçlar",null,"255 10 03 02 99 = Yangın Söndürmede Kullanılan Diğer Araçlar"]
[null,255,"10","03","99",null,null,"Diğer Yangın Söndürme ve Tedbir Cihaz ve Araçları",null,"255 10 03 99  = Diğer Yangın Söndürme ve Tedbir Cihaz ve Araçları"]
[null,255,11,null,null,null,null,"Demirbaş Niteliğindeki Süs Eşyaları ",null,"255 11    = Demirbaş Niteliğindeki Süs Eşyaları "]
[null,255,11,"01",null,null,null,"Vitrinde Sergilenen Eşyaları",null,"255 11 01   = Vitrinde Sergilenen Eşyaları"]
[null,255,11,"01","01",null,null,"Yemek Takımları",null,"255 11 01 01  = Yemek Takımları"]
[null,255,11,"01","02",null,null,"Kupalar",null,{"$f":"IF(ISTEXT(H3237),CONCATENATE(B3236,\" \",C3236,\" \",D3236,\" \",E3236,\" \",F3236,\" = \",H3236),\"\")","v":"255 11 01 02  = Kupalar"}]
[null,255,11,"01","03",null,null,"Madalyalar",null,"255 11 01 03  = Madalyalar"]
[null,255,11,"01","04",null,null,"Plaketler",null,"255 11 01 04  = Plaketler"]
[null,255,11,"01","99",null,null,"Vitrinde Sergilenen Diğer Eşyalar",null,"255 11 01 99  = Vitrinde Sergilenen Diğer Eşyalar"]
[null,255,11,"02",null,null,null,"Duvarda Sergilenen Süs Eşyaları",null,"255 11 02   = Duvarda Sergilenen Süs Eşyaları"]
[null,255,11,"02","01",null,null,"Panolar",null,"255 11 02 01  = Panolar"]
[null,255,11,"02","02",null,null,"Tablolar",null,"255 11 02 02  = Tablolar"]
[null,255,11,"02","03",null,null,"Saatler",null,"255 11 02 03  = Saatler"]
[null,255,"11","02","99",null,null,"Duvarda Sergilenen Diğer Süs Eşyaları",null,"255 11 02 99  = Duvarda Sergilenen Diğer Süs Eşyaları"]
[null,255,11,"03",null,null,null,"Masa, Sehpa ve Zeminde Sergilenen Süs Eşyaları",null,"255 11 03   = Masa, Sehpa ve Zeminde Sergilenen Süs Eşyaları"]
[null,255,11,"03","01",null,null,"Vazolar",null,"255 11 03 01  = Vazolar"]
[null,255,11,"03","02",null,null,"Yapay Çiçekler",null,"255 11 03 02  = Yapay Çiçekler"]
[null,255,"11","03","99",null,null,"Masa, Sehpa ve Zeminde Sergilenen Diğer Süs Eşyaları",null,"255 11 03 99  = Masa, Sehpa ve Zeminde Sergilenen Diğer Süs Eşyaları"]
[null,255,"12",null,null,null,null,"Kullanımda Olan Demirbaş Niteliğindeki Değerli Eşyalar",null,"255 12    = Kullanımda Olan Demirbaş Niteliğindeki Değerli Eşyalar"]
[null,255,"12","01",null,null,null,"Yemek, Servis ve Çatal-Bıçak Takımları",null,"255 12 01   = Yemek, Servis ve Çatal-Bıçak Takımları"]
[null,255,"12","02",null,null,null,"Büro Malzemeleri",null,"255 12 02   = Büro Malzemeleri"]
[null,255,"99",null,null,null,null,"Diğer Demirbaşlar Grubu",null,"255 99    = Diğer Demirbaşlar Grubu"]
[null,255,"99","01",null,null,null,"Seyyar Kulube, Kabin,  Büfe, Sandık ve Kafesler",null,"255 99 01   = Seyyar Kulube, Kabin,  Büfe, Sandık ve Kafesler"]
[null,255,"99","02",null,null,null,"Seyyar Tanklar ve Tüpler",null,"255 99 02   = Seyyar Tanklar ve Tüpler"]
[null,255,"99","03",null,null,null,"Sergileme ve Tanıtım Amaçlı Taşınırlar",null,""]
[null,null,null,null,null,null,null,null,null,""]
[null,null,null,null,null,null,null,null,null,""]
[null,null,null,null,null,null,null,null,null,""]
[null,null,null,null,null,null,null,null,null,""]
[null,null,null,null,null,null,null,null,null,""]
[null,null,null,null,null,null,null,null,null,""]
[null,null,null,null,null,null,null,null,null,""]
[null,null,null,null,null,null,null,null,null,""]

{"sheet":"Açıklamalar","index":18,"n_rows":30,"n_cols":5,"rows_kept":30,"cut":false,"hidden":false,"merged":[]}
[]
[]
[]
[]
[]
[]
[]
[]
[]
[]
[]
[]
[]
[]
[]
[]
[]
[]
[]
[null,null,"AÇIKLAMALAR",null,"NOT:  4734 Sayılı Kamu İhale Kanununun 22/d Maddesi gereğince yapılacak mal ve hizmet alımları ile yapım işlerinde kullanılmak üzere hazırlanmıştır."]
[]
[null,"1-","SATIN ALMADA GÖREV ALAN  PERSONEL BİLGİLERİNİ İLGİLİ YERE GİRİNİZ"]
[]
[null,"2- ","SATIN ALINACAK  MALZEME BİLGİLERİNİ VE GEREKLİ BİLGİLERİ GİRİNİZ"]
[]
[null,"3-"," ALMIŞ OLDUĞUNUZ TEKLİF MEKTUBU  VERİLERİNİ GİRİNİZ"]
[]
[null,"4-","ÖDEME EVRAKLARINI PROGRAM  OTAMATİK HAZIRLAMAKTADIR. SADECE  YAZDIR DİYEREK  ÇIKTISINI ALINIZ"]
[]
[null,"5-","SATIN ALMA İLE İLGİLİ İŞ EVRAKLAR  BİLGİ AMAÇLI HAZIRLANMIŞTIR.."]